Workbook

Sheet 1 2
H1: =เลขที่เอกสาร!A2 -> HS6710001
C2: เพจ ระบบบัญชีปั้มน้ำมัน
C3: สรุปยอดขายเงินสด - เงินเชื่อ
C4: 45566
B6: ชนิดน้ำมัน | C6: ยอดขายรวม | E6: ขายเงินเชื่อ ขายคูปอง | G6: ขายเงินสด
C7: ลิตร | D7: บาท | E7: ลิตร | F7: บาท | G7: ลิตร | H7: บาท
B8: GAS 95 | C8: =+ขายรวม!D3 -> 1534.07 | D8: =+ขายรวม!D12 -> 53970.1 | E8: =ขายรวม!D25 -> 61.997 | F8: =+ขายรวม!D34 -> 2181 | G8: =+C8-E8 -> 1472.073 | H8: =+D8-F8 -> 51789.1 | I8: =+D8/C8 -> 35.180989 | J8: =+F8/E8 -> 35.179122
B9: E20 | C9: =+ขายรวม!D4 -> 1046.15 | D9: =+ขายรวม!D13 -> 34597.3 | E9: =ขายรวม!D26 -> 0 | F9: =+ขายรวม!D35 -> 0 | G9: =+C9-E9 -> 1046.15 | H9: =+D9-F9 -> 34597.3 | I9: =+D9/C9 -> 33.07107 | J9: =+F9/E9 -> #DIV/0!
B10: GAS 91 | C10: =+ขายรวม!D5 -> 607.67 | D10: =+ขายรวม!D14 -> 21155.3 | E10: =ขายรวม!D27 -> 15 | F10: =+ขายรวม!D36 -> 522.2 | G10: =+C10-E10 -> 592.67 | H10: =+D10-F10 -> 20633.1 | I10: =+D10/C10 -> 34.813797 | J10: =+F10/E10 -> 34.813333
B11: DIESEL B7 | C11: =+ขายรวม!D6 -> 7915.28 | D11: =+ขายรวม!D15 -> 262552.9 | E11: =ขายรวม!D28 -> 2645.442 | F11: =+ขายรวม!D37 -> 87749.5 | G11: =+C11-E11 -> 5269.838 | H11: =+D11-F11 -> 174803.4 | I11: =+D11/C11 -> 33.170387 | J11: =+F11/E11 -> 33.170071
B12: P_DIESEL-B7 | C12: =+ขายรวม!D7 -> 92.98 | D12: =+ขายรวม!D16 -> 4200 | E12: =ขายรวม!D29 -> 0 | F12: =+ขายรวม!D38 -> 0 | G12: =+C12-E12 -> 92.98 | H12: =+D12-F12 -> 4200
B13: รวม | C13: =SUM(C8:C12) -> 11196.15 | D13: =SUM(D8:D12) -> 376475.6 | E13: =SUM(E8:E12) -> 2722.439 | F13: =SUM(F8:F12) -> 90452.7 | G13: =SUM(G8:G12) -> 8473.711 | H13: =SUM(H8:H12) -> 286022.9
C14: ภาษีขาย 7% | D14: =+ROUND((D13*7)/107,2) -> 24629.24
H16: =+เลขที่เอกสาร!B2 -> HS6710002
C17: เพจ ระบบบัญชีปั้มน้ำมัน
C18: สรุปยอดขายเงินสด - เงินเชื่อ
C19: =+C4+1 -> 45567
B21: ชนิดน้ำมัน | C21: ยอดขายรวม | E21: ขายเงินเชื่อ ขายคูปอง | G21: ขายเงินสด
C22: ลิตร | D22: บาท | E22: ลิตร | F22: บาท | G22: ลิตร | H22: บาท
B23: GAS 95 | C23: =+ขายรวม!E3 -> 1331.94 | D23: =+ขายรวม!E12 -> 46858.7 | E23: =ขายรวม!E25 -> 6 | F23: =+ขายรวม!$E$34 -> 211 | G23: =+C23-E23 -> 1325.94 | H23: =+D23-F23 -> 46647.7 | I23: =+D23/C23 -> 35.180789 | J23: =+F23/E23 -> 35.166667
B24: E20 | C24: =+ขายรวม!E4 -> 627.43 | D24: =+ขายรวม!E13 -> 20750.2 | E24: =ขายรวม!E26 -> 0 | F24: =+ขายรวม!$E$35 -> 0 | G24: =+C24-E24 -> 627.43 | H24: =+D24-F24 -> 20750.2 | I24: =+D24/C24 -> 33.071737 | J24: =+F24/E24 -> #DIV/0!
B25: GAS 91 | C25: =+ขายรวม!E5 -> 560.58 | D25: =+ขายรวม!E14 -> 19515.4 | E25: =ขายรวม!E27 -> 0 | F25: =+ขายรวม!$E$36 -> 0 | G25: =+C25-E25 -> 560.58 | H25: =+D25-F25 -> 19515.4 | I25: =+D25/C25 -> 34.812872 | J25: =+F25/E25 -> #DIV/0!
B26: DIESEL B7 | C26: =+ขายรวม!E6 -> 4042.15 | D26: =+ขายรวม!E15 -> 134081.1 | E26: =ขายรวม!E28 -> 153.001 | F26: =+ขายรวม!$E$37 -> 5075 | G26: =+C26-E26 -> 3889.149 | H26: =+D26-F26 -> 129006.1 | I26: =+D26/C26 -> 33.170738 | J26: =+F26/E26 -> 33.169718
B27: P_DIESEL-B7 | C27: =+ขายรวม!E7 -> 97.19 | D27: =+ขายรวม!E16 -> 4390.1 | E27: =ขายรวม!E29 -> 0 | F27: =+ขายรวม!$E$38 -> 0 | G27: =+C27-E27 -> 97.19 | H27: =+D27-F27 -> 4390.1
B28: รวม | C28: =SUM(C23:C27) -> 6659.29 | D28: =SUM(D23:D27) -> 225595.5 | E28: =SUM(E23:E27) -> 159.001 | F28: =SUM(F23:F27) -> 5286 | G28: =SUM(G23:G27) -> 6500.289 | H28: =SUM(H23:H27) -> 220309.5
C29: ภาษีขาย 7% | D29: =+ROUND((D28*7)/107,2) -> 14758.58

Sheet 3 4
H1: =+เลขที่เอกสาร!C2 -> HS6710003
C2: เพจ ระบบบัญชีปั้มน้ำมัน
C3: สรุปยอดขายเงินสด - เงินเชื่อ
C4: =+'1 2'!C19:G19+1 -> 45568
B5: 0
B6: ชนิดน้ำมัน | C6: ยอดขายรวม | E6: ขายเงินเชื่อ ขายคูปอง | G6: ขายเงินสด
C7: ลิตร | D7: บาท | E7: ลิตร | F7: บาท | G7: ลิตร | H7: บาท
B8: GAS 95 | C8: =+ขายรวม!F3 -> 1526.12 | D8: =+ขายรวม!F12 -> 53690.8 | E8: =ขายรวม!F25 -> 20 | F8: =+ขายรวม!$F$34 -> 703.6 | G8: =+C8-E8 -> 1506.12 | H8: =+D8-F8 -> 52987.2 | I8: =+D8/C8 -> 35.181244 | J8: =+F8/E8 -> 35.18
B9: E20 | C9: =+ขายรวม!F4 -> 700.47 | D9: =+ขายรวม!F13 -> 23165.1 | E9: =ขายรวม!F26 -> 0 | F9: =+ขายรวม!$F$35 -> 0 | G9: =+C9-E9 -> 700.47 | H9: =+D9-F9 -> 23165.1 | I9: =+D9/C9 -> 33.070795 | J9: =+F9/E9 -> #DIV/0!
B10: GAS 91 | C10: =+ขายรวม!F5 -> 471.64 | D10: =+ขายรวม!F14 -> 16419.1 | E10: =ขายรวม!F27 -> 0 | F10: =+ขายรวม!$F$36 -> 0 | G10: =+C10-E10 -> 471.64 | H10: =+D10-F10 -> 16419.1 | I10: =+D10/C10 -> 34.812781 | J10: =+F10/E10 -> #DIV/0!
B11: DIESEL B7 | C11: =+ขายรวม!F6 -> 5141.96 | D11: =+ขายรวม!F15 -> 170562.4 | E11: =ขายรวม!F28 -> 187.12 | F11: =+ขายรวม!$F$37 -> 6206.8 | G11: =+C11-E11 -> 4954.84 | H11: =+D11-F11 -> 164355.6 | I11: =+D11/C11 -> 33.170698 | J11: =+F11/E11 -> 33.170158
B12: P_DIESEL-B7 | C12: =+ขายรวม!F7 -> 309.5 | D12: =+ขายรวม!F16 -> 13980.2 | E12: =ขายรวม!F29 -> 0 | F12: =+ขายรวม!$F$38 -> 0 | G12: =+C12-E12 -> 309.5 | H12: =+D12-F12 -> 13980.2
B13: รวม | C13: =SUM(C8:C12) -> 8149.69 | D13: =SUM(D8:D12) -> 277817.6 | E13: =SUM(E8:E12) -> 207.12 | F13: =SUM(F8:F12) -> 6910.4 | G13: =SUM(G8:G12) -> 7942.57 | H13: =SUM(H8:H12) -> 270907.2
C14: ภาษีขาย 7% | D14: =+ROUND((D13*7)/107,2) -> 18174.98
H16: =+เลขที่เอกสาร!D2 -> HS6710004
C17: =+C2 -> เพจ ระบบบัญชีปั้มน้ำมัน
C18: =+C3 -> สรุปยอดขายเงินสด - เงินเชื่อ
C19: =+C4+1 -> 45569
B21: ชนิดน้ำมัน | C21: ยอดขายรวม | E21: ขายเงินเชื่อ ขายคูปอง | G21: ขายเงินสด
C22: ลิตร | D22: บาท | E22: ลิตร | F22: บาท | G22: ลิตร | H22: บาท
B23: GAS 95 | C23: =+ขายรวม!G3 -> 0 | D23: =+ขายรวม!G12 -> 0 | E23: =+ขายรวม!$G$25 -> 0 | F23: =+ขายรวม!$G$34 -> 0 | G23: =+C23-E23 -> 0 | H23: =+D23-F23 -> 0 | I23: =+D23/C23 -> #DIV/0! | J23: =+F23/E23 -> #DIV/0!
B24: E20 | C24: =+ขายรวม!G4 -> 0 | D24: =+ขายรวม!G13 -> 0 | E24: =+ขายรวม!$G$26 -> 0 | F24: =+ขายรวม!$G$35 -> 0 | G24: =+C24-E24 -> 0 | H24: =+D24-F24 -> 0 | I24: =+D24/C24 -> #DIV/0! | J24: =+F24/E24 -> #DIV/0!
B25: GAS 91 | C25: =+ขายรวม!G5 -> 0 | D25: =+ขายรวม!G14 -> 0 | E25: =+ขายรวม!$G$27 -> 0 | F25: =+ขายรวม!$G$36 -> 0 | G25: =+C25-E25 -> 0 | H25: =+D25-F25 -> 0 | I25: =+D25/C25 -> #DIV/0! | J25: =+F25/E25 -> #DIV/0!
B26: DIESEL B7 | C26: =+ขายรวม!G6 -> 0 | D26: =+ขายรวม!G15 -> 0 | E26: =+ขายรวม!$G$28 -> 0 | F26: =+ขายรวม!$G$37 -> 0 | G26: =+C26-E26 -> 0 | H26: =+D26-F26 -> 0 | I26: =+D26/C26 -> #DIV/0! | J26: =+F26/E26 -> #DIV/0!
B27: P_DIESEL-B7 | C27: =+ขายรวม!G7 -> 0 | D27: =+ขายรวม!G16 -> 0 | E27: =+ขายรวม!$G$29 -> 0 | F27: =+ขายรวม!$G$38 -> 0 | G27: =+C27-E27 -> 0 | H27: =+D27-F27 -> 0
B28: รวม | C28: =SUM(C23:C27) -> 0 | D28: =SUM(D23:D27) -> 0 | E28: =SUM(E23:E27) -> 0 | F28: =SUM(F23:F27) -> 0 | G28: =SUM(G23:G27) -> 0 | H28: =SUM(H23:H27) -> 0
C29: ภาษีขาย 7% | D29: =+ROUND((D28*7)/107,2) -> 0

Sheet 5 6
H1: =+เลขที่เอกสาร!E2 -> HS6710005
C2: เพจ ระบบบัญชีปั้มน้ำมัน
C3: สรุปยอดขายเงินสด - เงินเชื่อ
C4: =+'3 4'!C19:G19+1 -> 45570
B6: ชนิดน้ำมัน | C6: ยอดขายรวม | E6: ขายเงินเชื่อ ขายคูปอง | G6: ขายเงินสด
C7: ลิตร | D7: บาท | E7: ลิตร | F7: บาท | G7: ลิตร | H7: บาท
B8: GAS 95 | C8: =+ขายรวม!H3 -> 0 | D8: =+ขายรวม!H12 -> 0 | E8: =+ขายรวม!H25 -> 0 | F8: =+ขายรวม!H34 -> 0 | G8: =+C8-E8 -> 0 | H8: =+D8-F8 -> 0 | I8: =+D8/C8 -> #DIV/0! | J8: =+F8/E8 -> #DIV/0!
B9: E20 | C9: =+ขายรวม!H4 -> 0 | D9: =+ขายรวม!H13 -> 0 | E9: =+ขายรวม!H26 -> 0 | F9: =+ขายรวม!H35 -> 0 | G9: =+C9-E9 -> 0 | H9: =+D9-F9 -> 0 | I9: =+D9/C9 -> #DIV/0! | J9: =+F9/E9 -> #DIV/0!
B10: GAS 91 | C10: =+ขายรวม!H5 -> 0 | D10: =+ขายรวม!H14 -> 0 | E10: =+ขายรวม!H27 -> 0 | F10: =+ขายรวม!H36 -> 0 | G10: =+C10-E10 -> 0 | H10: =+D10-F10 -> 0 | I10: =+D10/C10 -> #DIV/0! | J10: =+F10/E10 -> #DIV/0!
B11: DIESEL B7 | C11: =+ขายรวม!H6 -> 0 | D11: =+ขายรวม!H15 -> 0 | E11: =+ขายรวม!H28 -> 0 | F11: =+ขายรวม!H37 -> 0 | G11: =+C11-E11 -> 0 | H11: =+D11-F11 -> 0 | I11: =+D11/C11 -> #DIV/0! | J11: =+F11/E11 -> #DIV/0!
B12: P_DIESEL-B7 | C12: =+ขายรวม!H7 -> 0 | D12: =+ขายรวม!H16 -> 0 | E12: =+ขายรวม!H29 -> 0 | F12: =+ขายรวม!H38 -> 0 | G12: =+C12-E12 -> 0 | H12: =+D12-F12 -> 0
B13: รวม | C13: =SUM(C8:C12) -> 0 | D13: =SUM(D8:D12) -> 0 | E13: =SUM(E8:E12) -> 0 | F13: =SUM(F8:F12) -> 0 | G13: =SUM(G8:G12) -> 0 | H13: =SUM(H8:H12) -> 0
C14: ภาษีขาย 7% | D14: =+ROUND((D13*7)/107,2) -> 0
H16: =+เลขที่เอกสาร!F2 -> HS6710006
C17: =+C2 -> เพจ ระบบบัญชีปั้มน้ำมัน
C18: =+C3 -> สรุปยอดขายเงินสด - เงินเชื่อ
C19: =+C4+1 -> 45571
B21: ชนิดน้ำมัน | C21: ยอดขายรวม | E21: ขายเงินเชื่อ ขายคูปอง | G21: ขายเงินสด
C22: ลิตร | D22: บาท | E22: ลิตร | F22: บาท | G22: ลิตร | H22: บาท
B23: GAS 95 | C23: =+ขายรวม!I3 -> 0 | D23: =+ขายรวม!I12 -> 0 | E23: =+ขายรวม!I25 -> 0 | F23: =+ขายรวม!I34 -> 0 | G23: =+C23-E23 -> 0 | H23: =+D23-F23 -> 0 | I23: =+D23/C23 -> #DIV/0! | J23: =+F23/E23 -> #DIV/0!
B24: E20 | C24: =+ขายรวม!I4 -> 0 | D24: =+ขายรวม!I13 -> 0 | E24: =+ขายรวม!I26 -> 0 | F24: =+ขายรวม!I35 -> 0 | G24: =+C24-E24 -> 0 | H24: =+D24-F24 -> 0 | I24: =+D24/C24 -> #DIV/0! | J24: =+F24/E24 -> #DIV/0!
B25: GAS 91 | C25: =+ขายรวม!I5 -> 0 | D25: =+ขายรวม!I14 -> 0 | E25: =+ขายรวม!I27 -> 0 | F25: =+ขายรวม!I36 -> 0 | G25: =+C25-E25 -> 0 | H25: =+D25-F25 -> 0 | I25: =+D25/C25 -> #DIV/0! | J25: =+F25/E25 -> #DIV/0!
B26: DIESEL B7 | C26: =+ขายรวม!I6 -> 0 | D26: =+ขายรวม!I15 -> 0 | E26: =+ขายรวม!I28 -> 0 | F26: =+ขายรวม!I37 -> 0 | G26: =+C26-E26 -> 0 | H26: =+D26-F26 -> 0 | I26: =+D26/C26 -> #DIV/0! | J26: =+F26/E26 -> #DIV/0!
B27: P_DIESEL-B7 | C27: =+ขายรวม!I7 -> 0 | D27: =+ขายรวม!I16 -> 0 | E27: =+ขายรวม!I29 -> 0 | F27: =+ขายรวม!I38 -> 0 | G27: =+C27-E27 -> 0 | H27: =+D27-F27 -> 0
B28: รวม | C28: =SUM(C23:C27) -> 0 | D28: =SUM(D23:D27) -> 0 | E28: =SUM(E23:E27) -> 0 | F28: =SUM(F23:F27) -> 0 | G28: =SUM(G23:G27) -> 0 | H28: =SUM(H23:H27) -> 0
C29: ภาษีขาย 7% | D29: =+ROUND((D28*7)/107,2) -> 0

Sheet 7 8
H1: =+เลขที่เอกสาร!G2 -> HS6710007
C2: เพจ ระบบบัญชีปั้มน้ำมัน
C3: สรุปยอดขายเงินสด - เงินเชื่อ
C4: =+'5 6'!C19:G19+1 -> 45572
B6: ชนิดน้ำมัน | C6: ยอดขายรวม | E6: ขายเงินเชื่อ ขายคูปอง | G6: ขายเงินสด
C7: ลิตร | D7: บาท | E7: ลิตร | F7: บาท | G7: ลิตร | H7: บาท
B8: GAS 95 | C8: =+ขายรวม!J3 -> 0 | D8: =+ขายรวม!J12 -> 0 | E8: =+ขายรวม!J25 -> 0 | F8: =+ขายรวม!J34 -> 0 | G8: =+C8-E8 -> 0 | H8: =+D8-F8 -> 0 | I8: =+D8/C8 -> #DIV/0! | J8: =+F8/E8 -> #DIV/0!
B9: E20 | C9: =+ขายรวม!J4 -> 0 | D9: =+ขายรวม!J13 -> 0 | E9: =+ขายรวม!J26 -> 0 | F9: =+ขายรวม!J35 -> 0 | G9: =+C9-E9 -> 0 | H9: =+D9-F9 -> 0 | I9: =+D9/C9 -> #DIV/0! | J9: =+F9/E9 -> #DIV/0!
B10: GAS 91 | C10: =+ขายรวม!J5 -> 0 | D10: =+ขายรวม!J14 -> 0 | E10: =+ขายรวม!J27 -> 0 | F10: =+ขายรวม!J36 -> 0 | G10: =+C10-E10 -> 0 | H10: =+D10-F10 -> 0 | I10: =+D10/C10 -> #DIV/0! | J10: =+F10/E10 -> #DIV/0!
B11: DIESEL B7 | C11: =+ขายรวม!J6 -> 0 | D11: =+ขายรวม!J15 -> 0 | E11: =+ขายรวม!J28 -> 0 | F11: =+ขายรวม!J37 -> 0 | G11: =+C11-E11 -> 0 | H11: =+D11-F11 -> 0 | I11: =+D11/C11 -> #DIV/0! | J11: =+F11/E11 -> #DIV/0!
B12: P_DIESEL-B7 | C12: =+ขายรวม!J7 -> 0 | D12: =+ขายรวม!J16 -> 0 | E12: =+ขายรวม!J29 -> 0 | F12: =+ขายรวม!J38 -> 0 | G12: =+C12-E12 -> 0 | H12: =+D12-F12 -> 0
B13: รวม | C13: =SUM(C8:C12) -> 0 | D13: =SUM(D8:D12) -> 0 | E13: =SUM(E8:E12) -> 0 | F13: =SUM(F8:F12) -> 0 | G13: =SUM(G8:G12) -> 0 | H13: =SUM(H8:H12) -> 0
C14: ภาษีขาย 7% | D14: =+ROUND((D13*7)/107,2) -> 0
H16: =+เลขที่เอกสาร!H2 -> HS6710008
C17: =+C2 -> เพจ ระบบบัญชีปั้มน้ำมัน
C18: =+C3 -> สรุปยอดขายเงินสด - เงินเชื่อ
C19: =+C4+1 -> 45573
B21: ชนิดน้ำมัน | C21: ยอดขายรวม | E21: ขายเงินเชื่อ ขายคูปอง | G21: ขายเงินสด
C22: ลิตร | D22: บาท | E22: ลิตร | F22: บาท | G22: ลิตร | H22: บาท
B23: GAS 95 | C23: =+ขายรวม!K3 -> 0 | D23: =+ขายรวม!K12 -> 0 | E23: =+ขายรวม!K25 -> 0 | F23: =+ขายรวม!K34 -> 0 | G23: =+C23-E23 -> 0 | H23: =+D23-F23 -> 0 | I23: =+D23/C23 -> #DIV/0! | J23: =+F23/E23 -> #DIV/0!
B24: E20 | C24: =+ขายรวม!K4 -> 0 | D24: =+ขายรวม!K13 -> 0 | E24: =+ขายรวม!K26 -> 0 | F24: =+ขายรวม!K35 -> 0 | G24: =+C24-E24 -> 0 | H24: =+D24-F24 -> 0 | I24: =+D24/C24 -> #DIV/0! | J24: =+F24/E24 -> #DIV/0!
B25: GAS 91 | C25: =+ขายรวม!K5 -> 0 | D25: =+ขายรวม!K14 -> 0 | E25: =+ขายรวม!K27 -> 0 | F25: =+ขายรวม!K36 -> 0 | G25: =+C25-E25 -> 0 | H25: =+D25-F25 -> 0 | I25: =+D25/C25 -> #DIV/0! | J25: =+F25/E25 -> #DIV/0!
B26: DIESEL B7 | C26: =+ขายรวม!K6 -> 0 | D26: =+ขายรวม!K15 -> 0 | E26: =+ขายรวม!K28 -> 0 | F26: =+ขายรวม!K37 -> 0 | G26: =+C26-E26 -> 0 | H26: =+D26-F26 -> 0 | I26: =+D26/C26 -> #DIV/0! | J26: =+F26/E26 -> #DIV/0!
B27: P_DIESEL-B7 | C27: =+ขายรวม!K7 -> 0 | D27: =+ขายรวม!K16 -> 0 | E27: =+ขายรวม!K29 -> 0 | F27: =+ขายรวม!K38 -> 0 | G27: =+C27-E27 -> 0 | H27: =+D27-F27 -> 0
B28: รวม | C28: =SUM(C23:C27) -> 0 | D28: =SUM(D23:D27) -> 0 | E28: =SUM(E23:E27) -> 0 | F28: =SUM(F23:F27) -> 0 | G28: =SUM(G23:G27) -> 0 | H28: =SUM(H23:H27) -> 0
C29: ภาษีขาย 7% | D29: =+ROUND((D28*7)/107,2) -> 0

Sheet 9 10
H1: =+เลขที่เอกสาร!I2 -> HS6710009
C2: เพจ ระบบบัญชีปั้มน้ำมัน
C3: สรุปยอดขายเงินสด - เงินเชื่อ
C4: =+'7 8'!C19:G19+1 -> 45574
B6: ชนิดน้ำมัน | C6: ยอดขายรวม | E6: ขายเงินเชื่อ ขายคูปอง | G6: ขายเงินสด
C7: ลิตร | D7: บาท | E7: ลิตร | F7: บาท | G7: ลิตร | H7: บาท
B8: GAS 95 | C8: =+ขายรวม!L3 -> 0 | D8: =+ขายรวม!L12 -> 0 | E8: =+ขายรวม!L25 -> 0 | F8: =+ขายรวม!L34 -> 0 | G8: =+C8-E8 -> 0 | H8: =+D8-F8 -> 0 | I8: =+D8/C8 -> #DIV/0! | J8: =+F8/E8 -> #DIV/0!
B9: E20 | C9: =+ขายรวม!L4 -> 0 | D9: =+ขายรวม!L13 -> 0 | E9: =+ขายรวม!L26 -> 0 | F9: =+ขายรวม!L35 -> 0 | G9: =+C9-E9 -> 0 | H9: =+D9-F9 -> 0 | I9: =+D9/C9 -> #DIV/0! | J9: =+F9/E9 -> #DIV/0!
B10: GAS 91 | C10: =+ขายรวม!L5 -> 0 | D10: =+ขายรวม!L14 -> 0 | E10: =+ขายรวม!L27 -> 0 | F10: =+ขายรวม!L36 -> 0 | G10: =+C10-E10 -> 0 | H10: =+D10-F10 -> 0 | I10: =+D10/C10 -> #DIV/0! | J10: =+F10/E10 -> #DIV/0!
B11: DIESEL B7 | C11: =+ขายรวม!L6 -> 0 | D11: =+ขายรวม!L15 -> 0 | E11: =+ขายรวม!L28 -> 0 | F11: =+ขายรวม!L37 -> 0 | G11: =+C11-E11 -> 0 | H11: =+D11-F11 -> 0 | I11: =+D11/C11 -> #DIV/0! | J11: =+F11/E11 -> #DIV/0!
B12: P_DIESEL-B7 | C12: =+ขายรวม!L7 -> 0 | D12: =+ขายรวม!L16 -> 0 | E12: =+ขายรวม!L29 -> 0 | F12: =+ขายรวม!L38 -> 0 | G12: =+C12-E12 -> 0 | H12: =+D12-F12 -> 0
B13: รวม | C13: =SUM(C8:C12) -> 0 | D13: =SUM(D8:D12) -> 0 | E13: =SUM(E8:E12) -> 0 | F13: =SUM(F8:F12) -> 0 | G13: =SUM(G8:G12) -> 0 | H13: =SUM(H8:H11) -> 0
C14: ภาษีขาย 7% | D14: =+ROUND((D13*7)/107,2) -> 0
H16: =+เลขที่เอกสาร!J2 -> HS6710010
C17: =+C2 -> เพจ ระบบบัญชีปั้มน้ำมัน
C18: =+C3 -> สรุปยอดขายเงินสด - เงินเชื่อ
C19: =+C4+1 -> 45575
B21: ชนิดน้ำมัน | C21: ยอดขายรวม | E21: ขายเงินเชื่อ ขายคูปอง | G21: ขายเงินสด
C22: ลิตร | D22: บาท | E22: ลิตร | F22: บาท | G22: ลิตร | H22: บาท
B23: GAS 95 | C23: =+ขายรวม!M3 -> 0 | D23: =+ขายรวม!M12 -> 0 | E23: =+ขายรวม!M25 -> 0 | F23: =+ขายรวม!M34 -> 0 | G23: =+C23-E23 -> 0 | H23: =+D23-F23 -> 0 | I23: =+D23/C23 -> #DIV/0! | J23: =+F23/E23 -> #DIV/0!
B24: E20 | C24: =+ขายรวม!M4 -> 0 | D24: =+ขายรวม!M13 -> 0 | E24: =+ขายรวม!M26 -> 0 | F24: =+ขายรวม!M35 -> 0 | G24: =+C24-E24 -> 0 | H24: =+D24-F24 -> 0 | I24: =+D24/C24 -> #DIV/0! | J24: =+F24/E24 -> #DIV/0!
B25: GAS 91 | C25: =+ขายรวม!M5 -> 0 | D25: =+ขายรวม!M14 -> 0 | E25: =+ขายรวม!M27 -> 0 | F25: =+ขายรวม!M36 -> 0 | G25: =+C25-E25 -> 0 | H25: =+D25-F25 -> 0 | I25: =+D25/C25 -> #DIV/0! | J25: =+F25/E25 -> #DIV/0!
B26: DIESEL B7 | C26: =+ขายรวม!M6 -> 0 | D26: =+ขายรวม!M15 -> 0 | E26: =+ขายรวม!M28 -> 0 | F26: =+ขายรวม!M37 -> 0 | G26: =+C26-E26 -> 0 | H26: =+D26-F26 -> 0 | I26: =+D26/C26 -> #DIV/0! | J26: =+F26/E26 -> #DIV/0!
B27: P_DIESEL-B7 | C27: =+ขายรวม!M7 -> 0 | D27: =+ขายรวม!M16 -> 0 | E27: =+ขายรวม!M29 -> 0 | F27: =+ขายรวม!M38 -> 0 | G27: =+C27-E27 -> 0 | H27: =+D27-F27 -> 0
B28: รวม | C28: =SUM(C23:C27) -> 0 | D28: =SUM(D23:D27) -> 0 | E28: =SUM(E23:E27) -> 0 | F28: =SUM(F23:F27) -> 0 | G28: =SUM(G23:G27) -> 0 | H28: =SUM(H23:H26) -> 0
C29: ภาษีขาย 7% | D29: =+ROUND((D28*7)/107,2) -> 0

Sheet 11 12
H1: =+เลขที่เอกสาร!K2 -> HS6710011
C2: เพจ ระบบบัญชีปั้มน้ำมัน
C3: สรุปยอดขายเงินสด - เงินเชื่อ
C4: =+'9 10'!C19:G19+1 -> 45576
B6: ชนิดน้ำมัน | C6: ยอดขายรวม | E6: ขายเงินเชื่อ ขายคูปอง | G6: ขายเงินสด
C7: ลิตร | D7: บาท | E7: ลิตร | F7: บาท | G7: ลิตร | H7: บาท
B8: GAS 95 | C8: =+ขายรวม!N3 -> 0 | D8: =+ขายรวม!N12 -> 0 | E8: =+ขายรวม!N25 -> 0 | F8: =+ขายรวม!N34 -> 0 | G8: =+C8-E8 -> 0 | H8: =+D8-F8 -> 0 | I8: =+D8/C8 -> #DIV/0! | J8: =+F8/E8 -> #DIV/0!
B9: E20 | C9: =+ขายรวม!N4 -> 0 | D9: =+ขายรวม!N13 -> 0 | E9: =+ขายรวม!N26 -> 0 | F9: =+ขายรวม!N35 -> 0 | G9: =+C9-E9 -> 0 | H9: =+D9-F9 -> 0 | I9: =+D9/C9 -> #DIV/0! | J9: =+F9/E9 -> #DIV/0!
B10: GAS 91 | C10: =+ขายรวม!N5 -> 0 | D10: =+ขายรวม!N14 -> 0 | E10: =+ขายรวม!N27 -> 0 | F10: =+ขายรวม!N36 -> 0 | G10: =+C10-E10 -> 0 | H10: =+D10-F10 -> 0 | I10: =+D10/C10 -> #DIV/0! | J10: =+F10/E10 -> #DIV/0!
B11: DIESEL B7 | C11: =+ขายรวม!N6 -> 0 | D11: =+ขายรวม!N15 -> 0 | E11: =+ขายรวม!N28 -> 0 | F11: =+ขายรวม!N37 -> 0 | G11: =+C11-E11 -> 0 | H11: =+D11-F11 -> 0 | I11: =+D11/C11 -> #DIV/0! | J11: =+F11/E11 -> #DIV/0!
B12: P_DIESEL-B7 | C12: =+ขายรวม!N7 -> 0 | D12: =+ขายรวม!N16 -> 0 | E12: =+ขายรวม!N29 -> 0 | F12: =+ขายรวม!N38 -> 0 | G12: =+C12-E12 -> 0 | H12: =+D12-F12 -> 0
B13: รวม | C13: =SUM(C8:C12) -> 0 | D13: =SUM(D8:D12) -> 0 | E13: =SUM(E8:E12) -> 0 | F13: =SUM(F8:F12) -> 0 | G13: =SUM(G8:G12) -> 0 | H13: =SUM(H8:H11) -> 0
C14: ภาษีขาย 7% | D14: =+#REF!*0.0654205607476635 -> #REF!
H16: =+เลขที่เอกสาร!L2 -> HS6710012
C17: =+C2 -> เพจ ระบบบัญชีปั้มน้ำมัน
C18: =+C3 -> สรุปยอดขายเงินสด - เงินเชื่อ
C19: =+C4+1 -> 45577
B21: ชนิดน้ำมัน | C21: ยอดขายรวม | E21: ขายเงินเชื่อ ขายคูปอง | G21: ขายเงินสด
C22: ลิตร | D22: บาท | E22: ลิตร | F22: บาท | G22: ลิตร | H22: บาท
B23: GAS 95 | C23: =+ขายรวม!O3 -> 0 | D23: =+ขายรวม!O12 -> 0 | E23: =+ขายรวม!O25 -> 0 | F23: =+ขายรวม!O34 -> 0 | G23: =+C23-E23 -> 0 | H23: =+D23-F23 -> 0 | I23: =+D23/C23 -> #DIV/0! | J23: =+F23/E23 -> #DIV/0!
B24: E20 | C24: =+ขายรวม!O4 -> 0 | D24: =+ขายรวม!O13 -> 0 | E24: =+ขายรวม!O26 -> 0 | F24: =+ขายรวม!O35 -> 0 | G24: =+C24-E24 -> 0 | H24: =+D24-F24 -> 0 | I24: =+D24/C24 -> #DIV/0! | J24: =+F24/E24 -> #DIV/0!
B25: GAS 91 | C25: =+ขายรวม!O5 -> 0 | D25: =+ขายรวม!O14 -> 0 | E25: =+ขายรวม!O27 -> 0 | F25: =+ขายรวม!O36 -> 0 | G25: =+C25-E25 -> 0 | H25: =+D25-F25 -> 0 | I25: =+D25/C25 -> #DIV/0! | J25: =+F25/E25 -> #DIV/0!
B26: DIESEL B7 | C26: =+ขายรวม!O6 -> 0 | D26: =+ขายรวม!O15 -> 0 | E26: =+ขายรวม!O28 -> 0 | F26: =+ขายรวม!O37 -> 0 | G26: =+C26-E26 -> 0 | H26: =+D26-F26 -> 0 | I26: =+D26/C26 -> #DIV/0! | J26: =+F26/E26 -> #DIV/0!
B27: P_DIESEL-B7 | C27: =+ขายรวม!O7 -> 0 | D27: =+ขายรวม!O16 -> 0 | E27: =+ขายรวม!O29 -> 0 | F27: =+ขายรวม!O38 -> 0 | G27: =+C27-E27 -> 0 | H27: =+D27-F27 -> 0
B28: รวม | C28: =SUM(C24:C27) -> 0 | D28: =SUM(D24:D27) -> 0 | E28: =SUM(E24:E27) -> 0 | F28: =SUM(F24:F27) -> 0 | G28: =SUM(G24:G27) -> 0 | H28: =SUM(H24:H27) -> 0
C29: ภาษีขาย 7% | D29: =+#REF!*0.0654205607476635 -> #REF!

Sheet 13 14
H1: =+เลขที่เอกสาร!M2 -> HS6710013
C2: เพจ ระบบบัญชีปั้มน้ำมัน
C3: สรุปยอดขายเงินสด - เงินเชื่อ
C4: =+'11 12'!C19:G19+1 -> 45578
B6: ชนิดน้ำมัน | C6: ยอดขายรวม | E6: ขายเงินเชื่อ ขายคูปอง | G6: ขายเงินสด
C7: ลิตร | D7: บาท | E7: ลิตร | F7: บาท | G7: ลิตร | H7: บาท
B8: GAS 95 | C8: =+ขายรวม!P3 -> 0 | D8: =+ขายรวม!P12 -> 0 | E8: =+ขายรวม!P25 -> 0 | F8: =+ขายรวม!P34 -> 0 | G8: =+C8-E8 -> 0 | H8: =+D8-F8 -> 0 | I8: =+D8/C8 -> #DIV/0! | J8: =+F8/E8 -> #DIV/0!
B9: E20 | C9: =+ขายรวม!P4 -> 0 | D9: =+ขายรวม!P13 -> 0 | E9: =+ขายรวม!P26 -> 0 | F9: =+ขายรวม!P35 -> 0 | G9: =+C9-E9 -> 0 | H9: =+D9-F9 -> 0 | I9: =+D9/C9 -> #DIV/0! | J9: =+F9/E9 -> #DIV/0!
B10: GAS 91 | C10: =+ขายรวม!P5 -> 0 | D10: =+ขายรวม!P14 -> 0 | E10: =+ขายรวม!P27 -> 0 | F10: =+ขายรวม!P36 -> 0 | G10: =+C10-E10 -> 0 | H10: =+D10-F10 -> 0 | I10: =+D10/C10 -> #DIV/0! | J10: =+F10/E10 -> #DIV/0!
B11: DIESEL B7 | C11: =+ขายรวม!P6 -> 0 | D11: =+ขายรวม!P15 -> 0 | E11: =+ขายรวม!P28 -> 0 | F11: =+ขายรวม!P37 -> 0 | G11: =+C11-E11 -> 0 | H11: =+D11-F11 -> 0 | I11: =+D11/C11 -> #DIV/0! | J11: =+F11/E11 -> #DIV/0!
B12: P_DIESEL-B7 | C12: =+ขายรวม!P7 -> 0 | D12: =+ขายรวม!P16 -> 0 | E12: =+ขายรวม!P29 -> 0 | F12: =+ขายรวม!P38 -> 0 | G12: =+C12-E12 -> 0 | H12: =+D12-F12 -> 0
B13: รวม | C13: =SUM(C8:C12) -> 0 | D13: =SUM(D8:D12) -> 0 | E13: =SUM(E8:E12) -> 0 | F13: =SUM(F8:F12) -> 0 | G13: =SUM(G8:G12) -> 0 | H13: =SUM(H8:H11) -> 0
C14: ภาษีขาย 7% | D14: =+#REF!*0.0654205607476635 -> #REF!
H16: =+เลขที่เอกสาร!N2 -> HS6710014
C17: =+C2 -> เพจ ระบบบัญชีปั้มน้ำมัน
C18: =+C3 -> สรุปยอดขายเงินสด - เงินเชื่อ
C19: =+C4+1 -> 45579
B21: ชนิดน้ำมัน | C21: ยอดขายรวม | E21: ขายเงินเชื่อ ขายคูปอง | G21: ขายเงินสด
C22: ลิตร | D22: บาท | E22: ลิตร | F22: บาท | G22: ลิตร | H22: บาท
B23: DIESEL-B7 | C23: =+ขายรวม!Q3 -> 0 | D23: =+ขายรวม!Q12 -> 0 | E23: =+ขายรวม!Q25 -> 0 | F23: =+ขายรวม!Q34 -> 0 | G23: =+C23-E23 -> 0 | H23: =+D23-F23 -> 0 | I23: =+D23/C23 -> #DIV/0! | J23: =+F23/E23 -> #DIV/0!
B24: GAS 95 | C24: =+ขายรวม!Q4 -> 0 | D24: =+ขายรวม!Q13 -> 0 | E24: =+ขายรวม!Q26 -> 0 | F24: =+ขายรวม!Q35 -> 0 | G24: =+C24-E24 -> 0 | H24: =+D24-F24 -> 0 | I24: =+D24/C24 -> #DIV/0! | J24: =+F24/E24 -> #DIV/0!
B25: E20 | C25: =+ขายรวม!Q5 -> 0 | D25: =+ขายรวม!Q14 -> 0 | E25: =+ขายรวม!Q27 -> 0 | F25: =+ขายรวม!Q36 -> 0 | G25: =+C25-E25 -> 0 | H25: =+D25-F25 -> 0 | I25: =+D25/C25 -> #DIV/0! | J25: =+F25/E25 -> #DIV/0!
B26: GAS 91 | C26: =+ขายรวม!Q6 -> 0 | D26: =+ขายรวม!Q15 -> 0 | E26: =+ขายรวม!Q28 -> 0 | F26: =+ขายรวม!Q37 -> 0 | G26: =+C26-E26 -> 0 | H26: =+D26-F26 -> 0 | I26: =+D26/C26 -> #DIV/0! | J26: =+F26/E26 -> #DIV/0!
B27: DIESEL B7 | C27: =+ขายรวม!Q7 -> 0 | D27: =+ขายรวม!Q16 -> 0 | E27: =+ขายรวม!Q29 -> 0 | F27: =+ขายรวม!Q38 -> 0 | G27: =+C27-E27 -> 0 | H27: =+D27-F27 -> 0
B28: รวม | C28: =SUM(C24:C27) -> 0 | D28: =SUM(D24:D27) -> 0 | E28: =SUM(E24:E27) -> 0 | F28: =SUM(F24:F27) -> 0 | G28: =SUM(G24:G27) -> 0 | H28: =SUM(H24:H27) -> 0
C29: ภาษีขาย 7% | D29: =+#REF!*0.0654205607476635 -> #REF!

Sheet 15 16
H1: =+เลขที่เอกสาร!O2 -> HS6710015
C2: เพจ ระบบบัญชีปั้มน้ำมัน
C3: สรุปยอดขายเงินสด - เงินเชื่อ
C4: =+'13 14'!C19:G19+1 -> 45580
B6: ชนิดน้ำมัน | C6: ยอดขายรวม | E6: ขายเงินเชื่อ ขายคูปอง | G6: ขายเงินสด
C7: ลิตร | D7: บาท | E7: ลิตร | F7: บาท | G7: ลิตร | H7: บาท
B8: GAS 95 | C8: =+ขายรวม!R3 -> 0 | D8: =+ขายรวม!R12 -> 0 | E8: =+ขายรวม!R25 -> 0 | F8: =+ขายรวม!R34 -> 0 | G8: =+C8-E8 -> 0 | H8: =+D8-F8 -> 0 | I8: =+D8/C8 -> #DIV/0! | J8: =+F8/E8 -> #DIV/0!
B9: E20 | C9: =+ขายรวม!R4 -> 0 | D9: =+ขายรวม!R13 -> 0 | E9: =+ขายรวม!R26 -> 0 | F9: =+ขายรวม!R35 -> 0 | G9: =+C9-E9 -> 0 | H9: =+D9-F9 -> 0 | I9: =+D9/C9 -> #DIV/0! | J9: =+F9/E9 -> #DIV/0!
B10: GAS 91 | C10: =+ขายรวม!R5 -> 0 | D10: =+ขายรวม!R14 -> 0 | E10: =+ขายรวม!R27 -> 0 | F10: =+ขายรวม!R36 -> 0 | G10: =+C10-E10 -> 0 | H10: =+D10-F10 -> 0 | I10: =+D10/C10 -> #DIV/0! | J10: =+F10/E10 -> #DIV/0!
B11: DIESEL B7 | C11: =+ขายรวม!R6 -> 0 | D11: =+ขายรวม!R15 -> 0 | E11: =+ขายรวม!R28 -> 0 | F11: =+ขายรวม!R37 -> 0 | G11: =+C11-E11 -> 0 | H11: =+D11-F11 -> 0 | I11: =+D11/C11 -> #DIV/0! | J11: =+F11/E11 -> #DIV/0!
B12: P_DIESEL-B7 | C12: =+ขายรวม!R7 -> 0 | D12: =+ขายรวม!R16 -> 0 | E12: =+ขายรวม!R29 -> 0 | F12: =+ขายรวม!R38 -> 0 | G12: =+C12-E12 -> 0 | H12: =+D12-F12 -> 0
B13: รวม | C13: =SUM(C8:C12) -> 0 | D13: =SUM(D8:D12) -> 0 | E13: =SUM(E8:E12) -> 0 | F13: =SUM(F8:F12) -> 0 | G13: =SUM(G8:G12) -> 0 | H13: =SUM(H8:H11) -> 0
C14: ภาษีขาย 7% | D14: =+#REF!*0.0654205607476635 -> #REF!
H16: =+เลขที่เอกสาร!P2 -> HS6710016
C17: =+C2 -> เพจ ระบบบัญชีปั้มน้ำมัน
C18: =+C3 -> สรุปยอดขายเงินสด - เงินเชื่อ
C19: =+C4+1 -> 45581
B21: ชนิดน้ำมัน | C21: ยอดขายรวม | E21: ขายเงินเชื่อ ขายคูปอง | G21: ขายเงินสด
C22: ลิตร | D22: บาท | E22: ลิตร | F22: บาท | G22: ลิตร | H22: บาท
B23: DIESEL-B7 | C23: =+ขายรวม!S3 -> 0 | D23: =+ขายรวม!S12 -> 0 | E23: =+ขายรวม!S25 -> 0 | F23: =+ขายรวม!S34 -> 0 | G23: =+C23-E23 -> 0 | H23: =+D23-F23 -> 0 | I23: =+D23/C23 -> #DIV/0! | J23: =+F23/E23 -> #DIV/0!
B24: GAS 95 | C24: =+ขายรวม!S4 -> 0 | D24: =+ขายรวม!S13 -> 0 | E24: =+ขายรวม!S26 -> 0 | F24: =+ขายรวม!S35 -> 0 | G24: =+C24-E24 -> 0 | H24: =+D24-F24 -> 0 | I24: =+D24/C24 -> #DIV/0! | J24: =+F24/E24 -> #DIV/0!
B25: E20 | C25: =+ขายรวม!S5 -> 0 | D25: =+ขายรวม!S14 -> 0 | E25: =+ขายรวม!S27 -> 0 | F25: =+ขายรวม!S36 -> 0 | G25: =+C25-E25 -> 0 | H25: =+D25-F25 -> 0 | I25: =+D25/C25 -> #DIV/0! | J25: =+F25/E25 -> #DIV/0!
B26: GAS 91 | C26: =+ขายรวม!S6 -> 0 | D26: =+ขายรวม!S15 -> 0 | E26: =+ขายรวม!S28 -> 0 | F26: =+ขายรวม!S37 -> 0 | G26: =+C26-E26 -> 0 | H26: =+D26-F26 -> 0 | I26: =+D26/C26 -> #DIV/0! | J26: =+F26/E26 -> #DIV/0!
B27: DIESEL B7 | C27: =+ขายรวม!S7 -> 0 | D27: =+ขายรวม!S16 -> 0 | E27: =+ขายรวม!S29 -> 0 | F27: =+ขายรวม!S38 -> 0 | G27: =+C27-E27 -> 0 | H27: =+D27-F27 -> 0
B28: รวม | C28: =SUM(C24:C27) -> 0 | D28: =SUM(D24:D27) -> 0 | E28: =SUM(E24:E27) -> 0 | F28: =SUM(F24:F27) -> 0 | G28: =SUM(G24:G27) -> 0 | H28: =SUM(H24:H27) -> 0
C29: ภาษีขาย 7% | D29: =+#REF!*0.0654205607476635 -> #REF!

Sheet 17 18
H1: =+เลขที่เอกสาร!Q2 -> HS6710017
C2: เพจ ระบบบัญชีปั้มน้ำมัน
C3: สรุปยอดขายเงินสด - เงินเชื่อ
C4: =+'15 16'!C19:G19+1 -> 45582
B6: ชนิดน้ำมัน | C6: ยอดขายรวม | E6: ขายเงินเชื่อ ขายคูปอง | G6: ขายเงินสด
C7: ลิตร | D7: บาท | E7: ลิตร | F7: บาท | G7: ลิตร | H7: บาท
B8: GAS 95 | C8: =+ขายรวม!T3 -> 0 | D8: =+ขายรวม!T12 -> 0 | E8: =+ขายรวม!T25 -> 0 | F8: =+ขายรวม!T34 -> 0 | G8: =+C8-E8 -> 0 | H8: =+D8-F8 -> 0 | I8: =+D8/C8 -> #DIV/0! | J8: =+F8/E8 -> #DIV/0!
B9: E20 | C9: =+ขายรวม!T4 -> 0 | D9: =+ขายรวม!T13 -> 0 | E9: =+ขายรวม!T26 -> 0 | F9: =+ขายรวม!T35 -> 0 | G9: =+C9-E9 -> 0 | H9: =+D9-F9 -> 0 | I9: =+D9/C9 -> #DIV/0! | J9: =+F9/E9 -> #DIV/0!
B10: GAS 91 | C10: =+ขายรวม!T5 -> 0 | D10: =+ขายรวม!T14 -> 0 | E10: =+ขายรวม!T27 -> 0 | F10: =+ขายรวม!T36 -> 0 | G10: =+C10-E10 -> 0 | H10: =+D10-F10 -> 0 | I10: =+D10/C10 -> #DIV/0! | J10: =+F10/E10 -> #DIV/0!
B11: DIESEL B7 | C11: =+ขายรวม!T6 -> 0 | D11: =+ขายรวม!T15 -> 0 | E11: =+ขายรวม!T28 -> 0 | F11: =+ขายรวม!T37 -> 0 | G11: =+C11-E11 -> 0 | H11: =+D11-F11 -> 0 | I11: =+D11/C11 -> #DIV/0! | J11: =+F11/E11 -> #DIV/0!
B12: P_DIESEL-B7 | C12: =+ขายรวม!T7 -> 0 | D12: =+ขายรวม!T16 -> 0 | E12: =+ขายรวม!T29 -> 0 | F12: =+ขายรวม!T38 -> 0 | G12: =+C12-E12 -> 0 | H12: =+D12-F12 -> 0
B13: รวม | C13: =SUM(C8:C12) -> 0 | D13: =SUM(D8:D12) -> 0 | E13: =SUM(E8:E12) -> 0 | F13: =SUM(F8:F12) -> 0 | G13: =SUM(G8:G12) -> 0 | H13: =SUM(H8:H11) -> 0
C14: ภาษีขาย 7% | D14: =+#REF!*0.0654205607476635 -> #REF!
H16: =+เลขที่เอกสาร!R2 -> HS6710018
C17: =+C2 -> เพจ ระบบบัญชีปั้มน้ำมัน
C18: =+C3 -> สรุปยอดขายเงินสด - เงินเชื่อ
C19: =+C4+1 -> 45583
B21: ชนิดน้ำมัน | C21: ยอดขายรวม | E21: ขายเงินเชื่อ ขายคูปอง | G21: ขายเงินสด
C22: ลิตร | D22: บาท | E22: ลิตร | F22: บาท | G22: ลิตร | H22: บาท
B23: GAS 95 | C23: =+ขายรวม!U3 -> 0 | D23: =+ขายรวม!U12 -> 0 | E23: =+ขายรวม!U25 -> 0 | F23: =+ขายรวม!U34 -> 0 | G23: =+C23-E23 -> 0 | H23: =+D23-F23 -> 0 | I23: =+D23/C23 -> #DIV/0! | J23: =+F23/E23 -> #DIV/0!
B24: E20 | C24: =+ขายรวม!U4 -> 0 | D24: =+ขายรวม!U13 -> 0 | E24: =+ขายรวม!U26 -> 0 | F24: =+ขายรวม!U35 -> 0 | G24: =+C24-E24 -> 0 | H24: =+D24-F24 -> 0 | I24: =+D24/C24 -> #DIV/0! | J24: =+F24/E24 -> #DIV/0!
B25: GAS 91 | C25: =+ขายรวม!U5 -> 0 | D25: =+ขายรวม!U14 -> 0 | E25: =+ขายรวม!U27 -> 0 | F25: =+ขายรวม!U36 -> 0 | G25: =+C25-E25 -> 0 | H25: =+D25-F25 -> 0 | I25: =+D25/C25 -> #DIV/0! | J25: =+F25/E25 -> #DIV/0!
B26: DIESEL B7 | C26: =+ขายรวม!U6 -> 0 | D26: =+ขายรวม!U15 -> 0 | E26: =+ขายรวม!U28 -> 0 | F26: =+ขายรวม!U37 -> 0 | G26: =+C26-E26 -> 0 | H26: =+D26-F26 -> 0 | I26: =+D26/C26 -> #DIV/0! | J26: =+F26/E26 -> #DIV/0!
B27: P_DIESEL-B7 | C27: =+ขายรวม!U7 -> 0 | D27: =+ขายรวม!U16 -> 0 | E27: =+ขายรวม!U29 -> 0 | F27: =+ขายรวม!U38 -> 0 | G27: =+C27-E27 -> 0 | H27: =+D27-F27 -> 0
B28: รวม | C28: =SUM(C24:C27) -> 0 | D28: =SUM(D24:D27) -> 0 | E28: =SUM(E24:E27) -> 0 | F28: =SUM(F24:F27) -> 0 | G28: =SUM(G24:G27) -> 0 | H28: =SUM(H24:H27) -> 0
C29: ภาษีขาย 7% | D29: =+#REF!*0.0654205607476635 -> #REF!

Sheet 19 20
H1: =+เลขที่เอกสาร!S2 -> HS6710019
C2: เพจ ระบบบัญชีปั้มน้ำมัน
C3: สรุปยอดขายเงินสด - เงินเชื่อ
C4: =+'17 18'!C19:G19+1 -> 45584
B6: ชนิดน้ำมัน | C6: ยอดขายรวม | E6: ขายเงินเชื่อ ขายคูปอง | G6: ขายเงินสด
C7: ลิตร | D7: บาท | E7: ลิตร | F7: บาท | G7: ลิตร | H7: บาท
B8: GAS 95 | C8: =+ขายรวม!V3 -> 0 | D8: =+ขายรวม!V12 -> 0 | E8: =+ขายรวม!V25 -> 0 | F8: =+ขายรวม!V34 -> 0 | G8: =+C8-E8 -> 0 | H8: =+D8-F8 -> 0 | I8: =+D8/C8 -> #DIV/0! | J8: =+F8/E8 -> #DIV/0!
B9: E20 | C9: =+ขายรวม!V4 -> 0 | D9: =+ขายรวม!V13 -> 0 | E9: =+ขายรวม!V26 -> 0 | F9: =+ขายรวม!V35 -> 0 | G9: =+C9-E9 -> 0 | H9: =+D9-F9 -> 0 | I9: =+D9/C9 -> #DIV/0! | J9: =+F9/E9 -> #DIV/0!
B10: GAS 91 | C10: =+ขายรวม!V5 -> 0 | D10: =+ขายรวม!V14 -> 0 | E10: =+ขายรวม!V27 -> 0 | F10: =+ขายรวม!V36 -> 0 | G10: =+C10-E10 -> 0 | H10: =+D10-F10 -> 0 | I10: =+D10/C10 -> #DIV/0! | J10: =+F10/E10 -> #DIV/0!
B11: DIESEL B7 | C11: =+ขายรวม!V6 -> 0 | D11: =+ขายรวม!V15 -> 0 | E11: =+ขายรวม!V28 -> 0 | F11: =+ขายรวม!V37 -> 0 | G11: =+C11-E11 -> 0 | H11: =+D11-F11 -> 0 | I11: =+D11/C11 -> #DIV/0! | J11: =+F11/E11 -> #DIV/0!
B12: P_DIESEL-B7 | C12: =+ขายรวม!V7 -> 0 | D12: =+ขายรวม!V16 -> 0 | E12: =+ขายรวม!V29 -> 0 | F12: =+ขายรวม!V38 -> 0 | G12: =+C12-E12 -> 0 | H12: =+D12-F12 -> 0
B13: รวม | C13: =SUM(C8:C12) -> 0 | D13: =SUM(D8:D12) -> 0 | E13: =SUM(E8:E12) -> 0 | F13: =SUM(F8:F12) -> 0 | G13: =SUM(G8:G12) -> 0 | H13: =SUM(H8:H11) -> 0
C14: ภาษีขาย 7% | D14: =+#REF!*0.0654205607476635 -> #REF!
H16: =+เลขที่เอกสาร!T2 -> HS6710020
C17: =+C2 -> เพจ ระบบบัญชีปั้มน้ำมัน
C18: =+C3 -> สรุปยอดขายเงินสด - เงินเชื่อ
C19: =+C4+1 -> 45585
B21: ชนิดน้ำมัน | C21: ยอดขายรวม | E21: ขายเงินเชื่อ ขายคูปอง | G21: ขายเงินสด
C22: ลิตร | D22: บาท | E22: ลิตร | F22: บาท | G22: ลิตร | H22: บาท
B23: GAS 95 | C23: =+ขายรวม!W3 -> 0 | D23: =+ขายรวม!W12 -> 0 | E23: =+ขายรวม!W25 -> 0 | F23: =+ขายรวม!W34 -> 0 | G23: =+C23-E23 -> 0 | H23: =+D23-F23 -> 0 | I23: =+D23/C23 -> #DIV/0! | J23: =+F23/E23 -> #DIV/0!
B24: E20 | C24: =+ขายรวม!W4 -> 0 | D24: =+ขายรวม!W13 -> 0 | E24: =+ขายรวม!W26 -> 0 | F24: =+ขายรวม!W35 -> 0 | G24: =+C24-E24 -> 0 | H24: =+D24-F24 -> 0 | I24: =+D24/C24 -> #DIV/0! | J24: =+F24/E24 -> #DIV/0!
B25: GAS 91 | C25: =+ขายรวม!W5 -> 0 | D25: =+ขายรวม!W14 -> 0 | E25: =+ขายรวม!W27 -> 0 | F25: =+ขายรวม!W36 -> 0 | G25: =+C25-E25 -> 0 | H25: =+D25-F25 -> 0 | I25: =+D25/C25 -> #DIV/0! | J25: =+F25/E25 -> #DIV/0!
B26: DIESEL B7 | C26: =+ขายรวม!W6 -> 0 | D26: =+ขายรวม!W15 -> 0 | E26: =+ขายรวม!W28 -> 0 | F26: =+ขายรวม!W37 -> 0 | G26: =+C26-E26 -> 0 | H26: =+D26-F26 -> 0 | I26: =+D26/C26 -> #DIV/0! | J26: =+F26/E26 -> #DIV/0!
B27: P_DIESEL-B7 | C27: =+ขายรวม!W7 -> 0 | D27: =+ขายรวม!W16 -> 0 | E27: =+ขายรวม!W29 -> 0 | F27: =+ขายรวม!W38 -> 0 | G27: =+C27-E27 -> 0 | H27: =+D27-F27 -> 0
B28: รวม | C28: =SUM(C24:C27) -> 0 | D28: =SUM(D24:D27) -> 0 | E28: =SUM(E24:E27) -> 0 | F28: =SUM(F24:F27) -> 0 | G28: =SUM(G24:G27) -> 0 | H28: =SUM(H24:H27) -> 0
C29: ภาษีขาย 7% | D29: =+#REF!*0.0654205607476635 -> #REF!

Sheet 21 22
H1: =+เลขที่เอกสาร!U2 -> HS6710021
C2: เพจ ระบบบัญชีปั้มน้ำมัน
C3: สรุปยอดขายเงินสด - เงินเชื่อ
C4: =+'19 20'!C19:G19+1 -> 45586
B6: ชนิดน้ำมัน | C6: ยอดขายรวม | E6: ขายเงินเชื่อ ขายคูปอง | G6: ขายเงินสด
C7: ลิตร | D7: บาท | E7: ลิตร | F7: บาท | G7: ลิตร | H7: บาท
B8: GAS 95 | C8: =+ขายรวม!X3 -> 0 | D8: =+ขายรวม!X12 -> 0 | E8: =+ขายรวม!X25 -> 0 | F8: =+ขายรวม!X34 -> 0 | G8: =+C8-E8 -> 0 | H8: =+D8-F8 -> 0 | I8: =+D8/C8 -> #DIV/0! | J8: =+F8/E8 -> #DIV/0!
B9: E20 | C9: =+ขายรวม!X4 -> 0 | D9: =+ขายรวม!X13 -> 0 | E9: =+ขายรวม!X26 -> 0 | F9: =+ขายรวม!X35 -> 0 | G9: =+C9-E9 -> 0 | H9: =+D9-F9 -> 0 | I9: =+D9/C9 -> #DIV/0! | J9: =+F9/E9 -> #DIV/0!
B10: GAS 91 | C10: =+ขายรวม!X5 -> 0 | D10: =+ขายรวม!X14 -> 0 | E10: =+ขายรวม!X27 -> 0 | F10: =+ขายรวม!X36 -> 0 | G10: =+C10-E10 -> 0 | H10: =+D10-F10 -> 0 | I10: =+D10/C10 -> #DIV/0! | J10: =+F10/E10 -> #DIV/0!
B11: DIESEL B7 | C11: =+ขายรวม!X6 -> 0 | D11: =+ขายรวม!X15 -> 0 | E11: =+ขายรวม!X28 -> 0 | F11: =+ขายรวม!X37 -> 0 | G11: =+C11-E11 -> 0 | H11: =+D11-F11 -> 0 | I11: =+D11/C11 -> #DIV/0! | J11: =+F11/E11 -> #DIV/0!
B12: P_DIESEL-B7 | C12: =+ขายรวม!X7 -> 0 | D12: =+ขายรวม!X16 -> 0 | E12: =+ขายรวม!X29 -> 0 | G12: =+C12-E12 -> 0 | H12: =+D12-F12 -> 0
B13: รวม | C13: =SUM(C8:C12) -> 0 | D13: =SUM(D8:D12) -> 0 | E13: =SUM(E8:E12) -> 0 | F13: =SUM(F8:F12) -> 0 | G13: =SUM(G8:G12) -> 0 | H13: =SUM(H8:H11) -> 0
C14: ภาษีขาย 7% | D14: =+#REF!*0.0654205607476635 -> #REF!
C15: ภาษีขาย 7%
H16: =+เลขที่เอกสาร!V2 -> HS6710022
C17: เพจ ระบบบัญชีปั้มน้ำมัน
C18: =+C3 -> สรุปยอดขายเงินสด - เงินเชื่อ
C19: =+C4+1 -> 45587
B21: ชนิดน้ำมัน | C21: ยอดขายรวม | E21: ขายเงินเชื่อ ขายคูปอง | G21: ขายเงินสด
C22: ลิตร | D22: บาท | E22: ลิตร | F22: บาท | G22: ลิตร | H22: บาท
B23: GAS 95 | C23: =+ขายรวม!Y3 -> 0 | D23: =+ขายรวม!Y12 -> 0 | E23: =+ขายรวม!Y25 -> 0 | F23: =+ขายรวม!Y34 -> 0 | G23: =+C23-E23 -> 0 | H23: =+D23-F23 -> 0 | I23: =+D23/C23 -> #DIV/0! | J23: =+F23/E23 -> #DIV/0!
B24: E20 | C24: =+ขายรวม!Y4 -> 0 | D24: =+ขายรวม!Y13 -> 0 | E24: =+ขายรวม!Y26 -> 0 | F24: =+ขายรวม!Y35 -> 0 | G24: =+C24-E24 -> 0 | H24: =+D24-F24 -> 0 | I24: =+D24/C24 -> #DIV/0! | J24: =+F24/E24 -> #DIV/0!
B25: GAS 91 | C25: =+ขายรวม!Y5 -> 0 | D25: =+ขายรวม!Y14 -> 0 | E25: =+ขายรวม!Y27 -> 0 | F25: =+ขายรวม!Y36 -> 0 | G25: =+C25-E25 -> 0 | H25: =+D25-F25 -> 0 | I25: =+D25/C25 -> #DIV/0! | J25: =+F25/E25 -> #DIV/0!
B26: DIESEL B7 | C26: =+ขายรวม!Y6 -> 0 | D26: =+ขายรวม!Y15 -> 0 | E26: =+ขายรวม!Y28 -> 0 | F26: =+ขายรวม!Y37 -> 0 | G26: =+C26-E26 -> 0 | H26: =+D26-F26 -> 0 | I26: =+D26/C26 -> #DIV/0! | J26: =+F26/E26 -> #DIV/0!
B27: P_DIESEL-B7 | C27: =+ขายรวม!Y7 -> 0 | D27: =+ขายรวม!Y16 -> 0 | E27: =+ขายรวม!Y29 -> 0 | F27: =+ขายรวม!Y38 -> 0 | G27: =+C27-E27 -> 0 | H27: =+D27-F27 -> 0
B28: รวม | C28: =SUM(C24:C27) -> 0 | D28: =SUM(D24:D27) -> 0 | E28: =SUM(E24:E27) -> 0 | F28: =SUM(F24:F27) -> 0 | G28: =SUM(G24:G27) -> 0 | H28: =SUM(H24:H27) -> 0
C29: ภาษีขาย 7% | D29: =+#REF!*0.0654205607476635 -> #REF!

Sheet 23 24
H1: =+เลขที่เอกสาร!W2 -> HS6710023
C2: เพจ ระบบบัญชีปั้มน้ำมัน
C3: สรุปยอดขายเงินสด - เงินเชื่อ
C4: =+'21 22'!C19:G19+1 -> 45588
B6: ชนิดน้ำมัน | C6: ยอดขายรวม | E6: ขายเงินเชื่อ ขายคูปอง | G6: ขายเงินสด
C7: ลิตร | D7: บาท | E7: ลิตร | F7: บาท | G7: ลิตร | H7: บาท
B8: GAS 95 | C8: =+ขายรวม!Z3 -> 0 | D8: =+ขายรวม!Z12 -> 0 | E8: =+ขายรวม!Z25 -> 0 | F8: =+ขายรวม!Z34 -> 0 | G8: =+C8-E8 -> 0 | H8: =+D8-F8 -> 0 | I8: =+D8/C8 -> #DIV/0! | J8: =+F8/E8 -> #DIV/0!
B9: E20 | C9: =+ขายรวม!Z4 -> 0 | D9: =+ขายรวม!Z13 -> 0 | E9: =+ขายรวม!Z26 -> 0 | F9: =+ขายรวม!Z35 -> 0 | G9: =+C9-E9 -> 0 | H9: =+D9-F9 -> 0 | I9: =+D9/C9 -> #DIV/0! | J9: =+F9/E9 -> #DIV/0!
B10: GAS 91 | C10: =+ขายรวม!Z5 -> 0 | D10: =+ขายรวม!Z14 -> 0 | E10: =+ขายรวม!Z27 -> 0 | F10: =+ขายรวม!Z36 -> 0 | G10: =+C10-E10 -> 0 | H10: =+D10-F10 -> 0 | I10: =+D10/C10 -> #DIV/0! | J10: =+F10/E10 -> #DIV/0!
B11: DIESEL B7 | C11: =+ขายรวม!Z6 -> 0 | D11: =+ขายรวม!Z15 -> 0 | E11: =+ขายรวม!Z28 -> 0 | F11: =+ขายรวม!Z37 -> 0 | G11: =+C11-E11 -> 0 | H11: =+D11-F11 -> 0 | I11: =+D11/C11 -> #DIV/0! | J11: =+F11/E11 -> #DIV/0!
B12: P_DIESEL-B7 | C12: =+ขายรวม!Z7 -> 0 | D12: =+ขายรวม!Z16 -> 0 | E12: =+ขายรวม!Z29 -> 0 | F12: =+ขายรวม!Z38 -> 0 | G12: =+C12-E12 -> 0 | H12: =+D12-F12 -> 0
B13: รวม | C13: =SUM(C8:C12) -> 0 | D13: =SUM(D8:D12) -> 0 | E13: =SUM(E8:E12) -> 0 | F13: =SUM(F8:F12) -> 0 | G13: =SUM(G8:G12) -> 0 | H13: =SUM(H8:H11) -> 0
C14: ภาษีขาย 7% | D14: =+#REF!*0.0654205607476635 -> #REF!
H16: =+เลขที่เอกสาร!X2 -> HS6710024
C17: =+'21 22'!C17:G17 -> เพจ ระบบบัญชีปั้มน้ำมัน
C18: =+C3 -> สรุปยอดขายเงินสด - เงินเชื่อ
C19: =+C4+1 -> 45589
B21: ชนิดน้ำมัน | C21: ยอดขายรวม | E21: ขายเงินเชื่อ ขายคูปอง | G21: ขายเงินสด
C22: ลิตร | D22: บาท | E22: ลิตร | F22: บาท | G22: ลิตร | H22: บาท
B23: GAS 95 | C23: =+ขายรวม!AA3 -> 0 | D23: =+ขายรวม!AA12 -> 0 | E23: =+ขายรวม!AA25 -> 0 | F23: =+ขายรวม!AA34 -> 0 | G23: =+C23-E23 -> 0 | H23: =+D23-F23 -> 0 | I23: =+D23/C23 -> #DIV/0! | J23: =+F23/E23 -> #DIV/0!
B24: E20 | C24: =+ขายรวม!AA4 -> 0 | D24: =+ขายรวม!AA13 -> 0 | E24: =+ขายรวม!AA26 -> 0 | F24: =+ขายรวม!AA35 -> 0 | G24: =+C24-E24 -> 0 | H24: =+D24-F24 -> 0 | I24: =+D24/C24 -> #DIV/0! | J24: =+F24/E24 -> #DIV/0!
B25: GAS 91 | C25: =+ขายรวม!AA5 -> 0 | D25: =+ขายรวม!AA14 -> 0 | E25: =+ขายรวม!AA27 -> 0 | F25: =+ขายรวม!AA36 -> 0 | G25: =+C25-E25 -> 0 | H25: =+D25-F25 -> 0 | I25: =+D25/C25 -> #DIV/0! | J25: =+F25/E25 -> #DIV/0!
B26: DIESEL B7 | C26: =+ขายรวม!AA6 -> 0 | D26: =+ขายรวม!AA15 -> 0 | E26: =+ขายรวม!AA28 -> 0 | F26: =+ขายรวม!AA37 -> 0 | G26: =+C26-E26 -> 0 | H26: =+D26-F26 -> 0 | I26: =+D26/C26 -> #DIV/0! | J26: =+F26/E26 -> #DIV/0!
B27: P_DIESEL-B7 | C27: =+ขายรวม!AA7 -> 0 | D27: =+ขายรวม!AA16 -> 0 | E27: =+ขายรวม!AA29 -> 0 | F27: =+ขายรวม!AA38 -> 0 | G27: =+C27-E27 -> 0 | H27: =+D27-F27 -> 0
B28: รวม | C28: =SUM(C24:C27) -> 0 | D28: =SUM(D24:D27) -> 0 | E28: =SUM(E24:E27) -> 0 | F28: =SUM(F24:F27) -> 0 | G28: =SUM(G24:G27) -> 0 | H28: =SUM(H24:H27) -> 0
C29: ภาษีขาย 7% | D29: =+#REF!*0.0654205607476635 -> #REF!

Sheet 25 26
H1: =+เลขที่เอกสาร!Y2 -> HS6710025
C2: เพจ ระบบบัญชีปั้มน้ำมัน
C3: สรุปยอดขายเงินสด - เงินเชื่อ
C4: =+'23 24'!C19:G19+1 -> 45590
B6: ชนิดน้ำมัน | C6: ยอดขายรวม | E6: ขายเงินเชื่อ ขายคูปอง | G6: ขายเงินสด
C7: ลิตร | D7: บาท | E7: ลิตร | F7: บาท | G7: ลิตร | H7: บาท
B8: GAS 95 | C8: =+ขายรวม!AB3 -> 0 | D8: =+ขายรวม!AB12 -> 0 | E8: =+ขายรวม!AB25 -> 0 | F8: =+ขายรวม!AB34 -> 0 | G8: =+C8-E8 -> 0 | H8: =+D8-F8 -> 0 | I8: =+D8/C8 -> #DIV/0! | J8: =+F8/E8 -> #DIV/0!
B9: E20 | C9: =+ขายรวม!AB4 -> 0 | D9: =+ขายรวม!AB13 -> 0 | E9: =+ขายรวม!AB26 -> 0 | F9: =+ขายรวม!AB35 -> 0 | G9: =+C9-E9 -> 0 | H9: =+D9-F9 -> 0 | I9: =+D9/C9 -> #DIV/0! | J9: =+F9/E9 -> #DIV/0!
B10: GAS 91 | C10: =+ขายรวม!AB5 -> 0 | D10: =+ขายรวม!AB14 -> 0 | E10: =+ขายรวม!AB27 -> 0 | F10: =+ขายรวม!AB36 -> 0 | G10: =+C10-E10 -> 0 | H10: =+D10-F10 -> 0 | I10: =+D10/C10 -> #DIV/0! | J10: =+F10/E10 -> #DIV/0!
B11: DIESEL B7 | C11: =+ขายรวม!AB6 -> 0 | D11: =+ขายรวม!AB15 -> 0 | E11: =+ขายรวม!AB28 -> 0 | F11: =+ขายรวม!AB37 -> 0 | G11: =+C11-E11 -> 0 | H11: =+D11-F11 -> 0 | I11: =+D11/C11 -> #DIV/0! | J11: =+F11/E11 -> #DIV/0!
B12: P_DIESEL-B7 | C12: =+ขายรวม!AB7 -> 0 | D12: =+ขายรวม!AB16 -> 0 | E12: =+ขายรวม!AB29 -> 0 | F12: =+ขายรวม!AB38 -> 0 | G12: =+C12-E12 -> 0 | H12: =+D12-F12 -> 0
B13: รวม | C13: =SUM(C8:C12) -> 0 | D13: =SUM(D8:D12) -> 0 | E13: =SUM(E8:E12) -> 0 | F13: =SUM(F8:F12) -> 0 | G13: =SUM(G8:G12) -> 0 | H13: =SUM(H8:H11) -> 0
H16: =+เลขที่เอกสาร!Z2 -> HS6710026
C17: =+'23 24'!C2:G2 -> เพจ ระบบบัญชีปั้มน้ำมัน
C18: =+C3 -> สรุปยอดขายเงินสด - เงินเชื่อ
C19: =+C4+1 -> 45591
B21: ชนิดน้ำมัน | C21: ยอดขายรวม | E21: ขายเงินเชื่อ ขายคูปอง | G21: ขายเงินสด
C22: ลิตร | D22: บาท | E22: ลิตร | F22: บาท | G22: ลิตร | H22: บาท
B23: GAS 95 | C23: =+ขายรวม!AC3 -> 0 | D23: =+ขายรวม!AC12 -> 0 | E23: =+ขายรวม!AC25 -> 0 | F23: =+ขายรวม!AC34 -> 0 | G23: =+C23-E23 -> 0 | H23: =+D23-F23 -> 0 | I23: =+D23/C23 -> #DIV/0! | J23: =+F23/E23 -> #DIV/0!
B24: E20 | C24: =+ขายรวม!AC4 -> 0 | D24: =+ขายรวม!AC13 -> 0 | E24: =+ขายรวม!AC26 -> 0 | F24: =+ขายรวม!AC35 -> 0 | G24: =+C24-E24 -> 0 | H24: =+D24-F24 -> 0 | I24: =+D24/C24 -> #DIV/0! | J24: =+F24/E24 -> #DIV/0!
B25: GAS 91 | C25: =+ขายรวม!AC5 -> 0 | D25: =+ขายรวม!AC14 -> 0 | E25: =+ขายรวม!AC27 -> 0 | F25: =+ขายรวม!AC36 -> 0 | G25: =+C25-E25 -> 0 | H25: =+D25-F25 -> 0 | I25: =+D25/C25 -> #DIV/0! | J25: =+F25/E25 -> #DIV/0!
B26: DIESEL B7 | C26: =+ขายรวม!AC6 -> 0 | D26: =+ขายรวม!AC15 -> 0 | E26: =+ขายรวม!AC28 -> 0 | F26: =+ขายรวม!AC37 -> 0 | G26: =+C26-E26 -> 0 | H26: =+D26-F26 -> 0 | I26: =+D26/C26 -> #DIV/0! | J26: =+F26/E26 -> #DIV/0!
B27: P_DIESEL-B7 | C27: =SUM(C23:C26) -> 0 | D27: =SUM(D23:D26) -> 0 | E27: =SUM(E23:E26) -> 0 | F27: =SUM(F23:F26) -> 0 | G27: =SUM(G23:G26) -> 0 | H27: =SUM(H23:H26) -> 0
B28: รวม | C28: =SUM(C24:C27) -> 0 | D28: =SUM(D24:D27) -> 0 | E28: =SUM(E24:E27) -> 0 | F28: =SUM(F24:F27) -> 0 | G28: =SUM(G24:G27) -> 0 | H28: =SUM(H24:H27) -> 0

Sheet 27 28
H1: =+เลขที่เอกสาร!AA2 -> HS6710027
C2: เพจ ระบบบัญชีปั้มน้ำมัน
C3: สรุปยอดขายเงินสด - เงินเชื่อ
C4: =+'25 26'!C19:G19+1 -> 45592
B6: ชนิดน้ำมัน | C6: ยอดขายรวม | E6: ขายเงินเชื่อ ขายคูปอง | G6: ขายเงินสด
C7: ลิตร | D7: บาท | E7: ลิตร | F7: บาท | G7: ลิตร | H7: บาท
B8: GAS 95 | C8: =+ขายรวม!AD3 -> 0 | D8: =+ขายรวม!AD12 -> 0 | E8: =+ขายรวม!AD25 -> 0 | F8: =+ขายรวม!AD34 -> 0 | G8: =+C8-E8 -> 0 | H8: =+D8-F8 -> 0 | I8: =+D8/C8 -> #DIV/0! | J8: =+F8/E8 -> #DIV/0!
B9: E20 | C9: =+ขายรวม!AD4 -> 0 | D9: =+ขายรวม!AD13 -> 0 | E9: =+ขายรวม!AD26 -> 0 | F9: =+ขายรวม!AD35 -> 0 | G9: =+C9-E9 -> 0 | H9: =+D9-F9 -> 0 | I9: =+D9/C9 -> #DIV/0! | J9: =+F9/E9 -> #DIV/0!
B10: GAS 91 | C10: =+ขายรวม!AD5 -> 0 | D10: =+ขายรวม!AD14 -> 0 | E10: =+ขายรวม!AD27 -> 0 | F10: =+ขายรวม!AD36 -> 0 | G10: =+C10-E10 -> 0 | H10: =+D10-F10 -> 0 | I10: =+D10/C10 -> #DIV/0! | J10: =+F10/E10 -> #DIV/0!
B11: DIESEL B7 | C11: =+ขายรวม!AD6 -> 0 | D11: =+ขายรวม!AD15 -> 0 | E11: =+ขายรวม!AD28 -> 0 | F11: =+ขายรวม!AD37 -> 0 | G11: =+C11-E11 -> 0 | H11: =+D11-F11 -> 0 | I11: =+D11/C11 -> #DIV/0! | J11: =+F11/E11 -> #DIV/0!
B12: P_DIESEL-B7 | C12: =+ขายรวม!AD7 -> 0 | D12: =+ขายรวม!AD16 -> 0 | E12: =+ขายรวม!AD29 -> 0 | F12: =+ขายรวม!AD38 -> 0 | G12: =+C12-E12 -> 0 | H12: =+D12-F12 -> 0
B13: รวม | C13: =SUM(C8:C12) -> 0 | D13: =SUM(D8:D12) -> 0 | E13: =SUM(E8:E12) -> 0 | F13: =SUM(F8:F12) -> 0 | G13: =SUM(G8:G12) -> 0 | H13: =SUM(H8:H11) -> 0
C14: ภาษีขาย 7%
H16: =+เลขที่เอกสาร!AB2 -> HS6710028
C17: =+C2 -> เพจ ระบบบัญชีปั้มน้ำมัน
C18: สรุปยอดขายเงินสด - เงินเชื่อ
C19: =+C4+1 -> 45593
B21: ชนิดน้ำมัน | C21: ยอดขายรวม | E21: ขายเงินเชื่อ ขายคูปอง | G21: ขายเงินสด
C22: ลิตร | D22: บาท | E22: ลิตร | F22: บาท | G22: ลิตร | H22: บาท
B23: GAS 95 | C23: =+ขายรวม!AE3 -> 0 | D23: =+ขายรวม!AE12 -> 0 | E23: =+ขายรวม!AE25 -> 0 | F23: =+ขายรวม!AE34 -> 0 | G23: =+C23-E23 -> 0 | H23: =+D23-F23 -> 0 | I23: =+D23/C23 -> #DIV/0! | J23: =+F23/E23 -> #DIV/0!
B24: E20 | C24: =+ขายรวม!AE4 -> 0 | D24: =+ขายรวม!AE13 -> 0 | E24: =+ขายรวม!AE26 -> 0 | F24: =+ขายรวม!AE35 -> 0 | G24: =+C24-E24 -> 0 | H24: =+D24-F24 -> 0 | I24: =+D24/C24 -> #DIV/0! | J24: =+F24/E24 -> #DIV/0!
B25: GAS 91 | C25: =+ขายรวม!AE5 -> 0 | D25: =+ขายรวม!AE14 -> 0 | E25: =+ขายรวม!AE27 -> 0 | F25: =+ขายรวม!AE36 -> 0 | G25: =+C25-E25 -> 0 | H25: =+D25-F25 -> 0 | I25: =+D25/C25 -> #DIV/0! | J25: =+F25/E25 -> #DIV/0!
B26: DIESEL B7 | C26: =+ขายรวม!AE6 -> 0 | D26: =+ขายรวม!AE15 -> 0 | E26: =+ขายรวม!AE28 -> 0 | F26: =+ขายรวม!AE37 -> 0 | G26: =+C26-E26 -> 0 | H26: =+D26-F26 -> 0 | I26: =+D26/C26 -> #DIV/0! | J26: =+F26/E26 -> #DIV/0!
B27: P_DIESEL-B7 | C27: =SUM(C23:C26) -> 0 | D27: =SUM(D23:D26) -> 0 | E27: =SUM(E23:E26) -> 0 | F27: =SUM(F23:F26) -> 0 | G27: =SUM(G23:G26) -> 0 | H27: =SUM(H23:H26) -> 0
B28: รวม | C28: =SUM(C23:C27) -> 0 | D28: =SUM(D23:D27) -> 0 | E28: =SUM(E23:E27) -> 0 | F28: =SUM(F23:F27) -> 0 | G28: =SUM(G23:G27) -> 0 | H28: =SUM(H23:H26) -> 0

Sheet 29 30
H1: =+เลขที่เอกสาร!AC2 -> HS6710029
C2: เพจ ระบบบัญชีปั้มน้ำมัน
C3: สรุปยอดขายเงินสด - เงินเชื่อ
C4: =+'27 28'!C19:G19+1 -> 45594
B6: ชนิดน้ำมัน | C6: ยอดขายรวม | E6: ขายเงินเชื่อ ขายคูปอง | G6: ขายเงินสด
C7: ลิตร | D7: บาท | E7: ลิตร | F7: บาท | G7: ลิตร | H7: บาท
B8: GAS 95 | C8: =+ขายรวม!AF3 -> 0 | D8: =+ขายรวม!AF12 -> 0 | E8: =+ขายรวม!AF25 -> 0 | F8: =+ขายรวม!AF34 -> 0 | G8: =+C8-E8 -> 0 | H8: =+D8-F8 -> 0 | I8: =+D8/C8 -> #DIV/0! | J8: =+F8/E8 -> #DIV/0!
B9: E20 | C9: =+ขายรวม!AF4 -> 0 | D9: =+ขายรวม!AF13 -> 0 | E9: =+ขายรวม!AF26 -> 0 | F9: =+ขายรวม!AF35 -> 0 | G9: =+C9-E9 -> 0 | H9: =+D9-F9 -> 0 | I9: =+D9/C9 -> #DIV/0! | J9: =+F9/E9 -> #DIV/0!
B10: GAS 91 | C10: =+ขายรวม!AF5 -> 0 | D10: =+ขายรวม!AF14 -> 0 | E10: =+ขายรวม!AF27 -> 0 | F10: =+ขายรวม!AF36 -> 0 | G10: =+C10-E10 -> 0 | H10: =+D10-F10 -> 0 | I10: =+D10/C10 -> #DIV/0! | J10: =+F10/E10 -> #DIV/0!
B11: DIESEL B7 | C11: =+ขายรวม!AF6 -> 0 | D11: =+ขายรวม!AF15 -> 0 | E11: =+ขายรวม!AF28 -> 0 | F11: =+ขายรวม!AF37 -> 0 | G11: =+C11-E11 -> 0 | H11: =+D11-F11 -> 0 | I11: =+D11/C11 -> #DIV/0! | J11: =+F11/E11 -> #DIV/0!
B12: P_DIESEL-B7 | C12: =+ขายรวม!AF7 -> 0 | D12: =+ขายรวม!AF16 -> 0 | E12: =+ขายรวม!AF29 -> 0 | F12: =+ขายรวม!AF38 -> 0 | G12: =+C12-E12 -> 0 | H12: =+D12-F12 -> 0
B13: รวม | C13: =SUM(C8:C12) -> 0 | D13: =SUM(D8:D12) -> 0 | E13: =SUM(E8:E12) -> 0 | F13: =SUM(F8:F12) -> 0 | G13: =SUM(G8:G12) -> 0 | H13: =SUM(H8:H11) -> 0
C14: ภาษีขาย 7%
H16: 1
C17: =+C2 -> เพจ ระบบบัญชีปั้มน้ำมัน
C18: สรุปยอดขายเงินสด - เงินเชื่อ
C19: =+C4+1 -> 45595
B21: ชนิดน้ำมัน | C21: ยอดขายรวม | E21: ขายเงินเชื่อ ขายคูปอง | G21: ขายเงินสด
C22: ลิตร | D22: บาท | E22: ลิตร | F22: บาท | G22: ลิตร | H22: บาท
B23: GAS 95 | C23: =+ขายรวม!AG3 -> 0 | D23: =+ขายรวม!AG12 -> 0 | E23: =+ขายรวม!AG25 -> 0 | F23: =+ขายรวม!AG34 -> 0 | G23: =+C23-E23 -> 0 | H23: =+D23-F23 -> 0 | I23: =+D23/C23 -> #DIV/0! | J23: =+F23/E23 -> #DIV/0!
B24: E20 | C24: =+ขายรวม!AG4 -> 0 | D24: =+ขายรวม!AG13 -> 0 | E24: =+ขายรวม!AG26 -> 0 | F24: =+ขายรวม!AG35 -> 0 | G24: =+C24-E24 -> 0 | H24: =+D24-F24 -> 0 | I24: =+D24/C24 -> #DIV/0! | J24: =+F24/E24 -> #DIV/0!
B25: GAS 91 | C25: =+ขายรวม!AG5 -> 0 | D25: =+ขายรวม!AG14 -> 0 | E25: =+ขายรวม!AG27 -> 0 | F25: =+ขายรวม!AG36 -> 0 | G25: =+C25-E25 -> 0 | H25: =+D25-F25 -> 0 | I25: =+D25/C25 -> #DIV/0! | J25: =+F25/E25 -> #DIV/0!
B26: DIESEL B7 | C26: =+ขายรวม!AG6 -> 0 | D26: =+ขายรวม!AG15 -> 0 | E26: =+ขายรวม!AG28 -> 0 | F26: =+ขายรวม!AG37 -> 0 | G26: =+C26-E26 -> 0 | H26: =+D26-F26 -> 0 | I26: =+D26/C26 -> #DIV/0! | J26: =+F26/E26 -> #DIV/0!
B27: P_DIESEL-B7 | C27: =SUM(C23:C26) -> 0 | D27: =SUM(D23:D26) -> 0 | E27: =SUM(E23:E26) -> 0 | F27: =SUM(F23:F26) -> 0 | G27: =SUM(G23:G26) -> 0 | H27: =SUM(H23:H26) -> 0
B28: รวม | C28: =SUM(C23:C27) -> 0 | D28: =SUM(D23:D27) -> 0 | E28: =SUM(E23:E27) -> 0 | F28: =SUM(F23:F27) -> 0 | G28: =SUM(G23:G27) -> 0 | H28: =SUM(H23:H26) -> 0

Sheet 31
H1: =+เลขที่เอกสาร!AE2 -> HS6710031
C2: เพจ ระบบบัญชีปั้มน้ำมัน
C3: สรุปยอดขายเงินสด - เงินเชื่อ
C4: =+'29 30'!C19:G19+1 -> 45596
B6: ชนิดน้ำมัน | C6: ยอดขายรวม | E6: ขายเงินเชื่อ ขายคูปอง | G6: ขายเงินสด
C7: ลิตร | D7: บาท | E7: ลิตร | F7: บาท | G7: ลิตร | H7: บาท
B8: GAS 95 | C8: =+ขายรวม!AF3 -> 0 | D8: =+ขายรวม!AF12 -> 0 | E8: =+ขายรวม!AF25 -> 0 | F8: =+ขายรวม!AF34 -> 0 | G8: =+C8-E8 -> 0 | H8: =+D8-F8 -> 0 | I8: =+D8/C8 -> #DIV/0! | J8: =+F8/E8 -> #DIV/0!
B9: E20 | C9: =+ขายรวม!AF4 -> 0 | D9: =+ขายรวม!AF13 -> 0 | E9: =+ขายรวม!AF26 -> 0 | F9: =+ขายรวม!AF35 -> 0 | G9: =+C9-E9 -> 0 | H9: =+D9-F9 -> 0 | I9: =+D9/C9 -> #DIV/0! | J9: =+F9/E9 -> #DIV/0!
B10: GAS 91 | C10: =+ขายรวม!AF5 -> 0 | D10: =+ขายรวม!AF14 -> 0 | E10: =+ขายรวม!AF27 -> 0 | F10: =+ขายรวม!AF36 -> 0 | G10: =+C10-E10 -> 0 | H10: =+D10-F10 -> 0 | I10: =+D10/C10 -> #DIV/0! | J10: =+F10/E10 -> #DIV/0!
B11: DIESEL B7 | C11: =+ขายรวม!AF6 -> 0 | D11: =+ขายรวม!AF15 -> 0 | E11: =+ขายรวม!AF28 -> 0 | F11: =+ขายรวม!AF37 -> 0 | G11: =+C11-E11 -> 0 | H11: =+D11-F11 -> 0 | I11: =+D11/C11 -> #DIV/0! | J11: =+F11/E11 -> #DIV/0!
B12: P_DIESEL-B7 | C12: =+ขายรวม!AF7 -> 0 | D12: =+ขายรวม!AF16 -> 0 | E12: =+ขายรวม!AF29 -> 0 | F12: =+ขายรวม!AF38 -> 0 | G12: =+C12-E12 -> 0 | H12: =+D12-F12 -> 0
B13: รวม | C13: =SUM(C8:C12) -> 0 | D13: =SUM(D8:D12) -> 0 | E13: =SUM(E8:E12) -> 0 | F13: =SUM(F8:F12) -> 0 | G13: =SUM(G8:G12) -> 0 | H13: =SUM(H8:H11) -> 0
C14: ภาษีขาย 7%

Sheet สรุป1
C2: เพจ ระบบบัญชีปั้มน้ำมัน
C3: สรุปยอดขายเงินสด - เงินเชื่อ
C4: เดือน พฤศจิกายน 2563
I5: *ยอดเพี้ยนเท่ากับรายงานภาษี ก
B6: ชนิดน้ำมัน | C6: ยอดขายรวม | E6: ขายเงินเชื่อ VS ตัด AI | G6: ขายเงินสด | I6: ยอดขายรวม | M6: ขายเชื่อ
C7: ลิตร | D7: บาท | E7: ลิตร | F7: บาท | G7: ลิตร | H7: บาท | I7: รายงานขาย | K7: ผลต่าง | M7: รายงานขาย | O7: ผลต่าง(ใช้ภายใน)
A8: 1 | B8: GAS 95 | C8: =+'1 2'!C8+'1 2'!C23+'3 4'!C8+'3 4'!C23+'5 6'!C8+'5 6'!C23+'7 8'!C8+'7 8'!C23+'9 10'!C8+'9 10'!C23+'11 12'!C8+'11 12'!C23+'13 14'!C8+'13 14'!C23+'15 16'!C8+'15 16'!C23+'17 18'!C8+'17 18'!C23+'19 20'!C8+'19 20'!C23+'21 22'!C8+'21 22'!C23+'23 24'!C8+'23 24'!C23+'25 26'!C8+'25 26'!C23+'27 28'!C8+'27 28'!C23+'29 30'!C8+'29 30'!C23+'31'!C8 -> 4392.13 | D8: =+'1 2'!D8+'1 2'!D23+'3 4'!D8+'3 4'!D23+'5 6'!D8+'5 6'!D23+'7 8'!D8+'7 8'!D23+'9 10'!D8+'9 10'!D23+'11 12'!D8+'11 12'!D23+'13 14'!D8+'13 14'!D23+'15 16'!D8+'15 16'!D23+'17 18'!D8+'17 18'!D23+'19 20'!D8+'19 20'!D23+'21 22'!D8+'21 22'!D23+'23 24'!D8+'23 24'!D23+'25 26'!D8+'25 26'!D23+'27 28'!D8+'27 28'!D23+'29 30'!D8+'29 30'!D23+'31'!D8 -> 154519.6 | E8: =+'1 2'!E8+'1 2'!E23+'3 4'!E8+'3 4'!E23+'5 6'!E8+'5 6'!E23+'7 8'!E8+'7 8'!E23+'9 10'!E8+'9 10'!E23+'11 12'!E8+'11 12'!E23+'13 14'!E8+'13 14'!E23+'15 16'!E8+'15 16'!E23+'17 18'!E8+'17 18'!E23+'19 20'!E8+'19 20'!E23+'21 22'!E8+'21 22'!E23+'23 24'!E8+'23 24'!E23+'25 26'!E8+'25 26'!E23+'27 28'!E8+'27 28'!E23+'29 30'!E8+'29 30'!E23+'31'!E8 -> 87.997 | F8: =+'1 2'!F8+'1 2'!F23+'3 4'!F8+'3 4'!F23+'5 6'!F8+'5 6'!F23+'7 8'!F8+'7 8'!F23+'9 10'!F8+'9 10'!F23+'11 12'!F8+'11 12'!F23+'13 14'!F8+'13 14'!F23+'15 16'!F8+'15 16'!F23+'17 18'!F8+'17 18'!F23+'19 20'!F8+'19 20'!F23+'21 22'!F8+'21 22'!F23+'23 24'!F8+'23 24'!F23+'25 26'!F8+'25 26'!F23+'27 28'!F8+'27 28'!F23+'29 30'!F8+'29 30'!F23+'31'!F8 -> 3095.6 | G8: =+'1 2'!G8+'1 2'!G23+'3 4'!G8+'3 4'!G23+'5 6'!G8+'5 6'!G23+'7 8'!G8+'7 8'!G23+'9 10'!G8+'9 10'!G23+'11 12'!G8+'11 12'!G23+'13 14'!G8+'13 14'!G23+'15 16'!G8+'15 16'!G23+'17 18'!G8+'17 18'!G23+'19 20'!G8+'19 20'!G23+'21 22'!G8+'21 22'!G23+'23 24'!G8+'23 24'!G23+'25 26'!G8+'25 26'!G23+'27 28'!G8+'27 28'!G23+'29 30'!G8+'29 30'!G23+'31'!G8 -> 4304.133 | H8: =+'1 2'!H8+'1 2'!H23+'3 4'!H8+'3 4'!H23+'5 6'!H8+'5 6'!H23+'7 8'!H8+'7 8'!H23+'9 10'!H8+'9 10'!H23+'11 12'!H8+'11 12'!H23+'13 14'!H8+'13 14'!H23+'15 16'!H8+'15 16'!H23+'17 18'!H8+'17 18'!H23+'19 20'!H8+'19 20'!H23+'21 22'!H8+'21 22'!H23+'23 24'!H8+'23 24'!H23+'25 26'!H8+'25 26'!H23+'27 28'!H8+'27 28'!H23+'29 30'!H8+'29 30'!H23+'31'!H8 -> 151424 | I8: 167008.53 | J8: 6493324.5 | K8: =+C8-I8 -> -162616.4 | L8: =+D8-J8 -> -6338804.9 | M8: 6109.321 | N8: 238093.9 | O8: =+M8-E8 -> 6021.324 | P8: =+N8-F8 -> 234998.3
A9: 2 | B9: E20 | C9: =+'1 2'!C9+'1 2'!C24+'3 4'!C9+'3 4'!C24+'5 6'!C9+'5 6'!C24+'7 8'!C9+'7 8'!C24+'9 10'!C9+'9 10'!C24+'11 12'!C9+'11 12'!C24+'13 14'!C9+'13 14'!C24+'15 16'!C9+'15 16'!C24+'17 18'!C9+'17 18'!C24+'19 20'!C9+'19 20'!C24+'21 22'!C9+'21 22'!C24+'23 24'!C9+'23 24'!C24+'25 26'!C9+'25 26'!C24+'27 28'!C9+'27 28'!C24+'29 30'!C9+'29 30'!C24+'31'!C9 -> 2374.05 | D9: =+'1 2'!D9+'1 2'!D24+'3 4'!D9+'3 4'!D24+'5 6'!D9+'5 6'!D24+'7 8'!D9+'7 8'!D24+'9 10'!D9+'9 10'!D24+'11 12'!D9+'11 12'!D24+'13 14'!D9+'13 14'!D24+'15 16'!D9+'15 16'!D24+'17 18'!D9+'17 18'!D24+'19 20'!D9+'19 20'!D24+'21 22'!D9+'21 22'!D24+'23 24'!D9+'23 24'!D24+'25 26'!D9+'25 26'!D24+'27 28'!D9+'27 28'!D24+'29 30'!D9+'29 30'!D24+'31'!D9 -> 78512.6 | E9: =+'1 2'!E9+'1 2'!E24+'3 4'!E9+'3 4'!E24+'5 6'!E9+'5 6'!E24+'7 8'!E9+'7 8'!E24+'9 10'!E9+'9 10'!E24+'11 12'!E9+'11 12'!E24+'13 14'!E9+'13 14'!E24+'15 16'!E9+'15 16'!E24+'17 18'!E9+'17 18'!E24+'19 20'!E9+'19 20'!E24+'21 22'!E9+'21 22'!E24+'23 24'!E9+'23 24'!E24+'25 26'!E9+'25 26'!E24+'27 28'!E9+'27 28'!E24+'29 30'!E9+'29 30'!E24+'31'!E9 -> 0 | F9: =+'1 2'!F9+'1 2'!F24+'3 4'!F9+'3 4'!F24+'5 6'!F9+'5 6'!F24+'7 8'!F9+'7 8'!F24+'9 10'!F9+'9 10'!F24+'11 12'!F9+'11 12'!F24+'13 14'!F9+'13 14'!F24+'15 16'!F9+'15 16'!F24+'17 18'!F9+'17 18'!F24+'19 20'!F9+'19 20'!F24+'21 22'!F9+'21 22'!F24+'23 24'!F9+'23 24'!F24+'25 26'!F9+'25 26'!F24+'27 28'!F9+'27 28'!F24+'29 30'!F9+'29 30'!F24+'31'!F9 -> 0 | G9: =+'1 2'!G9+'1 2'!G24+'3 4'!G9+'3 4'!G24+'5 6'!G9+'5 6'!G24+'7 8'!G9+'7 8'!G24+'9 10'!G9+'9 10'!G24+'11 12'!G9+'11 12'!G24+'13 14'!G9+'13 14'!G24+'15 16'!G9+'15 16'!G24+'17 18'!G9+'17 18'!G24+'19 20'!G9+'19 20'!G24+'21 22'!G9+'21 22'!G24+'23 24'!G9+'23 24'!G24+'25 26'!G9+'25 26'!G24+'27 28'!G9+'27 28'!G24+'29 30'!G9+'29 30'!G24+'31'!G9 -> 2374.05 | H9: =+'1 2'!H9+'1 2'!H24+'3 4'!H9+'3 4'!H24+'5 6'!H9+'5 6'!H24+'7 8'!H9+'7 8'!H24+'9 10'!H9+'9 10'!H24+'11 12'!H9+'11 12'!H24+'13 14'!H9+'13 14'!H24+'15 16'!H9+'15 16'!H24+'17 18'!H9+'17 18'!H24+'19 20'!H9+'19 20'!H24+'21 22'!H9+'21 22'!H24+'23 24'!H9+'23 24'!H24+'25 26'!H9+'25 26'!H24+'27 28'!H9+'27 28'!H24+'29 30'!H9+'29 30'!H24+'31'!H9 -> 78512.6 | I9: 50895.88 | J9: 1922802.8 | K9: =+C9-I9 -> -48521.83 | L9: =+D9-J9 -> -1844290.2 | M9: 705.559 | N9: 26630 | O9: =+M9-E9 -> 705.559 | P9: =+N9-F9 -> 26630
A10: 3 | B10: GAS 91 | C10: =+'1 2'!C10+'1 2'!C25+'3 4'!C10+'3 4'!C25+'5 6'!C10+'5 6'!C25+'7 8'!C10+'7 8'!C25+'9 10'!C10+'9 10'!C25+'11 12'!C10+'11 12'!C25+'13 14'!C10+'13 14'!C25+'15 16'!C10+'15 16'!C25+'17 18'!C10+'17 18'!C25+'19 20'!C10+'19 20'!C25+'21 22'!C10+'21 22'!C25+'23 24'!C10+'23 24'!C25+'25 26'!C10+'25 26'!C25+'27 28'!C10+'27 28'!C25+'29 30'!C10+'29 30'!C25+'31'!C10 -> 1639.89 | D10: =+'1 2'!D10+'1 2'!D25+'3 4'!D10+'3 4'!D25+'5 6'!D10+'5 6'!D25+'7 8'!D10+'7 8'!D25+'9 10'!D10+'9 10'!D25+'11 12'!D10+'11 12'!D25+'13 14'!D10+'13 14'!D25+'15 16'!D10+'15 16'!D25+'17 18'!D10+'17 18'!D25+'19 20'!D10+'19 20'!D25+'21 22'!D10+'21 22'!D25+'23 24'!D10+'23 24'!D25+'25 26'!D10+'25 26'!D25+'27 28'!D10+'27 28'!D25+'29 30'!D10+'29 30'!D25+'31'!D10 -> 57089.8 | E10: =+'1 2'!E10+'1 2'!E25+'3 4'!E10+'3 4'!E25+'5 6'!E10+'5 6'!E25+'7 8'!E10+'7 8'!E25+'9 10'!E10+'9 10'!E25+'11 12'!E10+'11 12'!E25+'13 14'!E10+'13 14'!E25+'15 16'!E10+'15 16'!E25+'17 18'!E10+'17 18'!E25+'19 20'!E10+'19 20'!E25+'21 22'!E10+'21 22'!E25+'23 24'!E10+'23 24'!E25+'25 26'!E10+'25 26'!E25+'27 28'!E10+'27 28'!E25+'29 30'!E10+'29 30'!E25+'31'!E10 -> 15 | F10: =+'1 2'!F10+'1 2'!F25+'3 4'!F10+'3 4'!F25+'5 6'!F10+'5 6'!F25+'7 8'!F10+'7 8'!F25+'9 10'!F10+'9 10'!F25+'11 12'!F10+'11 12'!F25+'13 14'!F10+'13 14'!F25+'15 16'!F10+'15 16'!F25+'17 18'!F10+'17 18'!F25+'19 20'!F10+'19 20'!F25+'21 22'!F10+'21 22'!F25+'23 24'!F10+'23 24'!F25+'25 26'!F10+'25 26'!F25+'27 28'!F10+'27 28'!F25+'29 30'!F10+'29 30'!F25+'31'!F10 -> 522.2 | G10: =+'1 2'!G10+'1 2'!G25+'3 4'!G10+'3 4'!G25+'5 6'!G10+'5 6'!G25+'7 8'!G10+'7 8'!G25+'9 10'!G10+'9 10'!G25+'11 12'!G10+'11 12'!G25+'13 14'!G10+'13 14'!G25+'15 16'!G10+'15 16'!G25+'17 18'!G10+'17 18'!G25+'19 20'!G10+'19 20'!G25+'21 22'!G10+'21 22'!G25+'23 24'!G10+'23 24'!G25+'25 26'!G10+'25 26'!G25+'27 28'!G10+'27 28'!G25+'29 30'!G10+'29 30'!G25+'31'!G10 -> 1624.89 | H10: =+'1 2'!H10+'1 2'!H25+'3 4'!H10+'3 4'!H25+'5 6'!H10+'5 6'!H25+'7 8'!H10+'7 8'!H25+'9 10'!H10+'9 10'!H25+'11 12'!H10+'11 12'!H25+'13 14'!H10+'13 14'!H25+'15 16'!H10+'15 16'!H25+'17 18'!H10+'17 18'!H25+'19 20'!H10+'19 20'!H25+'21 22'!H10+'21 22'!H25+'23 24'!H10+'23 24'!H25+'25 26'!H10+'25 26'!H25+'27 28'!H10+'27 28'!H25+'29 30'!H10+'29 30'!H25+'31'!H10 -> 56567.6 | I10: 67174.411 | J10: 2594340.2 | K10: =+C10-I10 -> -65534.521 | L10: =+D10-J10 -> -2537250.4 | M10: 1083.964 | N10: 41990 | O10: =+M10-E10 -> 1068.964 | P10: =+N10-F10 -> 41467.8
A11: 4 | B11: DIESEL B7 | C11: =+'1 2'!C11+'1 2'!C26+'3 4'!C11+'3 4'!C26+'5 6'!C11+'5 6'!C26+'7 8'!C11+'7 8'!C26+'9 10'!C11+'9 10'!C26+'11 12'!C11+'11 12'!C26+'13 14'!C11+'13 14'!C26+'15 16'!C11+'15 16'!C26+'17 18'!C11+'17 18'!C26+'19 20'!C11+'19 20'!C26+'21 22'!C11+'21 22'!C26+'23 24'!C11+'23 24'!C26+'25 26'!C11+'25 26'!C26+'27 28'!C11+'27 28'!C26+'29 30'!C11+'29 30'!C26+'31'!C11 -> 17099.39 | D11: =+'1 2'!D11+'1 2'!D26+'3 4'!D11+'3 4'!D26+'5 6'!D11+'5 6'!D26+'7 8'!D11+'7 8'!D26+'9 10'!D11+'9 10'!D26+'11 12'!D11+'11 12'!D26+'13 14'!D11+'13 14'!D26+'15 16'!D11+'15 16'!D26+'17 18'!D11+'17 18'!D26+'19 20'!D11+'19 20'!D26+'21 22'!D11+'21 22'!D26+'23 24'!D11+'23 24'!D26+'25 26'!D11+'25 26'!D26+'27 28'!D11+'27 28'!D26+'29 30'!D11+'29 30'!D26+'31'!D11 -> 567196.4 | E11: =+'1 2'!E11+'1 2'!E26+'3 4'!E11+'3 4'!E26+'5 6'!E11+'5 6'!E26+'7 8'!E11+'7 8'!E26+'9 10'!E11+'9 10'!E26+'11 12'!E11+'11 12'!E26+'13 14'!E11+'13 14'!E26+'15 16'!E11+'15 16'!E26+'17 18'!E11+'17 18'!E26+'19 20'!E11+'19 20'!E26+'21 22'!E11+'21 22'!E26+'23 24'!E11+'23 24'!E26+'25 26'!E11+'25 26'!E26+'27 28'!E11+'27 28'!E26+'29 30'!E11+'29 30'!E26+'31'!E11 -> 2985.563 | F11: =+'1 2'!F11+'1 2'!F26+'3 4'!F11+'3 4'!F26+'5 6'!F11+'5 6'!F26+'7 8'!F11+'7 8'!F26+'9 10'!F11+'9 10'!F26+'11 12'!F11+'11 12'!F26+'13 14'!F11+'13 14'!F26+'15 16'!F11+'15 16'!F26+'17 18'!F11+'17 18'!F26+'19 20'!F11+'19 20'!F26+'21 22'!F11+'21 22'!F26+'23 24'!F11+'23 24'!F26+'25 26'!F11+'25 26'!F26+'27 28'!F11+'27 28'!F26+'29 30'!F11+'29 30'!F26+'31'!F11 -> 99031.3 | G11: =+'1 2'!G11+'1 2'!G26+'3 4'!G11+'3 4'!G26+'5 6'!G11+'5 6'!G26+'7 8'!G11+'7 8'!G26+'9 10'!G11+'9 10'!G26+'11 12'!G11+'11 12'!G26+'13 14'!G11+'13 14'!G26+'15 16'!G11+'15 16'!G26+'17 18'!G11+'17 18'!G26+'19 20'!G11+'19 20'!G26+'21 22'!G11+'21 22'!G26+'23 24'!G11+'23 24'!G26+'25 26'!G11+'25 26'!G26+'27 28'!G11+'27 28'!G26+'29 30'!G11+'29 30'!G26+'31'!G11 -> 14113.827 | H11: =+'1 2'!H11+'1 2'!H26+'3 4'!H11+'3 4'!H26+'5 6'!H11+'5 6'!H26+'7 8'!H11+'7 8'!H26+'9 10'!H11+'9 10'!H26+'11 12'!H11+'11 12'!H26+'13 14'!H11+'13 14'!H26+'15 16'!H11+'15 16'!H26+'17 18'!H11+'17 18'!H26+'19 20'!H11+'19 20'!H26+'21 22'!H11+'21 22'!H26+'23 24'!H11+'23 24'!H26+'25 26'!H11+'25 26'!H26+'27 28'!H11+'27 28'!H26+'29 30'!H11+'29 30'!H26+'31'!H11 -> 468165.1 | I11: 169807.1 | J11: 5092537.6 | K11: =+C11-I11 -> -152707.71 | L11: =+D11-J11 -> -4525341.2 | M11: 29077.262 | N11: 872027.7 | O11: =+M11-E11 -> 26091.699 | P11: =+N11-F11 -> 772996.4
A12: 5 | B12: P_DIESEL-B7 | C12: =+'1 2'!C12+'1 2'!C27+'3 4'!C12+'3 4'!C27+'5 6'!C12+'5 6'!C27+'7 8'!C12+'7 8'!C27+'9 10'!C12+'9 10'!C27+'11 12'!C12+'11 12'!C27+'13 14'!C12+'13 14'!C27+'15 16'!C12+'15 16'!C27+'17 18'!C12+'17 18'!C27+'19 20'!C12+'19 20'!C27+'21 22'!C12+'21 22'!C27+'23 24'!C12+'23 24'!C27+'25 26'!C12+'25 26'!C27+'27 28'!C12+'27 28'!C27+'29 30'!C12+'29 30'!C27+'31'!C12 -> 499.67 | D12: =+'1 2'!D12+'1 2'!D27+'3 4'!D12+'3 4'!D27+'5 6'!D12+'5 6'!D27+'7 8'!D12+'7 8'!D27+'9 10'!D12+'9 10'!D27+'11 12'!D12+'11 12'!D27+'13 14'!D12+'13 14'!D27+'15 16'!D12+'15 16'!D27+'17 18'!D12+'17 18'!D27+'19 20'!D12+'19 20'!D27+'21 22'!D12+'21 22'!D27+'23 24'!D12+'23 24'!D27+'25 26'!D12+'25 26'!D27+'27 28'!D12+'27 28'!D27+'29 30'!D12+'29 30'!D27+'31'!D12 -> 22570.3 | E12: =+'1 2'!E12+'1 2'!E27+'3 4'!E12+'3 4'!E27+'5 6'!E12+'5 6'!E27+'7 8'!E12+'7 8'!E27+'9 10'!E12+'9 10'!E27+'11 12'!E12+'11 12'!E27+'13 14'!E12+'13 14'!E27+'15 16'!E12+'15 16'!E27+'17 18'!E12+'17 18'!E27+'19 20'!E12+'19 20'!E27+'21 22'!E12+'21 22'!E27+'23 24'!E12+'23 24'!E27+'25 26'!E12+'25 26'!E27+'27 28'!E12+'27 28'!E27+'29 30'!E12+'29 30'!E27+'31'!E12 -> 0 | F12: =+'1 2'!F12+'1 2'!F27+'3 4'!F12+'3 4'!F27+'5 6'!F12+'5 6'!F27+'7 8'!F12+'7 8'!F27+'9 10'!F12+'9 10'!F27+'11 12'!F12+'11 12'!F27+'13 14'!F12+'13 14'!F27+'15 16'!F12+'15 16'!F27+'17 18'!F12+'17 18'!F27+'19 20'!F12+'19 20'!F27+'21 22'!F12+'21 22'!F27+'23 24'!F12+'23 24'!F27+'25 26'!F12+'25 26'!F27+'27 28'!F12+'27 28'!F27+'29 30'!F12+'29 30'!F27+'31'!F12 -> 0 | G12: =+'1 2'!G12+'1 2'!G27+'3 4'!G12+'3 4'!G27+'5 6'!G12+'5 6'!G27+'7 8'!G12+'7 8'!G27+'9 10'!G12+'9 10'!G27+'11 12'!G12+'11 12'!G27+'13 14'!G12+'13 14'!G27+'15 16'!G12+'15 16'!G27+'17 18'!G12+'17 18'!G27+'19 20'!G12+'19 20'!G27+'21 22'!G12+'21 22'!G27+'23 24'!G12+'23 24'!G27+'25 26'!G12+'25 26'!G27+'27 28'!G12+'27 28'!G27+'29 30'!G12+'29 30'!G27+'31'!G12 -> 499.67 | H12: =+'1 2'!H12+'1 2'!H27+'3 4'!H12+'3 4'!H27+'5 6'!H12+'5 6'!H27+'7 8'!H12+'7 8'!H27+'9 10'!H12+'9 10'!H27+'11 12'!H12+'11 12'!H27+'13 14'!H12+'13 14'!H27+'15 16'!H12+'15 16'!H27+'17 18'!H12+'17 18'!H27+'19 20'!H12+'19 20'!H27+'21 22'!H12+'21 22'!H27+'23 24'!H12+'23 24'!H27+'25 26'!H12+'25 26'!H27+'27 28'!H12+'27 28'!H27+'29 30'!H12+'29 30'!H27+'31'!H12 -> 22570.3 | I12: 38974.59 | J12: 1168852.4 | K12: =+C12-I12 -> -38474.92 | L12: =+D12-J12 -> -1146282.1 | M12: 8250.082 | N12: 247421.2 | O12: =+M12-E12 -> 8250.082 | P12: =+N12-F12 -> 247421.2
B13: รวม | C13: =+'1 2'!C13+'1 2'!C28+'3 4'!C13+'3 4'!C28+'5 6'!C13+'5 6'!C28+'7 8'!C13+'7 8'!C28+'9 10'!C13+'9 10'!C28+'11 12'!C13+'11 12'!C28+'13 14'!C13+'13 14'!C28+'15 16'!C13+'15 16'!C28+'17 18'!C13+'17 18'!C28+'19 20'!C13+'19 20'!C28+'21 22'!C13+'21 22'!C28+'23 24'!C13+'23 24'!C28+'25 26'!C13+'25 26'!C28+'27 28'!C13+'27 28'!C28+'29 30'!C13+'29 30'!C28+'31'!C13 -> 26005.13 | D13: =+'1 2'!D13+'1 2'!D28+'3 4'!D13+'3 4'!D28+'5 6'!D13+'5 6'!D28+'7 8'!D13+'7 8'!D28+'9 10'!D13+'9 10'!D28+'11 12'!D13+'11 12'!D28+'13 14'!D13+'13 14'!D28+'15 16'!D13+'15 16'!D28+'17 18'!D13+'17 18'!D28+'19 20'!D13+'19 20'!D28+'21 22'!D13+'21 22'!D28+'23 24'!D13+'23 24'!D28+'25 26'!D13+'25 26'!D28+'27 28'!D13+'27 28'!D28+'29 30'!D13+'29 30'!D28+'31'!D13 -> 879888.7 | E13: =+'1 2'!E13+'1 2'!E28+'3 4'!E13+'3 4'!E28+'5 6'!E13+'5 6'!E28+'7 8'!E13+'7 8'!E28+'9 10'!E13+'9 10'!E28+'11 12'!E13+'11 12'!E28+'13 14'!E13+'13 14'!E28+'15 16'!E13+'15 16'!E28+'17 18'!E13+'17 18'!E28+'19 20'!E13+'19 20'!E28+'21 22'!E13+'21 22'!E28+'23 24'!E13+'23 24'!E28+'25 26'!E13+'25 26'!E28+'27 28'!E13+'27 28'!E28+'29 30'!E13+'29 30'!E28+'31'!E13 -> 3088.56 | F13: =+'1 2'!F13+'1 2'!F28+'3 4'!F13+'3 4'!F28+'5 6'!F13+'5 6'!F28+'7 8'!F13+'7 8'!F28+'9 10'!F13+'9 10'!F28+'11 12'!F13+'11 12'!F28+'13 14'!F13+'13 14'!F28+'15 16'!F13+'15 16'!F28+'17 18'!F13+'17 18'!F28+'19 20'!F13+'19 20'!F28+'21 22'!F13+'21 22'!F28+'23 24'!F13+'23 24'!F28+'25 26'!F13+'25 26'!F28+'27 28'!F13+'27 28'!F28+'29 30'!F13+'29 30'!F28+'31'!F13 -> 102649.1 | G13: =+'1 2'!G13+'1 2'!G28+'3 4'!G13+'3 4'!G28+'5 6'!G13+'5 6'!G28+'7 8'!G13+'7 8'!G28+'9 10'!G13+'9 10'!G28+'11 12'!G13+'11 12'!G28+'13 14'!G13+'13 14'!G28+'15 16'!G13+'15 16'!G28+'17 18'!G13+'17 18'!G28+'19 20'!G13+'19 20'!G28+'21 22'!G13+'21 22'!G28+'23 24'!G13+'23 24'!G28+'25 26'!G13+'25 26'!G28+'27 28'!G13+'27 28'!G28+'29 30'!G13+'29 30'!G28+'31'!G13 -> 22916.57 | H13: =+'1 2'!H13+'1 2'!H28+'3 4'!H13+'3 4'!H28+'5 6'!H13+'5 6'!H28+'7 8'!H13+'7 8'!H28+'9 10'!H13+'9 10'!H28+'11 12'!H13+'11 12'!H28+'13 14'!H13+'13 14'!H28+'15 16'!H13+'15 16'!H28+'17 18'!H13+'17 18'!H28+'19 20'!H13+'19 20'!H28+'21 22'!H13+'21 22'!H28+'23 24'!H13+'23 24'!H28+'25 26'!H13+'25 26'!H28+'27 28'!H13+'27 28'!H28+'29 30'!H13+'29 30'!H28+'31'!H13 -> 777239.6 | I13: =SUM(I8:I12) -> 493860.51 | J13: =SUM(J8:J12) -> 17271858 | K13: =+C13-I13 -> -467855.38 | L13: =+D13-J13 -> -16391969 | M13: =SUM(M8:M12) -> 45226.188 | N13: 1177348.8 | O13: =+M13-E13 -> 42137.628 | P13: =+N13-F13 -> 1074699.7
C14: =+'1 2'!C14+'1 2'!C29+'3 4'!C14+'3 4'!C29+'5 6'!C14+'5 6'!C29+'7 8'!C14+'7 8'!C29+'9 10'!C14+'9 10'!C29+'11 12'!C14+'11 12'!C29+'13 14'!C14+'13 14'!C29+'15 16'!C14+'15 16'!C29+'17 18'!C14+'17 18'!C29+'19 20'!C14+'19 20'!C29+'21 22'!C14+'21 22'!C29+'23 24'!C14+'23 24'!C29+'25 26'!C14+'25 26'!C29+'27 28'!C14+'27 28'!C29+'29 30'!C14+'29 30'!C29+'31'!C14 -> #VALUE! | I14: =+I13-493860.51 -> 0 | J14: =+J13-17271857.5 -> 0 | K14: =+C14-I14 -> #VALUE!

Sheet เลขที่เอกสาร
A1: 168 | B1: 169 | C1: 170 | D1: 171 | E1: 172 | F1: 173 | G1: 174 | H1: 175 | I1: 176 | J1: 177 | K1: 178 | L1: 179 | M1: 180 | N1: 181 | O1: 182 | P1: 183 | Q1: 184 | R1: 185 | S1: 186 | T1: 187 | U1: 188 | V1: 189 | W1: 190 | X1: 191 | Y1: 192 | Z1: 193 | AA1: 194 | AB1: 195 | AC1: 196 | AD1: 197 | AE1: 198
A2: HS6710001 | B2: HS6710002 | C2: HS6710003 | D2: HS6710004 | E2: HS6710005 | F2: HS6710006 | G2: HS6710007 | H2: HS6710008 | I2: HS6710009 | J2: HS6710010 | K2: HS6710011 | L2: HS6710012 | M2: HS6710013 | N2: HS6710014 | O2: HS6710015 | P2: HS6710016 | Q2: HS6710017 | R2: HS6710018 | S2: HS6710019 | T2: HS6710020 | U2: HS6710021 | V2: HS6710022 | W2: HS6710023 | X2: HS6710024 | Y2: HS6710025 | Z2: HS6710026 | AA2: HS6710027 | AB2: HS6710028 | AC2: HS6710029 | AD2: HS6710030 | AE2: HS6710031

Sheet ขายรวม
B2: ขายสด | C2: จำนวนลิตร | D2: 45566 | E2: 45567 | F2: 45568 | G2: 45569 | H2: 45570 | I2: 45571 | J2: 45572 | K2: 45573 | L2: 45574 | M2: 45575 | N2: 45576 | O2: 45577 | P2: 45578 | Q2: 45579 | R2: 45580 | S2: 45581 | T2: 45582 | U2: 45583 | V2: 45584 | W2: 45585 | X2: 45586 | Y2: 45587 | Z2: 45588 | AA2: 45589 | AB2: 45590 | AC2: 45591 | AD2: 45592 | AE2: 45593 | AF2: 45594 | AG2: 45595 | AI2: สรุป | AL2: ใช้ภายใน
C3: GAS 95 | D3: 1534.07 | E3: 1331.94 | F3: 1526.12 | AH3: =SUM(D3:AG3) -> 4392.13 | AI3: 120424.08 | AJ3: =+AH3-AI3 -> -116031.95
C4: E20 | D4: 1046.15 | E4: 627.43 | F4: 700.47 | AH4: =SUM(D4:AG4) -> 2374.05 | AI4: 71708.75 | AJ4: =+AH4-AI4 -> -69334.7
C5: GAS 91 | D5: 607.67 | E5: 560.58 | F5: 471.64 | AH5: =SUM(D5:AG5) -> 1639.89 | AI5: 29388.61 | AJ5: =+AH5-AI5 -> -27748.72
C6: DIESEL B7 | D6: 7915.28 | E6: 4042.15 | F6: 5141.96 | AH6: =SUM(D6:AG6) -> 17099.39 | AI6: 35387.3 | AJ6: =+AH6-AI6 -> -18287.91
C7: P_DIESEL-B7 | D7: 92.98 | E7: 97.19 | F7: 309.5 | AH7: =SUM(D7:AG7) -> 499.67 | AJ7: =+AH7-AI7 -> 499.67
AH8: =SUM(D8:AG8) -> 0 | AJ8: =+AH8-AI8 -> 0
D9: 8680.53 | E9: 7987.71 | F9: 8493.63 | G9: 9342.36 | H9: 7673.52 | I9: 8424.31 | J9: 10698.61 | K9: 7783.21 | L9: 7797.55 | M9: 9465.39 | N9: 7963.54 | O9: 7660.29 | P9: 8112.34 | Q9: 8871.78 | R9: 8186.07 | S9: 8567.39 | T9: 8533.37 | U9: 8254.25 | V9: 7890.7 | W9: 8247 | X9: 9226.56 | Y9: 7782.83 | Z9: 7818.29 | AA9: 8783.33 | AB9: 8245.94 | AC9: 8080.53 | AD9: 9423.49 | AE9: 9449.02 | AF9: 8257.71 | AG9: 8885.69 | AH9: =SUM(D9:AG9) -> 254586.94 | AI9: 256908.74 | AJ9: =+AH9-AI9 -> -2321.8
D10: =+D3+D4+D5+D6+D7+D8 -> 11196.15 | E10: =+E3+E4+E5+E6+E7+E8 -> 6659.29 | F10: =+F3+F4+F5+F6+F7+F8 -> 8149.69 | G10: =+G3+G4+G5+G6+G7+G8 -> 0 | H10: =+H3+H4+H5+H6+H7+H8 -> 0 | I10: =+I3+I4+I5+I6+I7+I8 -> 0 | J10: =+J3+J4+J5+J6+J7+J8 -> 0 | K10: =+K3+K4+K5+K6+K7+K8 -> 0 | ... AI10: =+AI3+AI4+AI5+AI6+AI7+AI8 -> 256908.74 | AJ10: =SUM(AJ3:AJ9) -> -233225.41
C11: ราคา | D11: =+D9-D10 -> -2515.62 | E11: =+E9-E10 -> 1328.42 | F11: =+F9-F10 -> 343.94 | G11: =+G9-G10 -> 9342.36 | H11: =+H9-H10 -> 7673.52 | I11: =+I9-I10 -> 8424.31 | J11: =+J9-J10 -> 10698.61 | K11: =+K9-K10 -> 7783.21 | ... AJ11: =+AJ9-AJ10 -> 230903.61
C12: GAS 95 | D12: 53970.1 | E12: 46858.7 | F12: 53690.8 | AH12: =SUM(D12:AG12) -> 154519.6 | AI12: 4000102.2 | AJ12: =+AH12-AI12 -> -3845582.6
C13: E20 | D13: 34597.3 | E13: 20750.2 | F13: 23165.1 | AH13: =SUM(D13:AG13) -> 78512.6 | AI13: 2740436.8 | AJ13: =+AH13-AI13 -> -2661924.2
C14: GAS 91 | D14: 21155.3 | E14: 19515.4 | F14: 16419.1 | AH14: =SUM(D14:AG14) -> 57089.8 | AI14: 1111240 | AJ14: =+AH14-AI14 -> -1054150.2
C15: DIESEL B7 | D15: 262552.9 | E15: 134081.1 | F15: 170562.4 | AH15: =SUM(D15:AG15) -> 567196.4 | AI15: 1277037.2 | AJ15: =+AH15-AI15 -> -709840.8
C16: P_DIESEL-B7 | D16: 4200 | E16: 4390.1 | F16: 13980.2 | AH16: =SUM(D16:AG16) -> 22570.3 | AJ16: =+AH16-AI16 -> 22570.3
D18: 309227.7 | E18: 284435 | F18: 301552.3 | G18: 334455.1 | H18: 272839 | I18: 295737.5 | J18: 375223.8 | K18: 274643.2 | L18: 273295.8 | M18: 335703.6 | N18: 279366.1 | O18: 273138.8 | P18: 285500.1 | Q18: 314115.1 | R18: 290232.7 | S18: 303209.6 | T18: 302006.4 | U18: 291674.9 | V18: 278409.2 | W18: 293282.4 | X18: 330205.9 | Y18: 279693.7 | Z18: 279660.8 | AA18: 313675.9 | AB18: 295012 | AC18: 289165.6 | AD18: 334139.2 | AE18: 336906 | AF18: 296257.2 | AG18: 324964.2 | AH18: =SUM(D18:AG18) -> 9047728.8 | AI18: 9128816.2 | AJ18: =+AH18-AI18 -> -81087.4
D19: =+D12+D13+D14+D15+D16 -> 376475.6 | E19: =+E12+E13+E14+E15+E16 -> 225595.5 | F19: =+F12+F13+F14+F15+F16 -> 277817.6 | G19: =+G12+G13+G14+G15+G16 -> 0 | H19: =+H12+H13+H14+H15+H16 -> 0 | I19: =+I12+I13+I14+I15+I16 -> 0 | J19: =+J12+J13+J14+J15+J16 -> 0 | K19: =+K12+K13+K14+K15+K16 -> 0 | ... AI19: =+AI12+AI13+AI14+AI15+AI16 -> 9128816.2
D20: =+D18-D19 -> -67247.9 | E20: =+E18-E19 -> 58839.5 | F20: =+F18-F19 -> 23734.7 | G20: =+G18-G19 -> 334455.1 | H20: =+H18-H19 -> 272839 | I20: =+I18-I19 -> 295737.5 | J20: =+J18-J19 -> 375223.8 | K20: =+K18-K19 -> 274643.2 | ... AJ20: =+AJ18-AJ19 -> -81087.4
B24: ขายเชื่อ | C24: =+C2 -> จำนวนลิตร | AL24: ใช้ภายใน
C25: GAS 95 | D25: 61.997 | E25: 6 | F25: 20 | AH25: =SUM(D25:AG25) -> 87.997 | AI25: 1305.54 | AJ25: =+AH25-AI25 -> -1217.543
C26: E20 | AH26: =SUM(D26:AG26) -> 0 | AI26: 276.44 | AJ26: =+AH26-AI26 -> -276.44
C27: GAS 91 | D27: 15 | AH27: =SUM(D27:AG27) -> 15 | AI27: 57.77 | AJ27: =+AH27-AI27 -> -42.77
C28: DIESEL B7 | D28: 2645.442 | E28: =159.001-E25 -> 153.001 | F28: =207.12-F25 -> 187.12 | AH28: =SUM(D28:AG28) -> 2985.563 | AI28: 438.78 | AJ28: =+AH28-AI28 -> 2546.783
C29: P_DIESEL-B7 | AH29: =SUM(D29:AG29) -> 0
AH30: =SUM(D30:AG30) -> 0 | AJ30: =+AH30-AI30 -> 0
AH31: =SUM(D31:AG31) -> 0
AH32: =+AH30+#REF!+AH27+AH26+AH25 -> #REF! | AI32: =+AI30+#REF!+AI27+AI26+AI25 -> #REF! | AJ32: =+AH32-AI32 -> #REF!
C33: ราคา | AI33: =+AI31-AI32 -> #REF!
C34: GAS 95 | D34: 2181 | E34: 211 | F34: 703.6 | AH34: =SUM(D34:AG34) -> 3095.6 | AI34: 43370 | AJ34: =+AH34-AI34 -> -40274.4
C35: E20 | AH35: =SUM(D35:AG35) -> 0 | AI35: 10561.6 | AJ35: =+AH35-AI35 -> -10561.6
C36: GAS 91 | D36: 522.2 | AH36: =SUM(D36:AG36) -> 522.2 | AI36: 2174.3 | AJ36: =+AH36-AI36 -> -1652.1
C37: DIESEL B7 | D37: 87749.5 | E37: =5286-E34 -> 5075 | F37: =6910.4-703.6 -> 6206.8 | AH37: =SUM(D37:AG37) -> 99031.3 | AI37: 15900 | AJ37: =+AH37-AI37 -> 83131.3
C38: P_DIESEL-B7 | AH38: =SUM(D38:AG38) -> 0 | AJ38: =+AH38-AI38 -> 0
AH39: =SUM(D39:AG39) -> 0 | AJ39: =+AH39-AI39 -> 0
AH40: =SUM(D40:AG40) -> 0
D41: =SUM(D34:D39) -> 90452.7 | E41: =SUM(E34:E39) -> 5286 | F41: =SUM(F34:F39) -> 6910.4 | G41: =SUM(G34:G39) -> 0 | H41: =SUM(H34:H39) -> 0 | I41: =SUM(I34:I39) -> 0 | J41: =SUM(J34:J39) -> 0 | K41: =SUM(K34:K39) -> 0 | ... AG41: =SUM(AG34:AG39) -> 0 | AH41: =+AH39+#REF!+AH37+AH35+AH34 -> #REF! | AI41: =+AI39+#REF!+AI37+AI35+AI34 -> #REF! | AJ41: =+AH41-AI41 -> #REF!
AI42: =+AI40-AI41 -> #REF!
D44: =+#REF!/#REF! -> #REF! | E44: =+#REF!/#REF! -> #REF! | F44: =+#REF!/#REF! -> #REF! | G44: =+#REF!/#REF! -> #REF! | H44: =+#REF!/#REF! -> #REF! | I44: =+#REF!/#REF! -> #REF! | J44: =+#REF!/#REF! -> #REF! | K44: =+#REF!/#REF! -> #REF! | ... AG44: =+#REF!/#REF! -> #REF!

Sheet ทดสอบ
D1: รวมขายสด | K1: รวมขายเชี่อ | P1: เกลี่ยยอดขายสด
A2: 44531 | D2: =+'1 2'!#REF! -> #REF! | E2: =+'1 2'!#REF! -> #REF! | F2: =+B2-D2 -> #REF! | G2: =+C2-E2 -> #REF! | K2: =+'1 2'!#REF! -> #REF! | L2: =+'1 2'!#REF! -> #REF! | P2: =+'1 2'!#REF! -> #REF! | Q2: =+'1 2'!#REF! -> #REF! | R2: 15165.678 | S2: =SUM(N2:R2) -> #REF! | T2: =+P2-R2 -> #REF! | U2: =+Q2-S2 -> #REF!
A3: 44532 | D3: =+'1 2'!#REF! -> #REF! | E3: =+'1 2'!#REF! -> #REF! | F3: =+B3-D3 -> #REF! | G3: =+C3-E3 -> #REF! | K3: =+'1 2'!#REF! -> #REF! | L3: =+'1 2'!#REF! -> #REF! | P3: =+'1 2'!#REF! -> #REF! | Q3: =+'1 2'!#REF! -> #REF! | R3: 16704.598 | S3: =SUM(N3:R3) -> #REF! | T3: =+P3-R3 -> #REF! | U3: =+Q3-S3 -> #REF!
A4: 44533 | D4: =+'3 4'!#REF! -> #REF! | E4: =+'3 4'!#REF! -> #REF! | F4: =+B4-D4 -> #REF! | G4: =+C4-E4 -> #REF! | K4: =+'3 4'!#REF! -> #REF! | L4: =+'3 4'!#REF! -> #REF! | P4: =+'3 4'!#REF! -> #REF! | Q4: =+'3 4'!#REF! -> #REF! | R4: 15836.54 | S4: =SUM(N4:R4) -> #REF! | T4: =+P4-R4 -> #REF! | U4: =+Q4-S4 -> #REF!
A5: 44534 | D5: =+'3 4'!C28 -> 0 | E5: =+'3 4'!D28 -> 0 | F5: =+B5-D5 -> 0 | G5: =+C5-E5 -> 0 | K5: =+'3 4'!E28 -> 0 | L5: =+'3 4'!F28 -> 0 | P5: =+'3 4'!G28 -> 0 | Q5: =+'3 4'!H28 -> 0 | R5: 17281.548 | S5: =SUM(N5:R5) -> 17281.548 | T5: =+P5-R5 -> -17281.548 | U5: =+Q5-S5 -> -17281.548
A6: 44535 | D6: =+'5 6'!#REF! -> #REF! | E6: =+'5 6'!#REF! -> #REF! | F6: =+B6-D6 -> #REF! | G6: =+C6-E6 -> #REF! | K6: =+'5 6'!#REF! -> #REF! | L6: =+'5 6'!#REF! -> #REF! | P6: =+'5 6'!#REF! -> #REF! | Q6: =+'5 6'!#REF! -> #REF! | S6: =SUM(N6:R6) -> #REF! | T6: =+P6-R6 -> #REF! | U6: =+Q6-S6 -> #REF!
A7: 44536 | D7: =+'5 6'!C28 -> 0 | E7: =+'5 6'!D28 -> 0 | F7: =+B7-D7 -> 0 | G7: =+C7-E7 -> 0 | K7: =+'5 6'!E28 -> 0 | L7: =+'5 6'!F28 -> 0 | P7: =+'5 6'!G28 -> 0 | Q7: =+'5 6'!H28 -> 0 | S7: =SUM(N7:R7) -> 0 | T7: =+P7-R7 -> 0 | U7: =+Q7-S7 -> 0
A8: 44537 | D8: =+'7 8'!#REF! -> #REF! | E8: =+'7 8'!#REF! -> #REF! | F8: =+B8-D8 -> #REF! | G8: =+C8-E8 -> #REF! | K8: =+'7 8'!#REF! -> #REF! | L8: =+'7 8'!#REF! -> #REF! | P8: =+'7 8'!#REF! -> #REF! | Q8: =+'7 8'!#REF! -> #REF! | S8: =SUM(N8:R8) -> #REF! | T8: =+P8-R8 -> #REF! | U8: =+Q8-S8 -> #REF!
A9: 44538 | D9: =+'7 8'!C28 -> 0 | E9: =+'7 8'!D28 -> 0 | F9: =+B9-D9 -> 0 | G9: =+C9-E9 -> 0 | K9: =+'7 8'!E28 -> 0 | L9: =+'7 8'!F28 -> 0 | P9: =+'7 8'!G28 -> 0 | Q9: =+'7 8'!H28 -> 0 | S9: =SUM(N9:R9) -> 0 | T9: =+P9-R9 -> 0 | U9: =+Q9-S9 -> 0
A10: 44539 | D10: =+'9 10'!#REF! -> #REF! | E10: =+'9 10'!#REF! -> #REF! | F10: =+B10-D10 -> #REF! | G10: =+C10-E10 -> #REF! | K10: =+'9 10'!#REF! -> #REF! | L10: =+'9 10'!#REF! -> #REF! | P10: =+'9 10'!#REF! -> #REF! | Q10: =+'9 10'!#REF! -> #REF! | S10: =SUM(N10:R10) -> #REF! | T10: =+P10-R10 -> #REF! | U10: =+Q10-S10 -> #REF!
A11: 44540 | D11: =+'9 10'!C28 -> 0 | E11: =+'9 10'!D28 -> 0 | F11: =+B11-D11 -> 0 | G11: =+C11-E11 -> 0 | K11: =+'9 10'!E28 -> 0 | L11: =+'9 10'!F28 -> 0 | P11: =+'9 10'!G28 -> 0 | Q11: =+'9 10'!H28 -> 0 | S11: =SUM(N11:R11) -> 0 | T11: =+P11-R11 -> 0 | U11: =+Q11-S11 -> 0
A12: 44541 | D12: =+'11 12'!#REF! -> #REF! | E12: =+'11 12'!#REF! -> #REF! | F12: =+B12-D12 -> #REF! | G12: =+C12-E12 -> #REF! | K12: =+'11 12'!#REF! -> #REF! | L12: =+'11 12'!#REF! -> #REF! | P12: =+'11 12'!#REF! -> #REF! | Q12: =+'11 12'!#REF! -> #REF! | S12: =SUM(N12:R12) -> #REF! | T12: =+P12-R12 -> #REF! | U12: =+Q12-S12 -> #REF!
A13: 44542 | D13: =+'11 12'!#REF! -> #REF! | E13: =+'11 12'!#REF! -> #REF! | F13: =+B13-D13 -> #REF! | G13: =+C13-E13 -> #REF! | K13: =+'11 12'!#REF! -> #REF! | L13: =+'11 12'!#REF! -> #REF! | P13: =+'11 12'!#REF! -> #REF! | Q13: =+'11 12'!#REF! -> #REF! | S13: =SUM(N13:R13) -> #REF! | T13: =+P13-R13 -> #REF! | U13: =+Q13-S13 -> #REF!
A14: 44543 | D14: =+'13 14'!#REF! -> #REF! | E14: =+'13 14'!#REF! -> #REF! | F14: =+B14-D14 -> #REF! | G14: =+C14-E14 -> #REF! | K14: =+'13 14'!#REF! -> #REF! | L14: =+'13 14'!#REF! -> #REF! | P14: =+'13 14'!#REF! -> #REF! | Q14: =+'13 14'!#REF! -> #REF! | S14: =SUM(N14:R14) -> #REF! | T14: =+P14-R14 -> #REF! | U14: =+Q14-S14 -> #REF!
A15: 44544 | D15: =+'13 14'!#REF! -> #REF! | E15: =+'13 14'!#REF! -> #REF! | F15: =+B15-D15 -> #REF! | G15: =+C15-E15 -> #REF! | K15: =+'13 14'!#REF! -> #REF! | L15: =+'13 14'!#REF! -> #REF! | P15: =+'13 14'!#REF! -> #REF! | Q15: =+'13 14'!#REF! -> #REF! | S15: =SUM(N15:R15) -> #REF! | T15: =+P15-R15 -> #REF! | U15: =+Q15-S15 -> #REF!
A16: 44545 | D16: =+'15 16'!#REF! -> #REF! | E16: =+'15 16'!#REF! -> #REF! | F16: =+B16-D16 -> #REF! | G16: =+C16-E16 -> #REF! | K16: =+'15 16'!#REF! -> #REF! | L16: =+'15 16'!#REF! -> #REF! | P16: =+'15 16'!#REF! -> #REF! | Q16: =+'15 16'!#REF! -> #REF! | S16: =SUM(N16:R16) -> #REF! | T16: =+P16-R16 -> #REF! | U16: =+Q16-S16 -> #REF!
A17: 44546 | D17: =+'15 16'!#REF! -> #REF! | E17: =+'15 16'!#REF! -> #REF! | F17: =+B17-D17 -> #REF! | G17: =+C17-E17 -> #REF! | K17: =+'15 16'!#REF! -> #REF! | L17: =+'15 16'!#REF! -> #REF! | P17: =+'15 16'!#REF! -> #REF! | Q17: =+'15 16'!#REF! -> #REF! | S17: =SUM(N17:R17) -> #REF! | T17: =+P17-R17 -> #REF! | U17: =+Q17-S17 -> #REF!
A18: 44547 | D18: =+'17 18'!#REF! -> #REF! | E18: =+'17 18'!#REF! -> #REF! | F18: =+B18-D18 -> #REF! | G18: =+C18-E18 -> #REF! | K18: =+'17 18'!#REF! -> #REF! | L18: =+'17 18'!#REF! -> #REF! | P18: =+'17 18'!#REF! -> #REF! | Q18: =+'17 18'!#REF! -> #REF! | S18: =SUM(N18:R18) -> #REF! | T18: =+P18-R18 -> #REF! | U18: =+Q18-S18 -> #REF!
A19: 44548 | D19: =+'17 18'!#REF! -> #REF! | E19: =+'17 18'!#REF! -> #REF! | F19: =+B19-D19 -> #REF! | G19: =+C19-E19 -> #REF! | K19: =+'17 18'!#REF! -> #REF! | L19: =+'17 18'!#REF! -> #REF! | P19: =+'17 18'!#REF! -> #REF! | Q19: =+'17 18'!#REF! -> #REF! | S19: =SUM(N19:R19) -> #REF! | T19: =+P19-R19 -> #REF! | U19: =+Q19-S19 -> #REF!
A20: 44549 | D20: =+'19 20'!#REF! -> #REF! | E20: =+'19 20'!#REF! -> #REF! | F20: =+B20-D20 -> #REF! | G20: =+C20-E20 -> #REF! | K20: =+'19 20'!#REF! -> #REF! | L20: =+'19 20'!#REF! -> #REF! | P20: =+'19 20'!#REF! -> #REF! | Q20: =+'19 20'!#REF! -> #REF! | S20: =SUM(N20:R20) -> #REF! | T20: =+P20-R20 -> #REF! | U20: =+Q20-S20 -> #REF!
A21: 44550 | D21: =+'19 20'!#REF! -> #REF! | E21: =+'19 20'!#REF! -> #REF! | F21: =+B21-D21 -> #REF! | G21: =+C21-E21 -> #REF! | K21: =+'19 20'!#REF! -> #REF! | L21: =+'19 20'!#REF! -> #REF! | P21: =+'19 20'!#REF! -> #REF! | Q21: =+'19 20'!#REF! -> #REF! | S21: =SUM(N21:R21) -> #REF! | T21: =+P21-R21 -> #REF! | U21: =+Q21-S21 -> #REF!
A22: 44551 | D22: =+'21 22'!#REF! -> #REF! | E22: =+'21 22'!#REF! -> #REF! | F22: =+B22-D22 -> #REF! | G22: =+C22-E22 -> #REF! | K22: =+'21 22'!#REF! -> #REF! | L22: =+'21 22'!#REF! -> #REF! | P22: =+'21 22'!#REF! -> #REF! | Q22: =+'21 22'!#REF! -> #REF! | S22: =SUM(N22:R22) -> #REF! | T22: =+P22-R22 -> #REF! | U22: =+Q22-S22 -> #REF!
A23: 44552 | D23: =+'21 22'!#REF! -> #REF! | E23: =+'21 22'!#REF! -> #REF! | F23: =+B23-D23 -> #REF! | G23: =+C23-E23 -> #REF! | K23: =+'21 22'!#REF! -> #REF! | L23: =+'21 22'!#REF! -> #REF! | P23: =+'21 22'!#REF! -> #REF! | Q23: =+'21 22'!#REF! -> #REF! | S23: =SUM(N23:R23) -> #REF! | T23: =+P23-R23 -> #REF! | U23: =+Q23-S23 -> #REF!
A24: 44553 | D24: =+'23 24'!#REF! -> #REF! | E24: =+'23 24'!#REF! -> #REF! | F24: =+B24-D24 -> #REF! | G24: =+C24-E24 -> #REF! | K24: =+'23 24'!#REF! -> #REF! | L24: =+'23 24'!#REF! -> #REF! | P24: =+'23 24'!#REF! -> #REF! | Q24: =+'23 24'!#REF! -> #REF! | S24: =SUM(N24:R24) -> #REF! | T24: =+P24-R24 -> #REF! | U24: =+Q24-S24 -> #REF!
A25: 44554 | D25: =+'23 24'!#REF! -> #REF! | E25: =+'23 24'!#REF! -> #REF! | F25: =+B25-D25 -> #REF! | G25: =+C25-E25 -> #REF! | K25: =+'23 24'!#REF! -> #REF! | L25: =+'23 24'!#REF! -> #REF! | P25: =+'23 24'!#REF! -> #REF! | Q25: =+'23 24'!#REF! -> #REF! | S25: =SUM(N25:R25) -> #REF! | T25: =+P25-R25 -> #REF! | U25: =+Q25-S25 -> #REF!
A26: 44555 | D26: =+'25 26'!#REF! -> #REF! | E26: =+'25 26'!#REF! -> #REF! | F26: =+B26-D26 -> #REF! | G26: =+C26-E26 -> #REF! | K26: =+'25 26'!#REF! -> #REF! | L26: =+'25 26'!#REF! -> #REF! | P26: =+'25 26'!#REF! -> #REF! | Q26: =+'25 26'!#REF! -> #REF! | S26: =SUM(N26:R26) -> #REF! | T26: =+P26-R26 -> #REF! | U26: =+Q26-S26 -> #REF!
A27: 44556 | D27: =+'25 26'!C27 -> 0 | E27: =+'25 26'!D27 -> 0 | F27: =+B27-D27 -> 0 | G27: =+C27-E27 -> 0 | K27: =+'25 26'!E27 -> 0 | L27: =+'25 26'!F27 -> 0 | P27: =+'25 26'!G27 -> 0 | Q27: =+'25 26'!H27 -> 0 | S27: =SUM(N27:R27) -> 0 | T27: =+P27-R27 -> 0 | U27: =+Q27-S27 -> 0
A28: 44557 | D28: =+'27 28'!#REF! -> #REF! | E28: =+'27 28'!#REF! -> #REF! | F28: =+B28-D28 -> #REF! | G28: =+C28-E28 -> #REF! | K28: =+'27 28'!#REF! -> #REF! | L28: =+'27 28'!#REF! -> #REF! | P28: =+'27 28'!#REF! -> #REF! | Q28: =+'27 28'!#REF! -> #REF! | S28: =SUM(N28:R28) -> #REF! | T28: =+P28-R28 -> #REF! | U28: =+Q28-S28 -> #REF!
A29: 44558 | D29: =+'27 28'!#REF! -> #REF! | E29: =+'27 28'!#REF! -> #REF! | F29: =+B29-D29 -> #REF! | G29: =+C29-E29 -> #REF! | K29: =+'27 28'!#REF! -> #REF! | L29: =+'27 28'!#REF! -> #REF! | P29: =+'27 28'!#REF! -> #REF! | Q29: =+'27 28'!#REF! -> #REF! | S29: =SUM(N29:R29) -> #REF! | T29: =+P29-R29 -> #REF! | U29: =+Q29-S29 -> #REF!
A30: 44559 | D30: =+'29 30'!#REF! -> #REF! | E30: =+'29 30'!#REF! -> #REF! | F30: =+B30-D30 -> #REF! | G30: =+C30-E30 -> #REF! | K30: =+'29 30'!#REF! -> #REF! | L30: =+'29 30'!#REF! -> #REF! | P30: =+'29 30'!#REF! -> #REF! | Q30: =+'29 30'!#REF! -> #REF! | S30: =SUM(N30:R30) -> #REF! | T30: =+P30-R30 -> #REF! | U30: =+Q30-S30 -> #REF!
A31: 44560 | D31: =+'29 30'!#REF! -> #REF! | E31: =+'29 30'!#REF! -> #REF! | F31: =+B31-D31 -> #REF! | G31: =+C31-E31 -> #REF! | K31: =+'29 30'!#REF! -> #REF! | L31: =+'29 30'!#REF! -> #REF! | P31: =+'29 30'!#REF! -> #REF! | Q31: =+'29 30'!#REF! -> #REF! | S31: =SUM(N31:R31) -> #REF! | T31: =+P31-R31 -> #REF! | U31: =+Q31-S31 -> #REF!
A32: 44561 | D32: =+#REF! -> #REF! | E32: =+#REF! -> #REF! | F32: =+B32-D32 -> #REF! | G32: =+C32-E32 -> #REF! | K32: =+#REF! -> #REF! | L32: =+#REF! -> #REF! | P32: =+#REF! -> #REF! | Q32: =+#REF! -> #REF! | S32: =SUM(N32:R32) -> #REF!
B33: =SUM(B2:B32) -> 0 | D33: =SUM(D2:D32) -> #REF! | E33: =SUM(E2:E32) -> #REF! | F33: =SUM(F2:F32) -> #REF! | K33: =SUM(K2:K32) -> #REF! | L33: =SUM(L2:L32) -> #REF!
B34: =+B33-552075.756 -> -552075.76 | D34: =+D33-552075.756 -> #REF! | E34: =+E33-12018776.9 -> #REF!
