Workbook

Sheet 1 2
H1: =เลขที่เอกสาร!A2 -> HS6710001
C2: เพจ ระบบบัญชีปั้มน้ำมัน
C3: สรุปยอดขายเงินสด - เงินเชื่อ
C4: 45566
B6: ชนิดน้ำมัน | C6: ยอดขายรวม | E6: ขายเงินเชื่อ ขายคูปอง | G6: ขายเงินสด
C7: ลิตร | D7: บาท | E7: ลิตร | F7: บาท | G7: ลิตร | H7: บาท
B8: GAS 95 | C8: =+ขายรวม!D3 -> 1534.07 | D8: =+ขายรวม!D12 -> 53970.1 | E8: =ขายรวม!D25 -> 61.997 | F8: =+ขายรวม!D34 -> 2181 | G8: =+C8-E8 -> 1472.073 | H8: =+D8-F8 -> 51789.1 | I8: =+D8/C8 -> 35.180989 | J8: =+F8/E8 -> 35.179122
B9: E20 | C9: =+ขายรวม!D4 -> 1046.15 | D9: =+ขายรวม!D13 -> 34597.3 | E9: =ขายรวม!D26 -> 0 | F9: =+ขายรวม!D35 -> 0 | G9: =+C9-E9 -> 1046.15 | H9: =+D9-F9 -> 34597.3 | I9: =+D9/C9 -> 33.07107 | J9: =+F9/E9 -> #DIV/0!
B10: GAS 91 | C10: =+ขายรวม!D5 -> 607.67 | D10: =+ขายรวม!D14 -> 21155.3 | E10: =ขายรวม!D27 -> 15 | F10: =+ขายรวม!D36 -> 522.2 | G10: =+C10-E10 -> 592.67 | H10: =+D10-F10 -> 20633.1 | I10: =+D10/C10 -> 34.813797 | J10: =+F10/E10 -> 34.813333
B11: DIESEL B7 | C11: =+ขายรวม!D6 -> 7915.28 | D11: =+ขายรวม!D15 -> 262552.9 | E11: =ขายรวม!D28 -> 2645.442 | F11: =+ขายรวม!D37 -> 87749.5 | G11: =+C11-E11 -> 5269.838 | H11: =+D11-F11 -> 174803.4 | I11: =+D11/C11 -> 33.170387 | J11: =+F11/E11 -> 33.170071
B12: P_DIESEL-B7 | C12: =+ขายรวม!D7 -> 92.98 | D12: =+ขายรวม!D16 -> 4200 | E12: =ขายรวม!D29 -> 0 | F12: =+ขายรวม!D38 -> 0 | G12: =+C12-E12 -> 92.98 | H12: =+D12-F12 -> 4200
B13: รวม | C13: =SUM(C8:C12) -> 11196.15 | D13: =SUM(D8:D12) -> 376475.6 | E13: =SUM(E8:E12) -> 2722.439 | F13: =SUM(F8:F12) -> 90452.7 | G13: =SUM(G8:G12) -> 8473.711 | H13: =SUM(H8:H12) -> 286022.9
C14: ภาษีขาย 7% | D14: =+ROUND((D13*7)/107,2) -> 24629.24
H16: =+เลขที่เอกสาร!B2 -> HS6710002
C17: เพจ ระบบบัญชีปั้มน้ำมัน
C18: สรุปยอดขายเงินสด - เงินเชื่อ
C19: =+C4+1 -> 45567
B21: ชนิดน้ำมัน | C21: ยอดขายรวม | E21: ขายเงินเชื่อ ขายคูปอง | G21: ขายเงินสด
C22: ลิตร | D22: บาท | E22: ลิตร | F22: บาท | G22: ลิตร | H22: บาท
B23: GAS 95 | C23: =+ขายรวม!E3 -> 1331.94 | D23: =+ขายรวม!E12 -> 46858.7 | E23: =ขายรวม!E25 -> 6 | F23: =+ขายรวม!$E$34 -> 211 | G23: =+C23-E23 -> 1325.94 | H23: =+D23-F23 -> 46647.7 | I23: =+D23/C23 -> 35.180789 | J23: =+F23/E23 -> 35.166667
B24: E20 | C24: =+ขายรวม!E4 -> 627.43 | D24: =+ขายรวม!E13 -> 20750.2 | E24: =ขายรวม!E26 -> 0 | F24: =+ขายรวม!$E$35 -> 0 | G24: =+C24-E24 -> 627.43 | H24: =+D24-F24 -> 20750.2 | I24: =+D24/C24 -> 33.071737 | J24: =+F24/E24 -> #DIV/0!
B25: GAS 91 | C25: =+ขายรวม!E5 -> 560.58 | D25: =+ขายรวม!E14 -> 19515.4 | E25: =ขายรวม!E27 -> 0 | F25: =+ขายรวม!$E$36 -> 0 | G25: =+C25-E25 -> 560.58 | H25: =+D25-F25 -> 19515.4 | I25: =+D25/C25 -> 34.812872 | J25: =+F25/E25 -> #DIV/0!
B26: DIESEL B7 | C26: =+ขายรวม!E6 -> 4042.15 | D26: =+ขายรวม!E15 -> 134081.1 | E26: =ขายรวม!E28 -> 153.001 | F26: =+ขายรวม!$E$37 -> 5075 | G26: =+C26-E26 -> 3889.149 | H26: =+D26-F26 -> 129006.1 | I26: =+D26/C26 -> 33.170738 | J26: =+F26/E26 -> 33.169718
B27: P_DIESEL-B7 | C27: =+ขายรวม!E7 -> 97.19 | D27: =+ขายรวม!E16 -> 4390.1 | E27: =ขายรวม!E29 -> 0 | F27: =+ขายรวม!$E$38 -> 0 | G27: =+C27-E27 -> 97.19 | H27: =+D27-F27 -> 4390.1
B28: รวม | C28: =SUM(C23:C27) -> 6659.29 | D28: =SUM(D23:D27) -> 225595.5 | E28: =SUM(E23:E27) -> 159.001 | F28: =SUM(F23:F27) -> 5286 | G28: =SUM(G23:G27) -> 6500.289 | H28: =SUM(H23:H27) -> 220309.5
C29: ภาษีขาย 7% | D29: =+ROUND((D28*7)/107,2) -> 14758.58

Sheet 3 4
H1: =+เลขที่เอกสาร!C2 -> HS6710003
C2: เพจ ระบบบัญชีปั้มน้ำมัน
C3: สรุปยอดขายเงินสด - เงินเชื่อ
C4: =+'1 2'!C19:G19+1 -> 45568
B5: 0
B6: ชนิดน้ำมัน | C6: ยอดขายรวม | E6: ขายเงินเชื่อ ขายคูปอง | G6: ขายเงินสด
C7: ลิตร | D7: บาท | E7: ลิตร | F7: บาท | G7: ลิตร | H7: บาท
B8: GAS 95 | C8: =+ขายรวม!F3 -> 1526.12 | D8: =+ขายรวม!F12 -> 53690.8 | E8: =ขายรวม!F25 -> 20 | F8: =+ขายรวม!$F$34 -> 703.6 | G8: =+C8-E8 -> 1506.12 | H8: =+D8-F8 -> 52987.2 | I8: =+D8/C8 -> 35.181244 | J8: =+F8/E8 -> 35.18
B9: E20 | C9: =+ขายรวม!F4 -> 700.47 | D9: =+ขายรวม!F13 -> 23165.1 | E9: =ขายรวม!F26 -> 0 | F9: =+ขายรวม!$F$35 -> 0 | G9: =+C9-E9 -> 700.47 | H9: =+D9-F9 -> 23165.1 | I9: =+D9/C9 -> 33.070795 | J9: =+F9/E9 -> #DIV/0!
B10: GAS 91 | C10: =+ขายรวม!F5 -> 471.64 | D10: =+ขายรวม!F14 -> 16419.1 | E10: =ขายรวม!F27 -> 0 | F10: =+ขายรวม!$F$36 -> 0 | G10: =+C10-E10 -> 471.64 | H10: =+D10-F10 -> 16419.1 | I10: =+D10/C10 -> 34.812781 | J10: =+F10/E10 -> #DIV/0!
B11: DIESEL B7 | C11: =+ขายรวม!F6 -> 5141.96 | D11: =+ขายรวม!F15 -> 170562.4 | E11: =ขายรวม!F28 -> 187.12 | F11: =+ขายรวม!$F$37 -> 6206.8 | G11: =+C11-E11 -> 4954.84 | H11: =+D11-F11 -> 164355.6 | I11: =+D11/C11 -> 33.170698 | J11: =+F11/E11 -> 33.170158
B12: P_DIESEL-B7 | C12: =+ขายรวม!F7 -> 309.5 | D12: =+ขายรวม!F16 -> 13980.2 | E12: =ขายรวม!F29 -> 0 | F12: =+ขายรวม!$F$38 -> 0 | G12: =+C12-E12 -> 309.5 | H12: =+D12-F12 -> 13980.2
B13: รวม | C13: =SUM(C8:C12) -> 8149.69 | D13: =SUM(D8:D12) -> 277817.6 | E13: =SUM(E8:E12) -> 207.12 | F13: =SUM(F8:F12) -> 6910.4 | G13: =SUM(G8:G12) -> 7942.57 | H13: =SUM(H8:H12) -> 270907.2
C14: ภาษีขาย 7% | D14: =+ROUND((D13*7)/107,2) -> 18174.98
H16: =+เลขที่เอกสาร!D2 -> HS6710004
C17: =+C2 -> เพจ ระบบบัญชีปั้มน้ำมัน
C18: =+C3 -> สรุปยอดขายเงินสด - เงินเชื่อ
C19: =+C4+1 -> 45569
B21: ชนิดน้ำมัน | C21: ยอดขายรวม | E21: ขายเงินเชื่อ ขายคูปอง | G21: ขายเงินสด
C22: ลิตร | D22: บาท | E22: ลิตร | F22: บาท | G22: ลิตร | H22: บาท
B23: GAS 95 | C23: =+ขายรวม!G3 -> 0 | D23: =+ขายรวม!G12 -> 0 | E23: =+ขายรวม!$G$25 -> 0 | F23: =+ขายรวม!$G$34 -> 0 | G23: =+C23-E23 -> 0 | H23: =+D23-F23 -> 0 | I23: =+D23/C23 -> #DIV/0! | J23: =+F23/E23 -> #DIV/0!
B24: E20 | C24: =+ขายรวม!G4 -> 0 | D24: =+ขายรวม!G13 -> 0 | E24: =+ขายรวม!$G$26 -> 0 | F24: =+ขายรวม!$G$35 -> 0 | G24: =+C24-E24 -> 0 | H24: =+D24-F24 -> 0 | I24: =+D24/C24 -> #DIV/0! | J24: =+F24/E24 -> #DIV/0!
B25: GAS 91 | C25: =+ขายรวม!G5 -> 0 | D25: =+ขายรวม!G14 -> 0 | E25: =+ขายรวม!$G$27 -> 0 | F25: =+ขายรวม!$G$36 -> 0 | G25: =+C25-E25 -> 0 | H25: =+D25-F25 -> 0 | I25: =+D25/C25 -> #DIV/0! | J25: =+F25/E25 -> #DIV/0!
B26: DIESEL B7 | C26: =+ขายรวม!G6 -> 0 | D26: =+ขายรวม!G15 -> 0 | E26: =+ขายรวม!$G$28 -> 0 | F26: =+ขายรวม!$G$37 -> 0 | G26: =+C26-E26 -> 0 | H26: =+D26-F26 -> 0 | I26: =+D26/C26 -> #DIV/0! | J26: =+F26/E26 -> #DIV/0!
B27: P_DIESEL-B7 | C27: =+ขายรวม!G7 -> 0 | D27: =+ขายรวม!G16 -> 0 | E27: =+ขายรวม!$G$29 -> 0 | F27: =+ขายรวม!$G$38 -> 0 | G27: =+C27-E27 -> 0 | H27: =+D27-F27 -> 0
B28: รวม | C28: =SUM(C23:C27) -> 0 | D28: =SUM(D23:D27) -> 0 | E28: =SUM(E23:E27) -> 0 | F28: =SUM(F23:F27) -> 0 | G28: =SUM(G23:G27) -> 0 | H28: =SUM(H23:H27) -> 0
C29: ภาษีขาย 7% | D29: =+ROUND((D28*7)/107,2) -> 0

Sheet 5 6
H1: =+เลขที่เอกสาร!E2 -> HS6710005
C2: เพจ ระบบบัญชีปั้มน้ำมัน
C3: สรุปยอดขายเงินสด - เงินเชื่อ
C4: =+'3 4'!C19:G19+1 -> 45570
B6: ชนิดน้ำมัน | C6: ยอดขายรวม | E6: ขายเงินเชื่อ ขายคูปอง | G6: ขายเงินสด
C7: ลิตร | D7: บาท | E7: ลิตร | F7: บาท | G7: ลิตร | H7: บาท
B8: GAS 95 | C8: =+ขายรวม!H3 -> 0 | D8: =+ขายรวม!H12 -> 0 | E8: =+ขายรวม!H25 -> 0 | F8: =+ขายรวม!H34 -> 0 | G8: =+C8-E8 -> 0 | H8: =+D8-F8 -> 0 | I8: =+D8/C8 -> #DIV/0! | J8: =+F8/E8 -> #DIV/0!
B9: E20 | C9: =+ขายรวม!H4 -> 0 | D9: =+ขายรวม!H13 -> 0 | E9: =+ขายรวม!H26 -> 0 | F9: =+ขายรวม!H35 -> 0 | G9: =+C9-E9 -> 0 | H9: =+D9-F9 -> 0 | I9: =+D9/C9 -> #DIV/0! | J9: =+F9/E9 -> #DIV/0!
B10: GAS 91 | C10: =+ขายรวม!H5 -> 0 | D10: =+ขายรวม!H14 -> 0 | E10: =+ขายรวม!H27 -> 0 | F10: =+ขายรวม!H36 -> 0 | G10: =+C10-E10 -> 0 | H10: =+D10-F10 -> 0 | I10: =+D10/C10 -> #DIV/0! | J10: =+F10/E10 -> #DIV/0!
B11: DIESEL B7 | C11: =+ขายรวม!H6 -> 0 | D11: =+ขายรวม!H15 -> 0 | E11: =+ขายรวม!H28 -> 0 | F11: =+ขายรวม!H37 -> 0 | G11: =+C11-E11 -> 0 | H11: =+D11-F11 -> 0 | I11: =+D11/C11 -> #DIV/0! | J11: =+F11/E11 -> #DIV/0!
B12: P_DIESEL-B7 | C12: =+ขายรวม!H7 -> 0 | D12: =+ขายรวม!H16 -> 0 | E12: =+ขายรวม!H29 -> 0 | F12: =+ขายรวม!H38 -> 0 | G12: =+C12-E12 -> 0 | H12: =+D12-F12 -> 0
B13: รวม | C13: =SUM(C8:C12) -> 0 | D13: =SUM(D8:D12) -> 0 | E13: =SUM(E8:E12) -> 0 | F13: =SUM(F8:F12) -> 0 | G13: =SUM(G8:G12) -> 0 | H13: =SUM(H8:H12) -> 0
C14: ภาษีขาย 7% | D14: =+ROUND((D13*7)/107,2) -> 0
H16: =+เลขที่เอกสาร!F2 -> HS6710006
C17: =+C2 -> เพจ ระบบบัญชีปั้มน้ำมัน
C18: =+C3 -> สรุปยอดขายเงินสด - เงินเชื่อ
C19: =+C4+1 -> 45571
B21: ชนิดน้ำมัน | C21: ยอดขายรวม | E21: ขายเงินเชื่อ ขายคูปอง | G21: ขายเงินสด
C22: ลิตร | D22: บาท | E22: ลิตร | F22: บาท | G22: ลิตร | H22: บาท
B23: GAS 95 | C23: =+ขายรวม!I3 -> 0 | D23: =+ขายรวม!I12 -> 0 | E23: =+ขายรวม!I25 -> 0 | F23: =+ขายรวม!I34 -> 0 | G23: =+C23-E23 -> 0 | H23: =+D23-F23 -> 0 | I23: =+D23/C23 -> #DIV/0! | J23: =+F23/E23 -> #DIV/0!
B24: E20 | C24: =+ขายรวม!I4 -> 0 | D24: =+ขายรวม!I13 -> 0 | E24: =+ขายรวม!I26 -> 0 | F24: =+ขายรวม!I35 -> 0 | G24: =+C24-E24 -> 0 | H24: =+D24-F24 -> 0 | I24: =+D24/C24 -> #DIV/0! | J24: =+F24/E24 -> #DIV/0!
B25: GAS 91 | C25: =+ขายรวม!I5 -> 0 | D25: =+ขายรวม!I14 -> 0 | E25: =+ขายรวม!I27 -> 0 | F25: =+ขายรวม!I36 -> 0 | G25: =+C25-E25 -> 0 | H25: =+D25-F25 -> 0 | I25: =+D25/C25 -> #DIV/0! | J25: =+F25/E25 -> #DIV/0!
B26: DIESEL B7 | C26: =+ขายรวม!I6 -> 0 | D26: =+ขายรวม!I15 -> 0 | E26: =+ขายรวม!I28 -> 0 | F26: =+ขายรวม!I37 -> 0 | G26: =+C26-E26 -> 0 | H26: =+D26-F26 -> 0 | I26: =+D26/C26 -> #DIV/0! | J26: =+F26/E26 -> #DIV/0!
B27: P_DIESEL-B7 | C27: =+ขายรวม!I7 -> 0 | D27: =+ขายรวม!I16 -> 0 | E27: =+ขายรวม!I29 -> 0 | F27: =+ขายรวม!I38 -> 0 | G27: =+C27-E27 -> 0 | H27: =+D27-F27 -> 0
B28: รวม | C28: =SUM(C23:C27) -> 0 | D28: =SUM(D23:D27) -> 0 | E28: =SUM(E23:E27) -> 0 | F28: =SUM(F23:F27) -> 0 | G28: =SUM(G23:G27) -> 0 | H28: =SUM(H23:H27) -> 0
C29: ภาษีขาย 7% | D29: =+ROUND((D28*7)/107,2) -> 0

Sheet 7 8
H1: =+เลขที่เอกสาร!G2 -> HS6710007
C2: เพจ ระบบบัญชีปั้มน้ำมัน
C3: สรุปยอดขายเงินสด - เงินเชื่อ
C4: =+'5 6'!C19:G19+1 -> 45572
B6: ชนิดน้ำมัน | C6: ยอดขายรวม | E6: ขายเงินเชื่อ ขายคูปอง | G6: ขายเงินสด
C7: ลิตร | D7: บาท | E7: ลิตร | F7: บาท | G7: ลิตร | H7: บาท
B8: GAS 95 | C8: =+ขายรวม!J3 -> 0 | D8: =+ขายรวม!J12 -> 0 | E8: =+ขายรวม!J25 -> 0 | F8: =+ขายรวม!J34 -> 0 | G8: =+C8-E8 -> 0 | H8: =+D8-F8 -> 0 | I8: =+D8/C8 -> #DIV/0! | J8: =+F8/E8 -> #DIV/0!
B9: E20 | C9: =+ขายรวม!J4 -> 0 | D9: =+ขายรวม!J13 -> 0 | E9: =+ขายรวม!J26 -> 0 | F9: =+ขายรวม!J35 -> 0 | G9: =+C9-E9 -> 0 | H9: =+D9-F9 -> 0 | I9: =+D9/C9 -> #DIV/0! | J9: =+F9/E9 -> #DIV/0!
B10: GAS 91 | C10: =+ขายรวม!J5 -> 0 | D10: =+ขายรวม!J14 -> 0 | E10: =+ขายรวม!J27 -> 0 | F10: =+ขายรวม!J36 -> 0 | G10: =+C10-E10 -> 0 | H10: =+D10-F10 -> 0 | I10: =+D10/C10 -> #DIV/0! | J10: =+F10/E10 -> #DIV/0!
B11: DIESEL B7 | C11: =+ขายรวม!J6 -> 0 | D11: =+ขายรวม!J15 -> 0 | E11: =+ขายรวม!J28 -> 0 | F11: =+ขายรวม!J37 -> 0 | G11: =+C11-E11 -> 0 | H11: =+D11-F11 -> 0 | I11: =+D11/C11 -> #DIV/0! | J11: =+F11/E11 -> #DIV/0!
B12: P_DIESEL-B7 | C12: =+ขายรวม!J7 -> 0 | D12: =+ขายรวม!J16 -> 0 | E12: =+ขายรวม!J29 -> 0 | F12: =+ขายรวม!J38 -> 0 | G12: =+C12-E12 -> 0 | H12: =+D12-F12 -> 0
B13: รวม | C13: =SUM(C8:C12) -> 0 | D13: =SUM(D8:D12) -> 0 | E13: =SUM(E8:E12) -> 0 | F13: =SUM(F8:F12) -> 0 | G13: =SUM(G8:G12) -> 0 | H13: =SUM(H8:H12) -> 0
C14: ภาษีขาย 7% | D14: =+ROUND((D13*7)/107,2) -> 0
H16: =+เลขที่เอกสาร!H2 -> HS6710008
C17: =+C2 -> เพจ ระบบบัญชีปั้มน้ำมัน
C18: =+C3 -> สรุปยอดขายเงินสด - เงินเชื่อ
C19: =+C4+1 -> 45573
B21: ชนิดน้ำมัน | C21: ยอดขายรวม | E21: ขายเงินเชื่อ ขายคูปอง | G21: ขายเงินสด
C22: ลิตร | D22: บาท | E22: ลิตร | F22: บาท | G22: ลิตร | H22: บาท
B23: GAS 95 | C23: =+ขายรวม!K3 -> 0 | D23: =+ขายรวม!K12 -> 0 | E23: =+ขายรวม!K25 -> 0 | F23: =+ขายรวม!K34 -> 0 | G23: =+C23-E23 -> 0 | H23: =+D23-F23 -> 0 | I23: =+D23/C23 -> #DIV/0! | J23: =+F23/E23 -> #DIV/0!
B24: E20 | C24: =+ขายรวม!K4 -> 0 | D24: =+ขายรวม!K13 -> 0 | E24: =+ขายรวม!K26 -> 0 | F24: =+ขายรวม!K35 -> 0 | G24: =+C24-E24 -> 0 | H24: =+D24-F24 -> 0 | I24: =+D24/C24 -> #DIV/0! | J24: =+F24/E24 -> #DIV/0!
B25: GAS 91 | C25: =+ขายรวม!K5 -> 0 | D25: =+ขายรวม!K14 -> 0 | E25: =+ขายรวม!K27 -> 0 | F25: =+ขายรวม!K36 -> 0 | G25: =+C25-E25 -> 0 | H25: =+D25-F25 -> 0 | I25: =+D25/C25 -> #DIV/0! | J25: =+F25/E25 -> #DIV/0!
B26: DIESEL B7 | C26: =+ขายรวม!K6 -> 0 | D26: =+ขายรวม!K15 -> 0 | E26: =+ขายรวม!K28 -> 0 | F26: =+ขายรวม!K37 -> 0 | G26: =+C26-E26 -> 0 | H26: =+D26-F26 -> 0 | I26: =+D26/C26 -> #DIV/0! | J26: =+F26/E26 -> #DIV/0!
B27: P_DIESEL-B7 | C27: =+ขายรวม!K7 -> 0 | D27: =+ขายรวม!K16 -> 0 | E27: =+ขายรวม!K29 -> 0 | F27: =+ขายรวม!K38 -> 0 | G27: =+C27-E27 -> 0 | H27: =+D27-F27 -> 0
B28: รวม | C28: =SUM(C23:C27) -> 0 | D28: =SUM(D23:D27) -> 0 | E28: =SUM(E23:E27) -> 0 | F28: =SUM(F23:F27) -> 0 | G28: =SUM(G23:G27) -> 0 | H28: =SUM(H23:H27) -> 0
C29: ภาษีขาย 7% | D29: =+ROUND((D28*7)/107,2) -> 0

Sheet 9 10
H1: =+เลขที่เอกสาร!I2 -> HS6710009
C2: เพจ ระบบบัญชีปั้มน้ำมัน
C3: สรุปยอดขายเงินสด - เงินเชื่อ
C4: =+'7 8'!C19:G19+1 -> 45574
B6: ชนิดน้ำมัน | C6: ยอดขายรวม | E6: ขายเงินเชื่อ ขายคูปอง | G6: ขายเงินสด
C7: ลิตร | D7: บาท | E7: ลิตร | F7: บาท | G7: ลิตร | H7: บาท
B8: GAS 95 | C8: =+ขายรวม!L3 -> 0 | D8: =+ขายรวม!L12 -> 0 | E8: =+ขายรวม!L25 -> 0 | F8: =+ขายรวม!L34 -> 0 | G8: =+C8-E8 -> 0 | H8: =+D8-F8 -> 0 | I8: =+D8/C8 -> #DIV/0! | J8: =+F8/E8 -> #DIV/0!
B9: E20 | C9: =+ขายรวม!L4 -> 0 | D9: =+ขายรวม!L13 -> 0 | E9: =+ขายรวม!L26 -> 0 | F9: =+ขายรวม!L35 -> 0 | G9: =+C9-E9 -> 0 | H9: =+D9-F9 -> 0 | I9: =+D9/C9 -> #DIV/0! | J9: =+F9/E9 -> #DIV/0!
B10: GAS 91 | C10: =+ขายรวม!L5 -> 0 | D10: =+ขายรวม!L14 -> 0 | E10: =+ขายรวม!L27 -> 0 | F10: =+ขายรวม!L36 -> 0 | G10: =+C10-E10 -> 0 | H10: =+D10-F10 -> 0 | I10: =+D10/C10 -> #DIV/0! | J10: =+F10/E10 -> #DIV/0!
B11: DIESEL B7 | C11: =+ขายรวม!L6 -> 0 | D11: =+ขายรวม!L15 -> 0 | E11: =+ขายรวม!L28 -> 0 | F11: =+ขายรวม!L37 -> 0 | G11: =+C11-E11 -> 0 | H11: =+D11-F11 -> 0 | I11: =+D11/C11 -> #DIV/0! | J11: =+F11/E11 -> #DIV/0!
B12: P_DIESEL-B7 | C12: =+ขายรวม!L7 -> 0 | D12: =+ขายรวม!L16 -> 0 | E12: =+ขายรวม!L29 -> 0 | F12: =+ขายรวม!L38 -> 0 | G12: =+C12-E12 -> 0 | H12: =+D12-F12 -> 0
B13: รวม | C13: =SUM(C8:C12) -> 0 | D13: =SUM(D8:D12) -> 0 | E13: =SUM(E8:E12) -> 0 | F13: =SUM(F8:F12) -> 0 | G13: =SUM(G8:G12) -> 0 | H13: =SUM(H8:H11) -> 0
C14: ภาษีขาย 7% | D14: =+ROUND((D13*7)/107,2) -> 0
H16: =+เลขที่เอกสาร!J2 -> HS6710010
C17: =+C2 -> เพจ ระบบบัญชีปั้มน้ำมัน
C18: =+C3 -> สรุปยอดขายเงินสด - เงินเชื่อ
C19: =+C4+1 -> 45575
B21: ชนิดน้ำมัน | C21: ยอดขายรวม | E21: ขายเงินเชื่อ ขายคูปอง | G21: ขายเงินสด
C22: ลิตร | D22: บาท | E22: ลิตร | F22: บาท | G22: ลิตร | H22: บาท
B23: GAS 95 | C23: =+ขายรวม!M3 -> 0 | D23: =+ขายรวม!M12 -> 0 | E23: =+ขายรวม!M25 -> 0 | F23: =+ขายรวม!M34 -> 0 | G23: =+C23-E23 -> 0 | H23: =+D23-F23 -> 0 | I23: =+D23/C23 -> #DIV/0! | J23: =+F23/E23 -> #DIV/0!
B24: E20 | C24: =+ขายรวม!M4 -> 0 | D24: =+ขายรวม!M13 -> 0 | E24: =+ขายรวม!M26 -> 0 | F24: =+ขายรวม!M35 -> 0 | G24: =+C24-E24 -> 0 | H24: =+D24-F24 -> 0 | I24: =+D24/C24 -> #DIV/0! | J24: =+F24/E24 -> #DIV/0!
B25: GAS 91 | C25: =+ขายรวม!M5 -> 0 | D25: =+ขายรวม!M14 -> 0 | E25: =+ขายรวม!M27 -> 0 | F25: =+ขายรวม!M36 -> 0 | G25: =+C25-E25 -> 0 | H25: =+D25-F25 -> 0 | I25: =+D25/C25 -> #DIV/0! | J25: =+F25/E25 -> #DIV/0!
B26: DIESEL B7 | C26: =+ขายรวม!M6 -> 0 | D26: =+ขายรวม!M15 -> 0 | E26: =+ขายรวม!M28 -> 0 | F26: =+ขายรวม!M37 -> 0 | G26: =+C26-E26 -> 0 | H26: =+D26-F26 -> 0 | I26: =+D26/C26 -> #DIV/0! | J26: =+F26/E26 -> #DIV/0!
B27: P_DIESEL-B7 | C27: =+ขายรวม!M7 -> 0 | D27: =+ขายรวม!M16 -> 0 | E27: =+ขายรวม!M29 -> 0 | F27: =+ขายรวม!M38 -> 0 | G27: =+C27-E27 -> 0 | H27: =+D27-F27 -> 0
B28: รวม | C28: =SUM(C23:C27) -> 0 | D28: =SUM(D23:D27) -> 0 | E28: =SUM(E23:E27) -> 0 | F28: =SUM(F23:F27) -> 0 | G28: =SUM(G23:G27) -> 0 | H28: =SUM(H23:H26) -> 0
C29: ภาษีขาย 7% | D29: =+ROUND((D28*7)/107,2) -> 0

Sheet 11 12
H1: =+เลขที่เอกสาร!K2 -> HS6710011
C2: เพจ ระบบบัญชีปั้มน้ำมัน
C3: สรุปยอดขายเงินสด - เงินเชื่อ
C4: =+'9 10'!C19:G19+1 -> 45576
B6: ชนิดน้ำมัน | C6: ยอดขายรวม | E6: ขายเงินเชื่อ ขายคูปอง | G6: ขายเงินสด
C7: ลิตร | D7: บาท | E7: ลิตร | F7: บาท | G7: ลิตร | H7: บาท
B8: GAS 95 | C8: =+ขายรวม!N3 -> 0 | D8: =+ขายรวม!N12 -> 0 | E8: =+ขายรวม!N25 -> 0 | F8: =+ขายรวม!N34 -> 0 | G8: =+C8-E8 -> 0 | H8: =+D8-F8 -> 0 | I8: =+D8/C8 -> #DIV/0! | J8: =+F8/E8 -> #DIV/0!
B9: E20 | C9: =+ขายรวม!N4 -> 0 | D9: =+ขายรวม!N13 -> 0 | E9: =+ขายรวม!N26 -> 0 | F9: =+ขายรวม!N35 -> 0 | G9: =+C9-E9 -> 0 | H9: =+D9-F9 -> 0 | I9: =+D9/C9 -> #DIV/0! | J9: =+F9/E9 -> #DIV/0!
B10: GAS 91 | C10: =+ขายรวม!N5 -> 0 | D10: =+ขายรวม!N14 -> 0 | E10: =+ขายรวม!N27 -> 0 | F10: =+ขายรวม!N36 -> 0 | G10: =+C10-E10 -> 0 | H10: =+D10-F10 -> 0 | I10: =+D10/C10 -> #DIV/0! | J10: =+F10/E10 -> #DIV/0!
B11: DIESEL B7 | C11: =+ขายรวม!N6 -> 0 | D11: =+ขายรวม!N15 -> 0 | E11: =+ขายรวม!N28 -> 0 | F11: =+ขายรวม!N37 -> 0 | G11: =+C11-E11 -> 0 | H11: =+D11-F11 -> 0 | I11: =+D11/C11 -> #DIV/0! | J11: =+F11/E11 -> #DIV/0!
B12: P_DIESEL-B7 | C12: =+ขายรวม!N7 -> 0 | D12: =+ขายรวม!N16 -> 0 | E12: =+ขายรวม!N29 -> 0 | F12: =+ขายรวม!N38 -> 0 | G12: =+C12-E12 -> 0 | H12: =+D12-F12 -> 0
B13: รวม | C13: =SUM(C8:C12) -> 0 | D13: =SUM(D8:D12) -> 0 | E13: =SUM(E8:E12) -> 0 | F13: =SUM(F8:F12) -> 0 | G13: =SUM(G8:G12) -> 0 | H13: =SUM(H8:H11) -> 0
C14: ภาษีขาย 7% | D14: =+#REF!*0.0654205607476635 -> #REF!
H16: =+เลขที่เอกสาร!L2 -> HS6710012
C17: =+C2 -> เพจ ระบบบัญชีปั้มน้ำมัน
C18: =+C3 -> สรุปยอดขายเงินสด - เงินเชื่อ
C19: =+C4+1 -> 45577
B21: ชนิดน้ำมัน | C21: ยอดขายรวม | E21: ขายเงินเชื่อ ขายคูปอง | G21: ขายเงินสด
C22: ลิตร | D22: บาท | E22: ลิตร | F22: บาท | G22: ลิตร | H22: บาท
B23: GAS 95 | C23: =+ขายรวม!O3 -> 0 | D23: =+ขายรวม!O12 -> 0 | E23: =+ขายรวม!O25 -> 0 | F23: =+ขายรวม!O34 -> 0 | G23: =+C23-E23 -> 0 | H23: =+D23-F23 -> 0 | I23: =+D23/C23 -> #DIV/0! | J23: =+F23/E23 -> #DIV/0!
B24: E20 | C24: =+ขายรวม!O4 -> 0 | D24: =+ขายรวม!O13 -> 0 | E24: =+ขายรวม!O26 -> 0 | F24: =+ขายรวม!O35 -> 0 | G24: =+C24-E24 -> 0 | H24: =+D24-F24 -> 0 | I24: =+D24/C24 -> #DIV/0! | J24: =+F24/E24 -> #DIV/0!
B25: GAS 91 | C25: =+ขายรวม!O5 -> 0 | D25: =+ขายรวม!O14 -> 0 | E25: =+ขายรวม!O27 -> 0 | F25: =+ขายรวม!O36 -> 0 | G25: =+C25-E25 -> 0 | H25: =+D25-F25 -> 0 | I25: =+D25/C25 -> #DIV/0! | J25: =+F25/E25 -> #DIV/0!
B26: DIESEL B7 | C26: =+ขายรวม!O6 -> 0 | D26: =+ขายรวม!O15 -> 0 | E26: =+ขายรวม!O28 -> 0 | F26: =+ขายรวม!O37 -> 0 | G26: =+C26-E26 -> 0 | H26: =+D26-F26 -> 0 | I26: =+D26/C26 -> #DIV/0! | J26: =+F26/E26 -> #DIV/0!
B27: P_DIESEL-B7 | C27: =+ขายรวม!O7 -> 0 | D27: =+ขายรวม!O16 -> 0 | E27: =+ขายรวม!O29 -> 0 | F27: =+ขายรวม!O38 -> 0 | G27: =+C27-E27 -> 0 | H27: =+D27-F27 -> 0
B28: รวม | C28: =SUM(C24:C27) -> 0 | D28: =SUM(D24:D27) -> 0 | E28: =SUM(E24:E27) -> 0 | F28: =SUM(F24:F27) -> 0 | G28: =SUM(G24:G27) -> 0 | H28: =SUM(H24:H27) -> 0
C29: ภาษีขาย 7% | D29: =+#REF!*0.0654205607476635 -> #REF!

Sheet 13 14
H1: =+เลขที่เอกสาร!M2 -> HS6710013
C2: เพจ ระบบบัญชีปั้มน้ำมัน
C3: สรุปยอดขายเงินสด - เงินเชื่อ
C4: =+'11 12'!C19:G19+1 -> 45578
B6: ชนิดน้ำมัน | C6: ยอดขายรวม | E6: ขายเงินเชื่อ ขายคูปอง | G6: ขายเงินสด
C7: ลิตร | D7: บาท | E7: ลิตร | F7: บาท | G7: ลิตร | H7: บาท
B8: GAS 95 | C8: =+ขายรวม!P3 -> 0 | D8: =+ขายรวม!P12 -> 0 | E8: =+ขายรวม!P25 -> 0 | F8: =+ขายรวม!P34 -> 0 | G8: =+C8-E8 -> 0 | H8: =+D8-F8 -> 0 | I8: =+D8/C8 -> #DIV/0! | J8: =+F8/E8 -> #DIV/0!
B9: E20 | C9: =+ขายรวม!P4 -> 0 | D9: =+ขายรวม!P13 -> 0 | E9: =+ขายรวม!P26 -> 0 | F9: =+ขายรวม!P35 -> 0 | G9: =+C9-E9 -> 0 | H9: =+D9-F9 -> 0 | I9: =+D9/C9 -> #DIV/0! | J9: =+F9/E9 -> #DIV/0!
B10: GAS 91 | C10: =+ขายรวม!P5 -> 0 | D10: =+ขายรวม!P14 -> 0 | E10: =+ขายรวม!P27 -> 0 | F10: =+ขายรวม!P36 -> 0 | G10: =+C10-E10 -> 0 | H10: =+D10-F10 -> 0 | I10: =+D10/C10 -> #DIV/0! | J10: =+F10/E10 -> #DIV/0!
B11: DIESEL B7 | C11: =+ขายรวม!P6 -> 0 | D11: =+ขายรวม!P15 -> 0 | E11: =+ขายรวม!P28 -> 0 | F11: =+ขายรวม!P37 -> 0 | G11: =+C11-E11 -> 0 | H11: =+D11-F11 -> 0 | I11: =+D11/C11 -> #DIV/0! | J11: =+F11/E11 -> #DIV/0!
B12: P_DIESEL-B7 | C12: =+ขายรวม!P7 -> 0 | D12: =+ขายรวม!P16 -> 0 | E12: =+ขายรวม!P29 -> 0 | F12: =+ขายรวม!P38 -> 0 | G12: =+C12-E12 -> 0 | H12: =+D12-F12 -> 0
B13: รวม | C13: =SUM(C8:C12) -> 0 | D13: =SUM(D8:D12) -> 0 | E13: =SUM(E8:E12) -> 0 | F13: =SUM(F8:F12) -> 0 | G13: =SUM(G8:G12) -> 0 | H13: =SUM(H8:H11) -> 0
C14: ภาษีขาย 7% | D14: =+#REF!*0.0654205607476635 -> #REF!
H16: =+เลขที่เอกสาร!N2 -> HS6710014
C17: =+C2 -> เพจ ระบบบัญชีปั้มน้ำมัน
C18: =+C3 -> สรุปยอดขายเงินสด - เงินเชื่อ
C19: =+C4+1 -> 45579
B21: ชนิดน้ำมัน | C21: ยอดขายรวม | E21: ขายเงินเชื่อ ขายคูปอง | G21: ขายเงินสด
C22: ลิตร | D22: บาท | E22: ลิตร | F22: บาท | G22: ลิตร | H22: บาท
B23: DIESEL-B7 | C23: =+ขายรวม!Q3 -> 0 | D23: =+ขายรวม!Q12 -> 0 | E23: =+ขายรวม!Q25 -> 0 | F23: =+ขายรวม!Q34 -> 0 | G23: =+C23-E23 -> 0 | H23: =+D23-F23 -> 0 | I23: =+D23/C23 -> #DIV/0! | J23: =+F23/E23 -> #DIV/0!
B24: GAS 95 | C24: =+ขายรวม!Q4 -> 0 | D24: =+ขายรวม!Q13 -> 0 | E24: =+ขายรวม!Q26 -> 0 | F24: =+ขายรวม!Q35 -> 0 | G24: =+C24-E24 -> 0 | H24: =+D24-F24 -> 0 | I24: =+D24/C24 -> #DIV/0! | J24: =+F24/E24 -> #DIV/0!
B25: E20 | C25: =+ขายรวม!Q5 -> 0 | D25: =+ขายรวม!Q14 -> 0 | E25: =+ขายรวม!Q27 -> 0 | F25: =+ขายรวม!Q36 -> 0 | G25: =+C25-E25 -> 0 | H25: =+D25-F25 -> 0 | I25: =+D25/C25 -> #DIV/0! | J25: =+F25/E25 -> #DIV/0!
B26: GAS 91 | C26: =+ขายรวม!Q6 -> 0 | D26: =+ขายรวม!Q15 -> 0 | E26: =+ขายรวม!Q28 -> 0 | F26: =+ขายรวม!Q37 -> 0 | G26: =+C26-E26 -> 0 | H26: =+D26-F26 -> 0 | I26: =+D26/C26 -> #DIV/0! | J26: =+F26/E26 -> #DIV/0!
B27: DIESEL B7 | C27: =+ขายรวม!Q7 -> 0 | D27: =+ขายรวม!Q16 -> 0 | E27: =+ขายรวม!Q29 -> 0 | F27: =+ขายรวม!Q38 -> 0 | G27: =+C27-E27 -> 0 | H27: =+D27-F27 -> 0
B28: รวม | C28: =SUM(C24:C27) -> 0 | D28: =SUM(D24:D27) -> 0 | E28: =SUM(E24:E27) -> 0 | F28: =SUM(F24:F27) -> 0 | G28: =SUM(G24:G27) -> 0 | H28: =SUM(H24:H27) -> 0
C29: ภาษีขาย 7% | D29: =+#REF!*0.0654205607476635 -> #REF!

Sheet 15 16
H1: =+เลขที่เอกสาร!O2 -> HS6710015
C2: เพจ ระบบบัญชีปั้มน้ำมัน
C3: สรุปยอดขายเงินสด - เงินเชื่อ
C4: =+'13 14'!C19:G19+1 -> 45580
B6: ชนิดน้ำมัน | C6: ยอดขายรวม | E6: ขายเงินเชื่อ ขายคูปอง | G6: ขายเงินสด
C7: ลิตร | D7: บาท | E7: ลิตร | F7: บาท | G7: ลิตร | H7: บาท
B8: GAS 95 | C8: =+ขายรวม!R3 -> 0 | D8: =+ขายรวม!R12 -> 0 | E8: =+ขายรวม!R25 -> 0 | F8: =+ขายรวม!R34 -> 0 | G8: =+C8-E8 -> 0 | H8: =+D8-F8 -> 0 | I8: =+D8/C8 -> #DIV/0! | J8: =+F8/E8 -> #DIV/0!
B9: E20 | C9: =+ขายรวม!R4 -> 0 | D9: =+ขายรวม!R13 -> 0 | E9: =+ขายรวม!R26 -> 0 | F9: =+ขายรวม!R35 -> 0 | G9: =+C9-E9 -> 0 | H9: =+D9-F9 -> 0 | I9: =+D9/C9 -> #DIV/0! | J9: =+F9/E9 -> #DIV/0!
B10: GAS 91 | C10: =+ขายรวม!R5 -> 0 | D10: =+ขายรวม!R14 -> 0 | E10: =+ขายรวม!R27 -> 0 | F10: =+ขายรวม!R36 -> 0 | G10: =+C10-E10 -> 0 | H10: =+D10-F10 -> 0 | I10: =+D10/C10 -> #DIV/0! | J10: =+F10/E10 -> #DIV/0!
B11: DIESEL B7 | C11: =+ขายรวม!R6 -> 0 | D11: =+ขายรวม!R15 -> 0 | E11: =+ขายรวม!R28 -> 0 | F11: =+ขายรวม!R37 -> 0 | G11: =+C11-E11 -> 0 | H11: =+D11-F11 -> 0 | I11: =+D11/C11 -> #DIV/0! | J11: =+F11/E11 -> #DIV/0!
B12: P_DIESEL-B7 | C12: =+ขายรวม!R7 -> 0 | D12: =+ขายรวม!R16 -> 0 | E12: =+ขายรวม!R29 -> 0 | F12: =+ขายรวม!R38 -> 0 | G12: =+C12-E12 -> 0 | H12: =+D12-F12 -> 0
B13: รวม | C13: =SUM(C8:C12) -> 0 | D13: =SUM(D8:D12) -> 0 | E13: =SUM(E8:E12) -> 0 | F13: =SUM(F8:F12) -> 0 | G13: =SUM(G8:G12) -> 0 | H13: =SUM(H8:H11) -> 0
C14: ภาษีขาย 7% | D14: =+#REF!*0.0654205607476635 -> #REF!
H16: =+เลขที่เอกสาร!P2 -> HS6710016
C17: =+C2 -> เพจ ระบบบัญชีปั้มน้ำมัน
C18: =+C3 -> สรุปยอดขายเงินสด - เงินเชื่อ
C19: =+C4+1 -> 45581
B21: ชนิดน้ำมัน | C21: ยอดขายรวม | E21: ขายเงินเชื่อ ขายคูปอง | G21: ขายเงินสด
C22: ลิตร | D22: บาท | E22: ลิตร | F22: บาท | G22: ลิตร | H22: บาท
B23: DIESEL-B7 | C23: =+ขายรวม!S3 -> 0 | D23: =+ขายรวม!S12 -> 0 | E23: =+ขายรวม!S25 -> 0 | F23: =+ขายรวม!S34 -> 0 | G23: =+C23-E23 -> 0 | H23: =+D23-F23 -> 0 | I23: =+D23/C23 -> #DIV/0! | J23: =+F23/E23 -> #DIV/0!
B24: GAS 95 | C24: =+ขายรวม!S4 -> 0 | D24: =+ขายรวม!S13 -> 0 | E24: =+ขายรวม!S26 -> 0 | F24: =+ขายรวม!S35 -> 0 | G24: =+C24-E24 -> 0 | H24: =+D24-F24 -> 0 | I24: =+D24/C24 -> #DIV/0! | J24: =+F24/E24 -> #DIV/0!
B25: E20 | C25: =+ขายรวม!S5 -> 0 | D25: =+ขายรวม!S14 -> 0 | E25: =+ขายรวม!S27 -> 0 | F25: =+ขายรวม!S36 -> 0 | G25: =+C25-E25 -> 0 | H25: =+D25-F25 -> 0 | I25: =+D25/C25 -> #DIV/0! | J25: =+F25/E25 -> #DIV/0!
B26: GAS 91 | C26: =+ขายรวม!S6 -> 0 | D26: =+ขายรวม!S15 -> 0 | E26: =+ขายรวม!S28 -> 0 | F26: =+ขายรวม!S37 -> 0 | G26: =+C26-E26 -> 0 | H26: =+D26-F26 -> 0 | I26: =+D26/C26 -> #DIV/0! | J26: =+F26/E26 -> #DIV/0!
B27: DIESEL B7 | C27: =+ขายรวม!S7 -> 0 | D27: =+ขายรวม!S16 -> 0 | E27: =+ขายรวม!S29 -> 0 | F27: =+ขายรวม!S38 -> 0 | G27: =+C27-E27 -> 0 | H27: =+D27-F27 -> 0
B28: รวม | C28: =SUM(C24:C27) -> 0 | D28: =SUM(D24:D27) -> 0 | E28: =SUM(E24:E27) -> 0 | F28: =SUM(F24:F27) -> 0 | G28: =SUM(G24:G27) -> 0 | H28: =SUM(H24:H27) -> 0
C29: ภาษีขาย 7% | D29: =+#REF!*0.0654205607476635 -> #REF!

Sheet 17 18
H1: =+เลขที่เอกสาร!Q2 -> HS6710017
C2: เพจ ระบบบัญชีปั้มน้ำมัน
C3: สรุปยอดขายเงินสด - เงินเชื่อ
C4: =+'15 16'!C19:G19+1 -> 45582
B6: ชนิดน้ำมัน | C6: ยอดขายรวม | E6: ขายเงินเชื่อ ขายคูปอง | G6: ขายเงินสด
C7: ลิตร | D7: บาท | E7: ลิตร | F7: บาท | G7: ลิตร | H7: บาท
B8: GAS 95 | C8: =+ขายรวม!T3 -> 0 | D8: =+ขายรวม!T12 -> 0 | E8: =+ขายรวม!T25 -> 0 | F8: =+ขายรวม!T34 -> 0 | G8: =+C8-E8 -> 0 | H8: =+D8-F8 -> 0 | I8: =+D8/C8 -> #DIV/0! | J8: =+F8/E8 -> #DIV/0!
B9: E20 | C9: =+ขายรวม!T4 -> 0 | D9: =+ขายรวม!T13 -> 0 | E9: =+ขายรวม!T26 -> 0 | F9: =+ขายรวม!T35 -> 0 | G9: =+C9-E9 -> 0 | H9: =+D9-F9 -> 0 | I9: =+D9/C9 -> #DIV/0! | J9: =+F9/E9 -> #DIV/0!
B10: GAS 91 | C10: =+ขายรวม!T5 -> 0 | D10: =+ขายรวม!T14 -> 0 | E10: =+ขายรวม!T27 -> 0 | F10: =+ขายรวม!T36 -> 0 | G10: =+C10-E10 -> 0 | H10: =+D10-F10 -> 0 | I10: =+D10/C10 -> #DIV/0! | J10: =+F10/E10 -> #DIV/0!
B11: DIESEL B7 | C11: =+ขายรวม!T6 -> 0 | D11: =+ขายรวม!T15 -> 0 | E11: =+ขายรวม!T28 -> 0 | F11: =+ขายรวม!T37 -> 0 | G11: =+C11-E11 -> 0 | H11: =+D11-F11 -> 0 | I11: =+D11/C11 -> #DIV/0! | J11: =+F11/E11 -> #DIV/0!
B12: P_DIESEL-B7 | C12: =+ขายรวม!T7 -> 0 | D12: =+ขายรวม!T16 -> 0 | E12: =+ขายรวม!T29 -> 0 | F12: =+ขายรวม!T38 -> 0 | G12: =+C12-E12 -> 0 | H12: =+D12-F12 -> 0
B13: รวม | C13: =SUM(C8:C12) -> 0 | D13: =SUM(D8:D12) -> 0 | E13: =SUM(E8:E12) -> 0 | F13: =SUM(F8:F12) -> 0 | G13: =SUM(G8:G12) -> 0 | H13: =SUM(H8:H11) -> 0
C14: ภาษีขาย 7% | D14: =+#REF!*0.0654205607476635 -> #REF!
H16: =+เลขที่เอกสาร!R2 -> HS6710018
C17: =+C2 -> เพจ ระบบบัญชีปั้มน้ำมัน
C18: =+C3 -> สรุปยอดขายเงินสด - เงินเชื่อ
C19: =+C4+1 -> 45583
B21: ชนิดน้ำมัน | C21: ยอดขายรวม | E21: ขายเงินเชื่อ ขายคูปอง | G21: ขายเงินสด
C22: ลิตร | D22: บาท | E22: ลิตร | F22: บาท | G22: ลิตร | H22: บาท
B23: GAS 95 | C23: =+ขายรวม!U3 -> 0 | D23: =+ขายรวม!U12 -> 0 | E23: =+ขายรวม!U25 -> 0 | F23: =+ขายรวม!U34 -> 0 | G23: =+C23-E23 -> 0 | H23: =+D23-F23 -> 0 | I23: =+D23/C23 -> #DIV/0! | J23: =+F23/E23 -> #DIV/0!
B24: E20 | C24: =+ขายรวม!U4 -> 0 | D24: =+ขายรวม!U13 -> 0 | E24: =+ขายรวม!U26 -> 0 | F24: =+ขายรวม!U35 -> 0 | G24: =+C24-E24 -> 0 | H24: =+D24-F24 -> 0 | I24: =+D24/C24 -> #DIV/0! | J24: =+F24/E24 -> #DIV/0!
B25: GAS 91 | C25: =+ขายรวม!U5 -> 0 | D25: =+ขายรวม!U14 -> 0 | E25: =+ขายรวม!U27 -> 0 | F25: =+ขายรวม!U36 -> 0 | G25: =+C25-E25 -> 0 | H25: =+D25-F25 -> 0 | I25: =+D25/C25 -> #DIV/0! | J25: =+F25/E25 -> #DIV/0!
B26: DIESEL B7 | C26: =+ขายรวม!U6 -> 0 | D26: =+ขายรวม!U15 -> 0 | E26: =+ขายรวม!U28 -> 0 | F26: =+ขายรวม!U37 -> 0 | G26: =+C26-E26 -> 0 | H26: =+D26-F26 -> 0 | I26: =+D26/C26 -> #DIV/0! | J26: =+F26/E26 -> #DIV/0!
B27: P_DIESEL-B7 | C27: =+ขายรวม!U7 -> 0 | D27: =+ขายรวม!U16 -> 0 | E27: =+ขายรวม!U29 -> 0 | F27: =+ขายรวม!U38 -> 0 | G27: =+C27-E27 -> 0 | H27: =+D27-F27 -> 0
B28: รวม | C28: =SUM(C24:C27) -> 0 | D28: =SUM(D24:D27) -> 0 | E28: =SUM(E24:E27) -> 0 | F28: =SUM(F24:F27) -> 0 | G28: =SUM(G24:G27) -> 0 | H28: =SUM(H24:H27) -> 0
C29: ภาษีขาย 7% | D29: =+#REF!*0.0654205607476635 -> #REF!

Sheet 19 20
H1: =+เลขที่เอกสาร!S2 -> HS6710019
C2: เพจ ระบบบัญชีปั้มน้ำมัน
C3: สรุปยอดขายเงินสด - เงินเชื่อ
C4: =+'17 18'!C19:G19+1 -> 45584
B6: ชนิดน้ำมัน | C6: ยอดขายรวม | E6: ขายเงินเชื่อ ขายคูปอง | G6: ขายเงินสด
C7: ลิตร | D7: บาท | E7: ลิตร | F7: บาท | G7: ลิตร | H7: บาท
B8: GAS 95 | C8: =+ขายรวม!V3 -> 0 | D8: =+ขายรวม!V12 -> 0 | E8: =+ขายรวม!V25 -> 0 | F8: =+ขายรวม!V34 -> 0 | G8: =+C8-E8 -> 0 | H8: =+D8-F8 -> 0 | I8: =+D8/C8 -> #DIV/0! | J8: =+F8/E8 -> #DIV/0!
B9: E20 | C9: =+ขายรวม!V4 -> 0 | D9: =+ขายรวม!V13 -> 0 | E9: =+ขายรวม!V26 -> 0 | F9: =+ขายรวม!V35 -> 0 | G9: =+C9-E9 -> 0 | H9: =+D9-F9 -> 0 | I9: =+D9/C9 -> #DIV/0! | J9: =+F9/E9 -> #DIV/0!
B10: GAS 91 | C10: =+ขายรวม!V5 -> 0 | D10: =+ขายรวม!V14 -> 0 | E10: =+ขายรวม!V27 -> 0 | F10: =+ขายรวม!V36 -> 0 | G10: =+C10-E10 -> 0 | H10: =+D10-F10 -> 0 | I10: =+D10/C10 -> #DIV/0! | J10: =+F10/E10 -> #DIV/0!
B11: DIESEL B7 | C11: =+ขายรวม!V6 -> 0 | D11: =+ขายรวม!V15 -> 0 | E11: =+ขายรวม!V28 -> 0 | F11: =+ขายรวม!V37 -> 0 | G11: =+C11-E11 -> 0 | H11: =+D11-F11 -> 0 | I11: =+D11/C11 -> #DIV/0! | J11: =+F11/E11 -> #DIV/0!
B12: P_DIESEL-B7 | C12: =+ขายรวม!V7 -> 0 | D12: =+ขายรวม!V16 -> 0 | E12: =+ขายรวม!V29 -> 0 | F12: =+ขายรวม!V38 -> 0 | G12: =+C12-E12 -> 0 | H12: =+D12-F12 -> 0
B13: รวม | C13: =SUM(C8:C12) -> 0 | D13: =SUM(D8:D12) -> 0 | E13: =SUM(E8:E12) -> 0 | F13: =SUM(F8:F12) -> 0 | G13: =SUM(G8:G12) -> 0 | H13: =SUM(H8:H11) -> 0
C14: ภาษีขาย 7% | D14: =+#REF!*0.0654205607476635 -> #REF!
H16: =+เลขที่เอกสาร!T2 -> HS6710020
C17: =+C2 -> เพจ ระบบบัญชีปั้มน้ำมัน
C18: =+C3 -> สรุปยอดขายเงินสด - เงินเชื่อ
C19: =+C4+1 -> 45585
B21: ชนิดน้ำมัน | C21: ยอดขายรวม | E21: ขายเงินเชื่อ ขายคูปอง | G21: ขายเงินสด
C22: ลิตร | D22: บาท | E22: ลิตร | F22: บาท | G22: ลิตร | H22: บาท
B23: GAS 95 | C23: =+ขายรวม!W3 -> 0 | D23: =+ขายรวม!W12 -> 0 | E23: =+ขายรวม!W25 -> 0 | F23: =+ขายรวม!W34 -> 0 | G23: =+C23-E23 -> 0 | H23: =+D23-F23 -> 0 | I23: =+D23/C23 -> #DIV/0! | J23: =+F23/E23 -> #DIV/0!
B24: E20 | C24: =+ขายรวม!W4 -> 0 | D24: =+ขายรวม!W13 -> 0 | E24: =+ขายรวม!W26 -> 0 | F24: =+ขายรวม!W35 -> 0 | G24: =+C24-E24 -> 0 | H24: =+D24-F24 -> 0 | I24: =+D24/C24 -> #DIV/0! | J24: =+F24/E24 -> #DIV/0!
B25: GAS 91 | C25: =+ขายรวม!W5 -> 0 | D25: =+ขายรวม!W14 -> 0 | E25: =+ขายรวม!W27 -> 0 | F25: =+ขายรวม!W36 -> 0 | G25: =+C25-E25 -> 0 | H25: =+D25-F25 -> 0 | I25: =+D25/C25 -> #DIV/0! | J25: =+F25/E25 -> #DIV/0!
B26: DIESEL B7 | C26: =+ขายรวม!W6 -> 0 | D26: =+ขายรวม!W15 -> 0 | E26: =+ขายรวม!W28 -> 0 | F26: =+ขายรวม!W37 -> 0 | G26: =+C26-E26 -> 0 | H26: =+D26-F26 -> 0 | I26: =+D26/C26 -> #DIV/0! | J26: =+F26/E26 -> #DIV/0!
B27: P_DIESEL-B7 | C27: =+ขายรวม!W7 -> 0 | D27: =+ขายรวม!W16 -> 0 | E27: =+ขายรวม!W29 -> 0 | F27: =+ขายรวม!W38 -> 0 | G27: =+C27-E27 -> 0 | H27: =+D27-F27 -> 0
B28: รวม | C28: =SUM(C24:C27) -> 0 | D28: =SUM(D24:D27) -> 0 | E28: =SUM(E24:E27) -> 0 | F28: =SUM(F24:F27) -> 0 | G28: =SUM(G24:G27) -> 0 | H28: =SUM(H24:H27) -> 0
C29: ภาษีขาย 7% | D29: =+#REF!*0.0654205607476635 -> #REF!

Sheet 21 22
H1: =+เลขที่เอกสาร!U2 -> HS6710021
C2: เพจ ระบบบัญชีปั้มน้ำมัน
C3: สรุปยอดขายเงินสด - เงินเชื่อ
C4: =+'19 20'!C19:G19+1 -> 45586
B6: ชนิดน้ำมัน | C6: ยอดขายรวม | E6: ขายเงินเชื่อ ขายคูปอง | G6: ขายเงินสด
C7: ลิตร | D7: บาท | E7: ลิตร | F7: บาท | G7: ลิตร | H7: บาท
B8: GAS 95 | C8: =+ขายรวม!X3 -> 0 | D8: =+ขายรวม!X12 -> 0 | E8: =+ขายรวม!X25 -> 0 | F8: =+ขายรวม!X34 -> 0 | G8: =+C8-E8 -> 0 | H8: =+D8-F8 -> 0 | I8: =+D8/C8 -> #DIV/0! | J8: =+F8/E8 -> #DIV/0!
B9: E20 | C9: =+ขายรวม!X4 -> 0 | D9: =+ขายรวม!X13 -> 0 | E9: =+ขายรวม!X26 -> 0 | F9: =+ขายรวม!X35 -> 0 | G9: =+C9-E9 -> 0 | H9: =+D9-F9 -> 0 | I9: =+D9/C9 -> #DIV/0! | J9: =+F9/E9 -> #DIV/0!
B10: GAS 91 | C10: =+ขายรวม!X5 -> 0 | D10: =+ขายรวม!X14 -> 0 | E10: =+ขายรวม!X27 -> 0 | F10: =+ขายรวม!X36 -> 0 | G10: =+C10-E10 -> 0 | H10: =+D10-F10 -> 0 | I10: =+D10/C10 -> #DIV/0! | J10: =+F10/E10 -> #DIV/0!
B11: DIESEL B7 | C11: =+ขายรวม!X6 -> 0 | D11: =+ขายรวม!X15 -> 0 | E11: =+ขายรวม!X28 -> 0 | F11: =+ขายรวม!X37 -> 0 | G11: =+C11-E11 -> 0 | H11: =+D11-F11 -> 0 | I11: =+D11/C11 -> #DIV/0! | J11: =+F11/E11 -> #DIV/0!
B12: P_DIESEL-B7 | C12: =+ขายรวม!X7 -> 0 | D12: =+ขายรวม!X16 -> 0 | E12: =+ขายรวม!X29 -> 0 | G12: =+C12-E12 -> 0 | H12: =+D12-F12 -> 0
B13: รวม | C13: =SUM(C8:C12) -> 0 | D13: =SUM(D8:D12) -> 0 | E13: =SUM(E8:E12) -> 0 | F13: =SUM(F8:F12) -> 0 | G13: =SUM(G8:G12) -> 0 | H13: =SUM(H8:H11) -> 0
C14: ภาษีขาย 7% | D14: =+#REF!*0.0654205607476635 -> #REF!
C15: ภาษีขาย 7%
H16: =+เลขที่เอกสาร!V2 -> HS6710022
C17: เพจ ระบบบัญชีปั้มน้ำมัน
C18: =+C3 -> สรุปยอดขายเงินสด - เงินเชื่อ
C19: =+C4+1 -> 45587
B21: ชนิดน้ำมัน | C21: ยอดขายรวม | E21: ขายเงินเชื่อ ขายคูปอง | G21: ขายเงินสด
C22: ลิตร | D22: บาท | E22: ลิตร | F22: บาท | G22: ลิตร | H22: บาท
B23: GAS 95 | C23: =+ขายรวม!Y3 -> 0 | D23: =+ขายรวม!Y12 -> 0 | E23: =+ขายรวม!Y25 -> 0 | F23: =+ขายรวม!Y34 -> 0 | G23: =+C23-E23 -> 0 | H23: =+D23-F23 -> 0 | I23: =+D23/C23 -> #DIV/0! | J23: =+F23/E23 -> #DIV/0!
B24: E20 | C24: =+ขายรวม!Y4 -> 0 | D24: =+ขายรวม!Y13 -> 0 | E24: =+ขายรวม!Y26 -> 0 | F24: =+ขายรวม!Y35 -> 0 | G24: =+C24-E24 -> 0 | H24: =+D24-F24 -> 0 | I24: =+D24/C24 -> #DIV/0! | J24: =+F24/E24 -> #DIV/0!
B25: GAS 91 | C25: =+ขายรวม!Y5 -> 0 | D25: =+ขายรวม!Y14 -> 0 | E25: =+ขายรวม!Y27 -> 0 | F25: =+ขายรวม!Y36 -> 0 | G25: =+C25-E25 -> 0 | H25: =+D25-F25 -> 0 | I25: =+D25/C25 -> #DIV/0! | J25: =+F25/E25 -> #DIV/0!
B26: DIESEL B7 | C26: =+ขายรวม!Y6 -> 0 | D26: =+ขายรวม!Y15 -> 0 | E26: =+ขายรวม!Y28 -> 0 | F26: =+ขายรวม!Y37 -> 0 | G26: =+C26-E26 -> 0 | H26: =+D26-F26 -> 0 | I26: =+D26/C26 -> #DIV/0! | J26: =+F26/E26 -> #DIV/0!
B27: P_DIESEL-B7 | C27: =+ขายรวม!Y7 -> 0 | D27: =+ขายรวม!Y16 -> 0 | E27: =+ขายรวม!Y29 -> 0 | F27: =+ขายรวม!Y38 -> 0 | G27: =+C27-E27 -> 0 | H27: =+D27-F27 -> 0
B28: รวม | C28: =SUM(C24:C27) -> 0 | D28: =SUM(D24:D27) -> 0 | E28: =SUM(E24:E27) -> 0 | F28: =SUM(F24:F27) -> 0 | G28: =SUM(G24:G27) -> 0 | H28: =SUM(H24:H27) -> 0
C29: ภาษีขาย 7% | D29: =+#REF!*0.0654205607476635 -> #REF!

Sheet 23 24
H1: =+เลขที่เอกสาร!W2 -> HS6710023
C2: เพจ ระบบบัญชีปั้มน้ำมัน
C3: สรุปยอดขายเงินสด - เงินเชื่อ
C4: =+'21 22'!C19:G19+1 -> 45588
B6: ชนิดน้ำมัน | C6: ยอดขายรวม | E6: ขายเงินเชื่อ ขายคูปอง | G6: ขายเงินสด
C7: ลิตร | D7: บาท | E7: ลิตร | F7: บาท | G7: ลิตร | H7: บาท
B8: GAS 95 | C8: =+ขายรวม!Z3 -> 0 | D8: =+ขายรวม!Z12 -> 0 | E8: =+ขายรวม!Z25 -> 0 | F8: =+ขายรวม!Z34 -> 0 | G8: =+C8-E8 -> 0 | H8: =+D8-F8 -> 0 | I8: =+D8/C8 -> #DIV/0! | J8: =+F8/E8 -> #DIV/0!
B9: E20 | C9: =+ขายรวม!Z4 -> 0 | D9: =+ขายรวม!Z13 -> 0 | E9: =+ขายรวม!Z26 -> 0 | F9: =+ขายรวม!Z35 -> 0 | G9: =+C9-E9 -> 0 | H9: =+D9-F9 -> 0 | I9: =+D9/C9 -> #DIV/0! | J9: =+F9/E9 -> #DIV/0!
B10: GAS 91 | C10: =+ขายรวม!Z5 -> 0 | D10: =+ขายรวม!Z14 -> 0 | E10: =+ขายรวม!Z27 -> 0 | F10: =+ขายรวม!Z36 -> 0 | G10: =+C10-E10 -> 0 | H10: =+D10-F10 -> 0 | I10: =+D10/C10 -> #DIV/0! | J10: =+F10/E10 -> #DIV/0!
B11: DIESEL B7 | C11: =+ขายรวม!Z6 -> 0 | D11: =+ขายรวม!Z15 -> 0 | E11: =+ขายรวม!Z28 -> 0 | F11: =+ขายรวม!Z37 -> 0 | G11: =+C11-E11 -> 0 | H11: =+D11-F11 -> 0 | I11: =+D11/C11 -> #DIV/0! | J11: =+F11/E11 -> #DIV/0!
B12: P_DIESEL-B7 | C12: =+ขายรวม!Z7 -> 0 | D12: =+ขายรวม!Z16 -> 0 | E12: =+ขายรวม!Z29 -> 0 | F12: =+ขายรวม!Z38 -> 0 | G12: =+C12-E12 -> 0 | H12: =+D12-F12 -> 0
B13: รวม | C13: =SUM(C8:C12) -> 0 | D13: =SUM(D8:D12) -> 0 | E13: =SUM(E8:E12) -> 0 | F13: =SUM(F8:F12) -> 0 | G13: =SUM(G8:G12) -> 0 | H13: =SUM(H8:H11) -> 0
C14: ภาษีขาย 7% | D14: =+#REF!*0.0654205607476635 -> #REF!
H16: =+เลขที่เอกสาร!X2 -> HS6710024
C17: =+'21 22'!C17:G17 -> เพจ ระบบบัญชีปั้มน้ำมัน
C18: =+C3 -> สรุปยอดขายเงินสด - เงินเชื่อ
C19: =+C4+1 -> 45589
B21: ชนิดน้ำมัน | C21: ยอดขายรวม | E21: ขายเงินเชื่อ ขายคูปอง | G21: ขายเงินสด
C22: ลิตร | D22: บาท | E22: ลิตร | F22: บาท | G22: ลิตร | H22: บาท
B23: GAS 95 | C23: =+ขายรวม!AA3 -> 0 | D23: =+ขายรวม!AA12 -> 0 | E23: =+ขายรวม!AA25 -> 0 | F23: =+ขายรวม!AA34 -> 0 | G23: =+C23-E23 -> 0 | H23: =+D23-F23 -> 0 | I23: =+D23/C23 -> #DIV/0! | J23: =+F23/E23 -> #DIV/0!
B24: E20 | C24: =+ขายรวม!AA4 -> 0 | D24: =+ขายรวม!AA13 -> 0 | E24: =+ขายรวม!AA26 -> 0 | F24: =+ขายรวม!AA35 -> 0 | G24: =+C24-E24 -> 0 | H24: =+D24-F24 -> 0 | I24: =+D24/C24 -> #DIV/0! | J24: =+F24/E24 -> #DIV/0!
B25: GAS 91 | C25: =+ขายรวม!AA5 -> 0 | D25: =+ขายรวม!AA14 -> 0 | E25: =+ขายรวม!AA27 -> 0 | F25: =+ขายรวม!AA36 -> 0 | G25: =+C25-E25 -> 0 | H25: =+D25-F25 -> 0 | I25: =+D25/C25 -> #DIV/0! | J25: =+F25/E25 -> #DIV/0!
B26: DIESEL B7 | C26: =+ขายรวม!AA6 -> 0 | D26: =+ขายรวม!AA15 -> 0 | E26: =+ขายรวม!AA28 -> 0 | F26: =+ขายรวม!AA37 -> 0 | G26: =+C26-E26 -> 0 | H26: =+D26-F26 -> 0 | I26: =+D26/C26 -> #DIV/0! | J26: =+F26/E26 -> #DIV/0!
B27: P_DIESEL-B7 | C27: =+ขายรวม!AA7 -> 0 | D27: =+ขายรวม!AA16 -> 0 | E27: =+ขายรวม!AA29 -> 0 | F27: =+ขายรวม!AA38 -> 0 | G27: =+C27-E27 -> 0 | H27: =+D27-F27 -> 0
B28: รวม | C28: =SUM(C24:C27) -> 0 | D28: =SUM(D24:D27) -> 0 | E28: =SUM(E24:E27) -> 0 | F28: =SUM(F24:F27) -> 0 | G28: =SUM(G24:G27) -> 0 | H28: =SUM(H24:H27) -> 0
C29: ภาษีขาย 7% | D29: =+#REF!*0.0654205607476635 -> #REF!

Sheet 25 26
H1: =+เลขที่เอกสาร!Y2 -> HS6710025
C2: เพจ ระบบบัญชีปั้มน้ำมัน
C3: สรุปยอดขายเงินสด - เงินเชื่อ
C4: =+'23 24'!C19:G19+1 -> 45590
B6: ชนิดน้ำมัน | C6: ยอดขายรวม | E6: ขายเงินเชื่อ ขายคูปอง | G6: ขายเงินสด
C7: ลิตร | D7: บาท | E7: ลิตร | F7: บาท | G7: ลิตร | H7: บาท
B8: GAS 95 | C8: =+ขายรวม!AB3 -> 0 | D8: =+ขายรวม!AB12 -> 0 | E8: =+ขายรวม!AB25 -> 0 | F8: =+ขายรวม!AB34 -> 0 | G8: =+C8-E8 -> 0 | H8: =+D8-F8 -> 0 | I8: =+D8/C8 -> #DIV/0! | J8: =+F8/E8 -> #DIV/0!
B9: E20 | C9: =+ขายรวม!AB4 -> 0 | D9: =+ขายรวม!AB13 -> 0 | E9: =+ขายรวม!AB26 -> 0 | F9: =+ขายรวม!AB35 -> 0 | G9: =+C9-E9 -> 0 | H9: =+D9-F9 -> 0 | I9: =+D9/C9 -> #DIV/0! | J9: =+F9/E9 -> #DIV/0!
B10: GAS 91 | C10: =+ขายรวม!AB5 -> 0 | D10: =+ขายรวม!AB14 -> 0 | E10: =+ขายรวม!AB27 -> 0 | F10: =+ขายรวม!AB36 -> 0 | G10: =+C10-E10 -> 0 | H10: =+D10-F10 -> 0 | I10: =+D10/C10 -> #DIV/0! | J10: =+F10/E10 -> #DIV/0!
B11: DIESEL B7 | C11: =+ขายรวม!AB6 -> 0 | D11: =+ขายรวม!AB15 -> 0 | E11: =+ขายรวม!AB28 -> 0 | F11: =+ขายรวม!AB37 -> 0 | G11: =+C11-E11 -> 0 | H11: =+D11-F11 -> 0 | I11: =+D11/C11 -> #DIV/0! | J11: =+F11/E11 -> #DIV/0!
B12: P_DIESEL-B7 | C12: =+ขายรวม!AB7 -> 0 | D12: =+ขายรวม!AB16 -> 0 | E12: =+ขายรวม!AB29 -> 0 | F12: =+ขายรวม!AB38 -> 0 | G12: =+C12-E12 -> 0 | H12: =+D12-F12 -> 0
B13: รวม | C13: =SUM(C8:C12) -> 0 | D13: =SUM(D8:D12) -> 0 | E13: =SUM(E8:E12) -> 0 | F13: =SUM(F8:F12) -> 0 | G13: =SUM(G8:G12) -> 0 | H13: =SUM(H8:H11) -> 0
H16: =+เลขที่เอกสาร!Z2 -> HS6710026
C17: =+'23 24'!C2:G2 -> เพจ ระบบบัญชีปั้มน้ำมัน
C18: =+C3 -> สรุปยอดขายเงินสด - เงินเชื่อ
C19: =+C4+1 -> 45591
B21: ชนิดน้ำมัน | C21: ยอดขายรวม | E21: ขายเงินเชื่อ ขายคูปอง | G21: ขายเงินสด
C22: ลิตร | D22: บาท | E22: ลิตร | F22: บาท | G22: ลิตร | H22: บาท
B23: GAS 95 | C23: =+ขายรวม!AC3 -> 0 | D23: =+ขายรวม!AC12 -> 0 | E23: =+ขายรวม!AC25 -> 0 | F23: =+ขายรวม!AC34 -> 0 | G23: =+C23-E23 -> 0 | H23: =+D23-F23 -> 0 | I23: =+D23/C23 -> #DIV/0! | J23: =+F23/E23 -> #DIV/0!
B24: E20 | C24: =+ขายรวม!AC4 -> 0 | D24: =+ขายรวม!AC13 -> 0 | E24: =+ขายรวม!AC26 -> 0 | F24: =+ขายรวม!AC35 -> 0 | G24: =+C24-E24 -> 0 | H24: =+D24-F24 -> 0 | I24: =+D24/C24 -> #DIV/0! | J24: =+F24/E24 -> #DIV/0!
B25: GAS 91 | C25: =+ขายรวม!AC5 -> 0 | D25: =+ขายรวม!AC14 -> 0 | E25: =+ขายรวม!AC27 -> 0 | F25: =+ขายรวม!AC36 -> 0 | G25: =+C25-E25 -> 0 | H25: =+D25-F25 -> 0 | I25: =+D25/C25 -> #DIV/0! | J25: =+F25/E25 -> #DIV/0!
B26: DIESEL B7 | C26: =+ขายรวม!AC6 -> 0 | D26: =+ขายรวม!AC15 -> 0 | E26: =+ขายรวม!AC28 -> 0 | F26: =+ขายรวม!AC37 -> 0 | G26: =+C26-E26 -> 0 | H26: =+D26-F26 -> 0 | I26: =+D26/C26 -> #DIV/0! | J26: =+F26/E26 -> #DIV/0!
B27: P_DIESEL-B7 | C27: =SUM(C23:C26) -> 0 | D27: =SUM(D23:D26) -> 0 | E27: =SUM(E23:E26) -> 0 | F27: =SUM(F23:F26) -> 0 | G27: =SUM(G23:G26) -> 0 | H27: =SUM(H23:H26) -> 0
B28: รวม | C28: =SUM(C24:C27) -> 0 | D28: =SUM(D24:D27) -> 0 | E28: =SUM(E24:E27) -> 0 | F28: =SUM(F24:F27) -> 0 | G28: =SUM(G24:G27) -> 0 | H28: =SUM(H24:H27) -> 0

Sheet 27 28
H1: =+เลขที่เอกสาร!AA2 -> HS6710027
C2: เพจ ระบบบัญชีปั้มน้ำมัน
C3: สรุปยอดขายเงินสด - เงินเชื่อ
C4: =+'25 26'!C19:G19+1 -> 45592
B6: ชนิดน้ำมัน | C6: ยอดขายรวม | E6: ขายเงินเชื่อ ขายคูปอง | G6: ขายเงินสด
C7: ลิตร | D7: บาท | E7: ลิตร | F7: บาท | G7: ลิตร | H7: บาท
B8: GAS 95 | C8: =+ขายรวม!AD3 -> 0 | D8: =+ขายรวม!AD12 -> 0 | E8: =+ขายรวม!AD25 -> 0 | F8: =+ขายรวม!AD34 -> 0 | G8: =+C8-E8 -> 0 | H8: =+D8-F8 -> 0 | I8: =+D8/C8 -> #DIV/0! | J8: =+F8/E8 -> #DIV/0!
B9: E20 | C9: =+ขายรวม!AD4 -> 0 | D9: =+ขายรวม!AD13 -> 0 | E9: =+ขายรวม!AD26 -> 0 | F9: =+ขายรวม!AD35 -> 0 | G9: =+C9-E9 -> 0 | H9: =+D9-F9 -> 0 | I9: =+D9/C9 -> #DIV/0! | J9: =+F9/E9 -> #DIV/0!
B10: GAS 91 | C10: =+ขายรวม!AD5 -> 0 | D10: =+ขายรวม!AD14 -> 0 | E10: =+ขายรวม!AD27 -> 0 | F10: =+ขายรวม!AD36 -> 0 | G10: =+C10-E10 -> 0 | H10: =+D10-F10 -> 0 | I10: =+D10/C10 -> #DIV/0! | J10: =+F10/E10 -> #DIV/0!
B11: DIESEL B7 | C11: =+ขายรวม!AD6 -> 0 | D11: =+ขายรวม!AD15 -> 0 | E11: =+ขายรวม!AD28 -> 0 | F11: =+ขายรวม!AD37 -> 0 | G11: =+C11-E11 -> 0 | H11: =+D11-F11 -> 0 | I11: =+D11/C11 -> #DIV/0! | J11: =+F11/E11 -> #DIV/0!
B12: P_DIESEL-B7 | C12: =+ขายรวม!AD7 -> 0 | D12: =+ขายรวม!AD16 -> 0 | E12: =+ขายรวม!AD29 -> 0 | F12: =+ขายรวม!AD38 -> 0 | G12: =+C12-E12 -> 0 | H12: =+D12-F12 -> 0
B13: รวม | C13: =SUM(C8:C12) -> 0 | D13: =SUM(D8:D12) -> 0 | E13: =SUM(E8:E12) -> 0 | F13: =SUM(F8:F12) -> 0 | G13: =SUM(G8:G12) -> 0 | H13: =SUM(H8:H11) -> 0
C14: ภาษีขาย 7%
H16: =+เลขที่เอกสาร!AB2 -> HS6710028
C17: =+C2 -> เพจ ระบบบัญชีปั้มน้ำมัน
C18: สรุปยอดขายเงินสด - เงินเชื่อ
C19: =+C4+1 -> 45593
B21: ชนิดน้ำมัน | C21: ยอดขายรวม | E21: ขายเงินเชื่อ ขายคูปอง | G21: ขายเงินสด
C22: ลิตร | D22: บาท | E22: ลิตร | F22: บาท | G22: ลิตร | H22: บาท
B23: GAS 95 | C23: =+ขายรวม!AE3 -> 0 | D23: =+ขายรวม!AE12 -> 0 | E23: =+ขายรวม!AE25 -> 0 | F23: =+ขายรวม!AE34 -> 0 | G23: =+C23-E23 -> 0 | H23: =+D23-F23 -> 0 | I23: =+D23/C23 -> #DIV/0! | J23: =+F23/E23 -> #DIV/0!
B24: E20 | C24: =+ขายรวม!AE4 -> 0 | D24: =+ขายรวม!AE13 -> 0 | E24: =+ขายรวม!AE26 -> 0 | F24: =+ขายรวม!AE35 -> 0 | G24: =+C24-E24 -> 0 | H24: =+D24-F24 -> 0 | I24: =+D24/C24 -> #DIV/0! | J24: =+F24/E24 -> #DIV/0!
B25: GAS 91 | C25: =+ขายรวม!AE5 -> 0 | D25: =+ขายรวม!AE14 -> 0 | E25: =+ขายรวม!AE27 -> 0 | F25: =+ขายรวม!AE36 -> 0 | G25: =+C25-E25 -> 0 | H25: =+D25-F25 -> 0 | I25: =+D25/C25 -> #DIV/0! | J25: =+F25/E25 -> #DIV/0!
B26: DIESEL B7 | C26: =+ขายรวม!AE6 -> 0 | D26: =+ขายรวม!AE15 -> 0 | E26: =+ขายรวม!AE28 -> 0 | F26: =+ขายรวม!AE37 -> 0 | G26: =+C26-E26 -> 0 | H26: =+D26-F26 -> 0 | I26: =+D26/C26 -> #DIV/0! | J26: =+F26/E26 -> #DIV/0!
B27: P_DIESEL-B7 | C27: =SUM(C23:C26) -> 0 | D27: =SUM(D23:D26) -> 0 | E27: =SUM(E23:E26) -> 0 | F27: =SUM(F23:F26) -> 0 | G27: =SUM(G23:G26) -> 0 | H27: =SUM(H23:H26) -> 0
B28: รวม | C28: =SUM(C23:C27) -> 0 | D28: =SUM(D23:D27) -> 0 | E28: =SUM(E23:E27) -> 0 | F28: =SUM(F23:F27) -> 0 | G28: =SUM(G23:G27) -> 0 | H28: =SUM(H23:H26) -> 0

Sheet 29 30
H1: =+เลขที่เอกสาร!AC2 -> HS6710029
C2: เพจ ระบบบัญชีปั้มน้ำมัน
C3: สรุปยอดขายเงินสด - เงินเชื่อ
C4: =+'27 28'!C19:G19+1 -> 45594
B6: ชนิดน้ำมัน | C6: ยอดขายรวม | E6: ขายเงินเชื่อ ขายคูปอง | G6: ขายเงินสด
C7: ลิตร | D7: บาท | E7: ลิตร | F7: บาท | G7: ลิตร | H7: บาท
B8: GAS 95 | C8: =+ขายรวม!AF3 -> 0 | D8: =+ขายรวม!AF12 -> 0 | E8: =+ขายรวม!AF25 -> 0 | F8: =+ขายรวม!AF34 -> 0 | G8: =+C8-E8 -> 0 | H8: =+D8-F8 -> 0 | I8: =+D8/C8 -> #DIV/0! | J8: =+F8/E8 -> #DIV/0!
B9: E20 | C9: =+ขายรวม!AF4 -> 0 | D9: =+ขายรวม!AF13 -> 0 | E9: =+ขายรวม!AF26 -> 0 | F9: =+ขายรวม!AF35 -> 0 | G9: =+C9-E9 -> 0 | H9: =+D9-F9 -> 0 | I9: =+D9/C9 -> #DIV/0! | J9: =+F9/E9 -> #DIV/0!
B10: GAS 91 | C10: =+ขายรวม!AF5 -> 0 | D10: =+ขายรวม!AF14 -> 0 | E10: =+ขายรวม!AF27 -> 0 | F10: =+ขายรวม!AF36 -> 0 | G10: =+C10-E10 -> 0 | H10: =+D10-F10 -> 0 | I10: =+D10/C10 -> #DIV/0! | J10: =+F10/E10 -> #DIV/0!
B11: DIESEL B7 | C11: =+ขายรวม!AF6 -> 0 | D11: =+ขายรวม!AF15 -> 0 | E11: =+ขายรวม!AF28 -> 0 | F11: =+ขายรวม!AF37 -> 0 | G11: =+C11-E11 -> 0 | H11: =+D11-F11 -> 0 | I11: =+D11/C11 -> #DIV/0! | J11: =+F11/E11 -> #DIV/0!
B12: P_DIESEL-B7 | C12: =+ขายรวม!AF7 -> 0 | D12: =+ขายรวม!AF16 -> 0 | E12: =+ขายรวม!AF29 -> 0 | F12: =+ขายรวม!AF38 -> 0 | G12: =+C12-E12 -> 0 | H12: =+D12-F12 -> 0
B13: รวม | C13: =SUM(C8:C12) -> 0 | D13: =SUM(D8:D12) -> 0 | E13: =SUM(E8:E12) -> 0 | F13: =SUM(F8:F12) -> 0 | G13: =SUM(G8:G12) -> 0 | H13: =SUM(H8:H11) -> 0
C14: ภาษีขาย 7%
H16: 1
C17: =+C2 -> เพจ ระบบบัญชีปั้มน้ำมัน
C18: สรุปยอดขายเงินสด - เงินเชื่อ
C19: =+C4+1 -> 45595
B21: ชนิดน้ำมัน | C21: ยอดขายรวม | E21: ขายเงินเชื่อ ขายคูปอง | G21: ขายเงินสด
C22: ลิตร | D22: บาท | E22: ลิตร | F22: บาท | G22: ลิตร | H22: บาท
B23: GAS 95 | C23: =+ขายรวม!AG3 -> 0 | D23: =+ขายรวม!AG12 -> 0 | E23: =+ขายรวม!AG25 -> 0 | F23: =+ขายรวม!AG34 -> 0 | G23: =+C23-E23 -> 0 | H23: =+D23-F23 -> 0 | I23: =+D23/C23 -> #DIV/0! | J23: =+F23/E23 -> #DIV/0!
B24: E20 | C24: =+ขายรวม!AG4 -> 0 | D24: =+ขายรวม!AG13 -> 0 | E24: =+ขายรวม!AG26 -> 0 | F24: =+ขายรวม!AG35 -> 0 | G24: =+C24-E24 -> 0 | H24: =+D24-F24 -> 0 | I24: =+D24/C24 -> #DIV/0! | J24: =+F24/E24 -> #DIV/0!
B25: GAS 91 | C25: =+ขายรวม!AG5 -> 0 | D25: =+ขายรวม!AG14 -> 0 | E25: =+ขายรวม!AG27 -> 0 | F25: =+ขายรวม!AG36 -> 0 | G25: =+C25-E25 -> 0 | H25: =+D25-F25 -> 0 | I25: =+D25/C25 -> #DIV/0! | J25: =+F25/E25 -> #DIV/0!
B26: DIESEL B7 | C26: =+ขายรวม!AG6 -> 0 | D26: =+ขายรวม!AG15 -> 0 | E26: =+ขายรวม!AG28 -> 0 | F26: =+ขายรวม!AG37 -> 0 | G26: =+C26-E26 -> 0 | H26: =+D26-F26 -> 0 | I26: =+D26/C26 -> #DIV/0! | J26: =+F26/E26 -> #DIV/0!
B27: P_DIESEL-B7 | C27: =SUM(C23:C26) -> 0 | D27: =SUM(D23:D26) -> 0 | E27: =SUM(E23:E26) -> 0 | F27: =SUM(F23:F26) -> 0 | G27: =SUM(G23:G26) -> 0 | H27: =SUM(H23:H26) -> 0
B28: รวม | C28: =SUM(C23:C27) -> 0 | D28: =SUM(D23:D27) -> 0 | E28: =SUM(E23:E27) -> 0 | F28: =SUM(F23:F27) -> 0 | G28: =SUM(G23:G27) -> 0 | H28: =SUM(H23:H26) -> 0

Sheet 31
H1: =+เลขที่เอกสาร!AE2 -> HS6710031
C2: เพจ ระบบบัญชีปั้มน้ำมัน
C3: สรุปยอดขายเงินสด - เงินเชื่อ
C4: =+'29 30'!C19:G19+1 -> 45596
B6: ชนิดน้ำมัน | C6: ยอดขายรวม | E6: ขายเงินเชื่อ ขายคูปอง | G6: ขายเงินสด
C7: ลิตร | D7: บาท | E7: ลิตร | F7: บาท | G7: ลิตร | H7: บาท
B8: GAS 95 | C8: =+ขายรวม!AF3 -> 0 | D8: =+ขายรวม!AF12 -> 0 | E8: =+ขายรวม!AF25 -> 0 | F8: =+ขายรวม!AF34 -> 0 | G8: =+C8-E8 -> 0 | H8: =+D8-F8 -> 0 | I8: =+D8/C8 -> #DIV/0! | J8: =+F8/E8 -> #DIV/0!
B9: E20 | C9: =+ขายรวม!AF4 -> 0 | D9: =+ขายรวม!AF13 -> 0 | E9: =+ขายรวม!AF26 -> 0 | F9: =+ขายรวม!AF35 -> 0 | G9: =+C9-E9 -> 0 | H9: =+D9-F9 -> 0 | I9: =+D9/C9 -> #DIV/0! | J9: =+F9/E9 -> #DIV/0!
B10: GAS 91 | C10: =+ขายรวม!AF5 -> 0 | D10: =+ขายรวม!AF14 -> 0 | E10: =+ขายรวม!AF27 -> 0 | F10: =+ขายรวม!AF36 -> 0 | G10: =+C10-E10 -> 0 | H10: =+D10-F10 -> 0 | I10: =+D10/C10 -> #DIV/0! | J10: =+F10/E10 -> #DIV/0!
B11: DIESEL B7 | C11: =+ขายรวม!AF6 -> 0 | D11: =+ขายรวม!AF15 -> 0 | E11: =+ขายรวม!AF28 -> 0 | F11: =+ขายรวม!AF37 -> 0 | G11: =+C11-E11 -> 0 | H11: =+D11-F11 -> 0 | I11: =+D11/C11 -> #DIV/0! | J11: =+F11/E11 -> #DIV/0!
B12: P_DIESEL-B7 | C12: =+ขายรวม!AF7 -> 0 | D12: =+ขายรวม!AF16 -> 0 | E12: =+ขายรวม!AF29 -> 0 | F12: =+ขายรวม!AF38 -> 0 | G12: =+C12-E12 -> 0 | H12: =+D12-F12 -> 0
B13: รวม | C13: =SUM(C8:C12) -> 0 | D13: =SUM(D8:D12) -> 0 | E13: =SUM(E8:E12) -> 0 | F13: =SUM(F8:F12) -> 0 | G13: =SUM(G8:G12) -> 0 | H13: =SUM(H8:H11) -> 0
C14: ภาษีขาย 7%

Sheet สรุป1
C2: เพจ ระบบบัญชีปั้มน้ำมัน
C3: สรุปยอดขายเงินสด - เงินเชื่อ
C4: เดือน พฤศจิกายน 2563
I5: *ยอดเพี้ยนเท่ากับรายงานภาษี ก
B6: ชนิดน้ำมัน | C6: ยอดขายรวม | E6: ขายเงินเชื่อ VS ตัด AI | G6: ขายเงินสด | I6: ยอดขายรวม | M6: ขายเชื่อ
C7: ลิตร | D7: บาท | E7: ลิตร | F7: บาท | G7: ลิตร | H7: บาท | I7: รายงานขาย | K7: ผลต่าง | M7: รายงานขาย | O7: ผลต่าง(ใช้ภายใน)
A8: 1 | B8: GAS 95 | C8: =+'1 2'!C8+'1 2'!C23+'3 4'!C8+'3 4'!C23+'5 6'!C8+'5 6'!C23+'7 8'!C8+'7 8'!C23+'9 10'!C8+'9 10'!C23+'11 12'!C8+'11 12'!C23+'13 14'!C8+'13 14'!C23+'15 16'!C8+'15 16'!C23+'17 18'!C8+'17 18'!C23+'19 20'!C8+'19 20'!C23+'21 22'!C8+'21 22'!C23+'23 24'!C8+'23 24'!C23+'25 26'!C8+'25 26'!C23+'27 28'!C8+'27 28'!C23+'29 30'!C8+'29 30'!C23+'31'!C8 -> 4392.13 | D8: =+'1 2'!D8+'1 2'!D23+'3 4'!D8+'3 4'!D23+'5 6'!D8+'5 6'!D23+'7 8'!D8+'7 8'!D23+'9 10'!D8+'9 10'!D23+'11 12'!D8+'11 12'!D23+'13 14'!D8+'13 14'!D23+'15 16'!D8+'15 16'!D23+'17 18'!D8+'17 18'!D23+'19 20'!D8+'19 20'!D23+'21 22'!D8+'21 22'!D23+'23 24'!D8+'23 24'!D23+'25 26'!D8+'25 26'!D23+'27 28'!D8+'27 28'!D23+'29 30'!D8+'29 30'!D23+'31'!D8 -> 154519.6 | E8: =+'1 2'!E8+'1 2'!E23+'3 4'!E8+'3 4'!E23+'5 6'!E8+'5 6'!E23+'7 8'!E8+'7 8'!E23+'9 10'!E8+'9 10'!E23+'11 12'!E8+'11 12'!E23+'13 14'!E8+'13 14'!E23+'15 16'!E8+'15 16'!E23+'17 18'!E8+'17 18'!E23+'19 20'!E8+'19 20'!E23+'21 22'!E8+'21 22'!E23+'23 24'!E8+'23 24'!E23+'25 26'!E8+'25 26'!E23+'27 28'!E8+'27 28'!E23+'29 30'!E8+'29 30'!E23+'31'!E8 -> 87.997 | F8: =+'1 2'!F8+'1 2'!F23+'3 4'!F8+'3 4'!F23+'5 6'!F8+'5 6'!F23+'7 8'!F8+'7 8'!F23+'9 10'!F8+'9 10'!F23+'11 12'!F8+'11 12'!F23+'13 14'!F8+'13 14'!F23+'15 16'!F8+'15 16'!F23+'17 18'!F8+'17 18'!F23+'19 20'!F8+'19 20'!F23+'21 22'!F8+'21 22'!F23+'23 24'!F8+'23 24'!F23+'25 26'!F8+'25 26'!F23+'27 28'!F8+'27 28'!F23+'29 30'!F8+'29 30'!F23+'31'!F8 -> 3095.6 | G8: =+'1 2'!G8+'1 2'!G23+'3 4'!G8+'3 4'!G23+'5 6'!G8+'5 6'!G23+'7 8'!G8+'7 8'!G23+'9 10'!G8+'9 10'!G23+'11 12'!G8+'11 12'!G23+'13 14'!G8+'13 14'!G23+'15 16'!G8+'15 16'!G23+'17 18'!G8+'17 18'!G23+'19 20'!G8+'19 20'!G23+'21 22'!G8+'21 22'!G23+'23 24'!G8+'23 24'!G23+'25 26'!G8+'25 26'!G23+'27 28'!G8+'27 28'!G23+'29 30'!G8+'29 30'!G23+'31'!G8 -> 4304.133 | H8: =+'1 2'!H8+'1 2'!H23+'3 4'!H8+'3 4'!H23+'5 6'!H8+'5 6'!H23+'7 8'!H8+'7 8'!H23+'9 10'!H8+'9 10'!H23+'11 12'!H8+'11 12'!H23+'13 14'!H8+'13 14'!H23+'15 16'!H8+'15 16'!H23+'17 18'!H8+'17 18'!H23+'19 20'!H8+'19 20'!H23+'21 22'!H8+'21 22'!H23+'23 24'!H8+'23 24'!H23+'25 26'!H8+'25 26'!H23+'27 28'!H8+'27 28'!H23+'29 30'!H8+'29 30'!H23+'31'!H8 -> 151424 | I8: 167008.53 | J8: 6493324.5 | K8: =+C8-I8 -> -162616.4 | L8: =+D8-J8 -> -6338804.9 | M8: 6109.321 | N8: 238093.9 | O8: =+M8-E8 -> 6021.324 | P8: =+N8-F8 -> 234998.3
A9: 2 | B9: E20 | C9: =+'1 2'!C9+'1 2'!C24+'3 4'!C9+'3 4'!C24+'5 6'!C9+'5 6'!C24+'7 8'!C9+'7 8'!C24+'9 10'!C9+'9 10'!C24+'11 12'!C9+'11 12'!C24+'13 14'!C9+'13 14'!C24+'15 16'!C9+'15 16'!C24+'17 18'!C9+'17 18'!C24+'19 20'!C9+'19 20'!C24+'21 22'!C9+'21 22'!C24+'23 24'!C9+'23 24'!C24+'25 26'!C9+'25 26'!C24+'27 28'!C9+'27 28'!C24+'29 30'!C9+'29 30'!C24+'31'!C9 -> 2374.05 | D9: =+'1 2'!D9+'1 2'!D24+'3 4'!D9+'3 4'!D24+'5 6'!D9+'5 6'!D24+'7 8'!D9+'7 8'!D24+'9 10'!D9+'9 10'!D24+'11 12'!D9+'11 12'!D24+'13 14'!D9+'13 14'!D24+'15 16'!D9+'15 16'!D24+'17 18'!D9+'17 18'!D24+'19 20'!D9+'19 20'!D24+'21 22'!D9+'21 22'!D24+'23 24'!D9+'23 24'!D24+'25 26'!D9+'25 26'!D24+'27 28'!D9+'27 28'!D24+'29 30'!D9+'29 30'!D24+'31'!D9 -> 78512.6 | E9: =+'1 2'!E9+'1 2'!E24+'3 4'!E9+'3 4'!E24+'5 6'!E9+'5 6'!E24+'7 8'!E9+'7 8'!E24+'9 10'!E9+'9 10'!E24+'11 12'!E9+'11 12'!E24+'13 14'!E9+'13 14'!E24+'15 16'!E9+'15 16'!E24+'17 18'!E9+'17 18'!E24+'19 20'!E9+'19 20'!E24+'21 22'!E9+'21 22'!E24+'23 24'!E9+'23 24'!E24+'25 26'!E9+'25 26'!E24+'27 28'!E9+'27 28'!E24+'29 30'!E9+'29 30'!E24+'31'!E9 -> 0 | F9: =+'1 2'!F9+'1 2'!F24+'3 4'!F9+'3 4'!F24+'5 6'!F9+'5 6'!F24+'7 8'!F9+'7 8'!F24+'9 10'!F9+'9 10'!F24+'11 12'!F9+'11 12'!F24+'13 14'!F9+'13 14'!F24+'15 16'!F9+'15 16'!F24+'17 18'!F9+'17 18'!F24+'19 20'!F9+'19 20'!F24+'21 22'!F9+'21 22'!F24+'23 24'!F9+'23 24'!F24+'25 26'!F9+'25 26'!F24+'27 28'!F9+'27 28'!F24+'29 30'!F9+'29 30'!F24+'31'!F9 -> 0 | G9: =+'1 2'!G9+'1 2'!G24+'3 4'!G9+'3 4'!G24+'5 6'!G9+'5 6'!G24+'7 8'!G9+'7 8'!G24+'9 10'!G9+'9 10'!G24+'11 12'!G9+'11 12'!G24+'13 14'!G9+'13 14'!G24+'15 16'!G9+'15 16'!G24+'17 18'!G9+'17 18'!G24+'19 20'!G9+'19 20'!G24+'21 22'!G9+'21 22'!G24+'23 24'!G9+'23 24'!G24+'25 26'!G9+'25 26'!G24+'27 28'!G9+'27 28'!G24+'29 30'!G9+'29 30'!G24+'31'!G9 -> 2374.05 | H9: =+'1 2'!H9+'1 2'!H24+'3 4'!H9+'3 4'!H24+'5 6'!H9+'5 6'!H24+'7 8'!H9+'7 8'!H24+'9 10'!H9+'9 10'!H24+'11 12'!H9+'11 12'!H24+'13 14'!H9+'13 14'!H24+'15 16'!H9+'15 16'!H24+'17 18'!H9+'17 18'!H24+'19 20'!H9+'19 20'!H24+'21 22'!H9+'21 22'!H24+'23 24'!H9+'23 24'!H24+'25 26'!H9+'25 26'!H24+'27 28'!H9+'27 28'!H24+'29 30'!H9+'29 30'!H24+'31'!H9 -> 78512.6 | I9: 50895.88 | J9: 1922802.8 | K9: =+C9-I9 -> -48521.83 | L9: =+D9-J9 -> -1844290.2 | M9: 705.559 | N9: 26630 | O9: =+M9-E9 -> 705.559 | P9: =+N9-F9 -> 26630
A10: 3 | B10: GAS 91 | C10: =+'1 2'!C10+'1 2'!C25+'3 4'!C10+'3 4'!C25+'5 6'!C10+'5 6'!C25+'7 8'!C10+'7 8'!C25+'9 10'!C10+'9 10'!C25+'11 12'!C10+'11 12'!C25+'13 14'!C10+'13 14'!C25+'15 16'!C10+'15 16'!C25+'17 18'!C10+'17 18'!C25+'19 20'!C10+'19 20'!C25+'21 22'!C10+'21 22'!C25+'23 24'!C10+'23 24'!C25+'25 26'!C10+'25 26'!C25+'27 28'!C10+'27 28'!C25+'29 30'!C10+'29 30'!C25+'31'!C10 -> 1639.89 | D10: =+'1 2'!D10+'1 2'!D25+'3 4'!D10+'3 4'!D25+'5 6'!D10+'5 6'!D25+'7 8'!D10+'7 8'!D25+'9 10'!D10+'9 10'!D25+'11 12'!D10+'11 12'!D25+'13 14'!D10+'13 14'!D25+'15 16'!D10+'15 16'!D25+'17 18'!D10+'17 18'!D25+'19 20'!D10+'19 20'!D25+'21 22'!D10+'21 22'!D25+'23 24'!D10+'23 24'!D25+'25 26'!D10+'25 26'!D25+'27 28'!D10+'27 28'!D25+'29 30'!D10+'29 30'!D25+'31'!D10 -> 57089.8 | E10: =+'1 2'!E10+'1 2'!E25+'3 4'!E10+'3 4'!E25+'5 6'!E10+'5 6'!E25+'7 8'!E10+'7 8'!E25+'9 10'!E10+'9 10'!E25+'11 12'!E10+'11 12'!E25+'13 14'!E10+'13 14'!E25+'15 16'!E10+'15 16'!E25+'17 18'!E10+'17 18'!E25+'19 20'!E10+'19 20'!E25+'21 22'!E10+'21 22'!E25+'23 24'!E10+'23 24'!E25+'25 26'!E10+'25 26'!E25+'27 28'!E10+'27 28'!E25+'29 30'!E10+'29 30'!E25+'31'!E10 -> 15 | F10: =+'1 2'!F10+'1 2'!F25+'3 4'!F10+'3 4'!F25+'5 6'!F10+'5 6'!F25+'7 8'!F10+'7 8'!F25+'9 10'!F10+'9 10'!F25+'11 12'!F10+'11 12'!F25+'13 14'!F10+'13 14'!F25+'15 16'!F10+'15 16'!F25+'17 18'!F10+'17 18'!F25+'19 20'!F10+'19 20'!F25+'21 22'!F10+'21 22'!F25+'23 24'!F10+'23 24'!F25+'25 26'!F10+'25 26'!F25+'27 28'!F10+'27 28'!F25+'29 30'!F10+'29 30'!F25+'31'!F10 -> 522.2 | G10: =+'1 2'!G10+'1 2'!G25+'3 4'!G10+'3 4'!G25+'5 6'!G10+'5 6'!G25+'7 8'!G10+'7 8'!G25+'9 10'!G10+'9 10'!G25+'11 12'!G10+'11 12'!G25+'13 14'!G10+'13 14'!G25+'15 16'!G10+'15 16'!G25+'17 18'!G10+'17 18'!G25+'19 20'!G10+'19 20'!G25+'21 22'!G10+'21 22'!G25+'23 24'!G10+'23 24'!G25+'25 26'!G10+'25 26'!G25+'27 28'!G10+'27 28'!G25+'29 30'!G10+'29 30'!G25+'31'!G10 -> 1624.89 | H10: =+'1 2'!H10+'1 2'!H25+'3 4'!H10+'3 4'!H25+'5 6'!H10+'5 6'!H25+'7 8'!H10+'7 8'!H25+'9 10'!H10+'9 10'!H25+'11 12'!H10+'11 12'!H25+'13 14'!H10+'13 14'!H25+'15 16'!H10+'15 16'!H25+'17 18'!H10+'17 18'!H25+'19 20'!H10+'19 20'!H25+'21 22'!H10+'21 22'!H25+'23 24'!H10+'23 24'!H25+'25 26'!H10+'25 26'!H25+'27 28'!H10+'27 28'!H25+'29 30'!H10+'29 30'!H25+'31'!H10 -> 56567.6 | I10: 67174.411 | J10: 2594340.2 | K10: =+C10-I10 -> -65534.521 | L10: =+D10-J10 -> -2537250.4 | M10: 1083.964 | N10: 41990 | O10: =+M10-E10 -> 1068.964 | P10: =+N10-F10 -> 41467.8
A11: 4 | B11: DIESEL B7 | C11: =+'1 2'!C11+'1 2'!C26+'3 4'!C11+'3 4'!C26+'5 6'!C11+'5 6'!C26+'7 8'!C11+'7 8'!C26+'9 10'!C11+'9 10'!C26+'11 12'!C11+'11 12'!C26+'13 14'!C11+'13 14'!C26+'15 16'!C11+'15 16'!C26+'17 18'!C11+'17 18'!C26+'19 20'!C11+'19 20'!C26+'21 22'!C11+'21 22'!C26+'23 24'!C11+'23 24'!C26+'25 26'!C11+'25 26'!C26+'27 28'!C11+'27 28'!C26+'29 30'!C11+'29 30'!C26+'31'!C11 -> 17099.39 | D11: =+'1 2'!D11+'1 2'!D26+'3 4'!D11+'3 4'!D26+'5 6'!D11+'5 6'!D26+'7 8'!D11+'7 8'!D26+'9 10'!D11+'9 10'!D26+'11 12'!D11+'11 12'!D26+'13 14'!D11+'13 14'!D26+'15 16'!D11+'15 16'!D26+'17 18'!D11+'17 18'!D26+'19 20'!D11+'19 20'!D26+'21 22'!D11+'21 22'!D26+'23 24'!D11+'23 24'!D26+'25 26'!D11+'25 26'!D26+'27 28'!D11+'27 28'!D26+'29 30'!D11+'29 30'!D26+'31'!D11 -> 567196.4 | E11: =+'1 2'!E11+'1 2'!E26+'3 4'!E11+'3 4'!E26+'5 6'!E11+'5 6'!E26+'7 8'!E11+'7 8'!E26+'9 10'!E11+'9 10'!E26+'11 12'!E11+'11 12'!E26+'13 14'!E11+'13 14'!E26+'15 16'!E11+'15 16'!E26+'17 18'!E11+'17 18'!E26+'19 20'!E11+'19 20'!E26+'21 22'!E11+'21 22'!E26+'23 24'!E11+'23 24'!E26+'25 26'!E11+'25 26'!E26+'27 28'!E11+'27 28'!E26+'29 30'!E11+'29 30'!E26+'31'!E11 -> 2985.563 | F11: =+'1 2'!F11+'1 2'!F26+'3 4'!F11+'3 4'!F26+'5 6'!F11+'5 6'!F26+'7 8'!F11+'7 8'!F26+'9 10'!F11+'9 10'!F26+'11 12'!F11+'11 12'!F26+'13 14'!F11+'13 14'!F26+'15 16'!F11+'15 16'!F26+'17 18'!F11+'17 18'!F26+'19 20'!F11+'19 20'!F26+'21 22'!F11+'21 22'!F26+'23 24'!F11+'23 24'!F26+'25 26'!F11+'25 26'!F26+'27 28'!F11+'27 28'!F26+'29 30'!F11+'29 30'!F26+'31'!F11 -> 99031.3 | G11: =+'1 2'!G11+'1 2'!G26+'3 4'!G11+'3 4'!G26+'5 6'!G11+'5 6'!G26+'7 8'!G11+'7 8'!G26+'9 10'!G11+'9 10'!G26+'11 12'!G11+'11 12'!G26+'13 14'!G11+'13 14'!G26+'15 16'!G11+'15 16'!G26+'17 18'!G11+'17 18'!G26+'19 20'!G11+'19 20'!G26+'21 22'!G11+'21 22'!G26+'23 24'!G11+'23 24'!G26+'25 26'!G11+'25 26'!G26+'27 28'!G11+'27 28'!G26+'29 30'!G11+'29 30'!G26+'31'!G11 -> 14113.827 | H11: =+'1 2'!H11+'1 2'!H26+'3 4'!H11+'3 4'!H26+'5 6'!H11+'5 6'!H26+'7 8'!H11+'7 8'!H26+'9 10'!H11+'9 10'!H26+'11 12'!H11+'11 12'!H26+'13 14'!H11+'13 14'!H26+'15 16'!H11+'15 16'!H26+'17 18'!H11+'17 18'!H26+'19 20'!H11+'19 20'!H26+'21 22'!H11+'21 22'!H26+'23 24'!H11+'23 24'!H26+'25 26'!H11+'25 26'!H26+'27 28'!H11+'27 28'!H26+'29 30'!H11+'29 30'!H26+'31'!H11 -> 468165.1 | I11: 169807.1 | J11: 5092537.6 | K11: =+C11-I11 -> -152707.71 | L11: =+D11-J11 -> -4525341.2 | M11: 29077.262 | N11: 872027.7 | O11: =+M11-E11 -> 26091.699 | P11: =+N11-F11 -> 772996.4
A12: 5 | B12: P_DIESEL-B7 | C12: =+'1 2'!C12+'1 2'!C27+'3 4'!C12+'3 4'!C27+'5 6'!C12+'5 6'!C27+'7 8'!C12+'7 8'!C27+'9 10'!C12+'9 10'!C27+'11 12'!C12+'11 12'!C27+'13 14'!C12+'13 14'!C27+'15 16'!C12+'15 16'!C27+'17 18'!C12+'17 18'!C27+'19 20'!C12+'19 20'!C27+'21 22'!C12+'21 22'!C27+'23 24'!C12+'23 24'!C27+'25 26'!C12+'25 26'!C27+'27 28'!C12+'27 28'!C27+'29 30'!C12+'29 30'!C27+'31'!C12 -> 499.67 | D12: =+'1 2'!D12+'1 2'!D27+'3 4'!D12+'3 4'!D27+'5 6'!D12+'5 6'!D27+'7 8'!D12+'7 8'!D27+'9 10'!D12+'9 10'!D27+'11 12'!D12+'11 12'!D27+'13 14'!D12+'13 14'!D27+'15 16'!D12+'15 16'!D27+'17 18'!D12+'17 18'!D27+'19 20'!D12+'19 20'!D27+'21 22'!D12+'21 22'!D27+'23 24'!D12+'23 24'!D27+'25 26'!D12+'25 26'!D27+'27 28'!D12+'27 28'!D27+'29 30'!D12+'29 30'!D27+'31'!D12 -> 22570.3 | E12: =+'1 2'!E12+'1 2'!E27+'3 4'!E12+'3 4'!E27+'5 6'!E12+'5 6'!E27+'7 8'!E12+'7 8'!E27+'9 10'!E12+'9 10'!E27+'11 12'!E12+'11 12'!E27+'13 14'!E12+'13 14'!E27+'15 16'!E12+'15 16'!E27+'17 18'!E12+'17 18'!E27+'19 20'!E12+'19 20'!E27+'21 22'!E12+'21 22'!E27+'23 24'!E12+'23 24'!E27+'25 26'!E12+'25 26'!E27+'27 28'!E12+'27 28'!E27+'29 30'!E12+'29 30'!E27+'31'!E12 -> 0 | F12: =+'1 2'!F12+'1 2'!F27+'3 4'!F12+'3 4'!F27+'5 6'!F12+'5 6'!F27+'7 8'!F12+'7 8'!F27+'9 10'!F12+'9 10'!F27+'11 12'!F12+'11 12'!F27+'13 14'!F12+'13 14'!F27+'15 16'!F12+'15 16'!F27+'17 18'!F12+'17 18'!F27+'19 20'!F12+'19 20'!F27+'21 22'!F12+'21 22'!F27+'23 24'!F12+'23 24'!F27+'25 26'!F12+'25 26'!F27+'27 28'!F12+'27 28'!F27+'29 30'!F12+'29 30'!F27+'31'!F12 -> 0 | G12: =+'1 2'!G12+'1 2'!G27+'3 4'!G12+'3 4'!G27+'5 6'!G12+'5 6'!G27+'7 8'!G12+'7 8'!G27+'9 10'!G12+'9 10'!G27+'11 12'!G12+'11 12'!G27+'13 14'!G12+'13 14'!G27+'15 16'!G12+'15 16'!G27+'17 18'!G12+'17 18'!G27+'19 20'!G12+'19 20'!G27+'21 22'!G12+'21 22'!G27+'23 24'!G12+'23 24'!G27+'25 26'!G12+'25 26'!G27+'27 28'!G12+'27 28'!G27+'29 30'!G12+'29 30'!G27+'31'!G12 -> 499.67 | H12: =+'1 2'!H12+'1 2'!H27+'3 4'!H12+'3 4'!H27+'5 6'!H12+'5 6'!H27+'7 8'!H12+'7 8'!H27+'9 10'!H12+'9 10'!H27+'11 12'!H12+'11 12'!H27+'13 14'!H12+'13 14'!H27+'15 16'!H12+'15 16'!H27+'17 18'!H12+'17 18'!H27+'19 20'!H12+'19 20'!H27+'21 22'!H12+'21 22'!H27+'23 24'!H12+'23 24'!H27+'25 26'!H12+'25 26'!H27+'27 28'!H12+'27 28'!H27+'29 30'!H12+'29 30'!H27+'31'!H12 -> 22570.3 | I12: 38974.59 | J12: 1168852.4 | K12: =+C12-I12 -> -38474.92 | L12: =+D12-J12 -> -1146282.1 | M12: 8250.082 | N12: 247421.2 | O12: =+M12-E12 -> 8250.082 | P12: =+N12-F12 -> 247421.2
